BEGIN:VCALENDAR
VERSION:2.0
PRODID:-//https://dehartcirkel.nl///NONSGML kigkonsult.se iCalcreator 2.10.15//
METHOD:PUBLISH
BEGIN:VEVENT
UID:20260420T061844EDT-5417CwiDAG@https://dehartcirkel.nl/
DTSTAMP:20260420T101844Z
DESCRIPTION:Opnieuw een onderdompeling in de wereld van cranio sacraal met 
 een flinke verdieping en uitbreiding van technieken. Daardoor wellicht een
  nog intensievere 4-daagse dan het eerste seminar.\n\nNaast de technieken 
 zal de nadruk vooral liggen op het leren voelen en herkennen van de (leven
 s)ritme’s en energien in een healing sessie. Basics II is dan ook een mooi
 e ‘brug’ naar de bio- dynamische benadering in het derde seminar.\n\nNet a
 ls in Basics I is het voornamelijk praktisch met veel oefenen\, -sessies g
 even en ontvangen-\, ondersteund door de nodige theorie. En er is weer vee
 l aandacht voor het verder ontwikkelen van de eigen meditatieve ‘Quiet Min
 d’ met Shamanic Jouneys.\n\nSamen met Basics I is dit je fundament voor Sh
 amanic Cranio Healing en belangrijk om goed ‘in je vingers’ te krijgen. \n
 \nOp maandag 20 maart en vrijdag 31 maart is er de mogelijkheid om een ind
 ividuele sessie bij Josine te boeken. De locatie is een fijne locatie in h
 et bosrijke Schoorl N.H.. Dan kun je middels een sessie kennismaken met Jo
 sine en haar werk. Hierna kun je beslissen of jij je wilt inschrijven voor
  de Basic 1 en 2 opleiding in Bergen. \n\nHier meer informatie over deze s
 essie:\n\nheelsaam.nl/shamanic-cranio-healing/\n\nOp maandag 20 maart en v
 rijdag 31 maart is er de mogelijkheid om een individuele sessie bij Josine
  \, boek HIER. De locatie is een fijne locatie in het bosrijke Schoorl N.H
 .. Dan kun je middels een sessie kennismaken met Josine en haar werk. Hier
 na kun je beslissen of jij je wilt inschrijven voor de Basic 1 en 2 opleid
 ing in Bergen. \n \n\nOver Josine\n\nAllereerst een korte introductie van 
 Josine. Josine is al meer dan 22 jaar geleden begonnen met het delen van h
 aar kennis en ervaringen. Zowel door het aanbieden van sessies lichaamswer
 k & healing en het lesgeven in groepen. Haar specialiteit is Shamanic Cran
 io Healing.\n\nMeer informatie over haar achtergrond: www.heelsaam.nl\n\n
 \nWanner & waar:  23 & 24 september en 7 en 8 oktober -  het Grote Heklaan
 tje nr. 5 Bergen (NH) NL \n\nBijdrage: 4-daagse (2x2 dagen): 495 euro\, in
 clusief uitgebreide reader\, koffie/thee\, versnaperingen en soep bij de e
 igen lunch.\n\nDit bedrag kan worden overgemaakt op rekeningnr.  NL44 INGB
  0796 8731 43\, H.J. Borst\, onder vermelding van: Shamanic Cranio Healing
  Basic 2 Techniques\n\n\n \n https://dehartcirkel.nl/event-menu/evenement/
 98-shamanic-cranio-healing-basic-ii-techniques-energetics-josine-hesselbac
 h
DTSTART:20230923T070000Z
DTEND:20231008T150000Z
LOCATION:Noorderhoeve (Grote Heklaantje nr. 5\, 1862 Bergen\, Netherlands)
SUMMARY:Shamanic Cranio Healing Basic II Techniques & Energetics - Josine H
 esselbach
URL:https://dehartcirkel.nl/event-menu/evenement/98-shamanic-cranio-healing
 -basic-ii-techniques-energetics-josine-hesselbach
END:VEVENT
END:VCALENDAR
