BEGIN:VCALENDAR
VERSION:2.0
PRODID:-//https://dehartcirkel.nl///NONSGML kigkonsult.se iCalcreator 2.10.15//
METHOD:PUBLISH
BEGIN:VEVENT
UID:20260420T061716EDT-5088HfdbBz@https://dehartcirkel.nl/
DTSTAMP:20260420T101716Z
DESCRIPTION:Een onderdompeling in de wereld van zachte aanraking en diepe h
 eling! \n\nVier intense dagen van geven\, ontvangen\, delen\, die je dicht
 erbij jezelf brengen.\n\nIn dit seminar\, Shamanic Cranio Healing Basics I
 \, leer je een aantal basis cranio sacraal technieken\, waarmee je meteen 
 al volledige (ontspannings)sessie kan geven. En die makkelijk te integrere
 n zijn als je al lichaamswerk doet.\n\nShamanic Cranio Healing gaat vooral
  over ‘zijn’ in plaats van ‘doen’ en sessies geven vanuit de zogenoemde ‘Q
 uiet Mind’. Door middel van onder andere meditatie en Shamanic Journeys wo
 rdt een begin gemaakt om de helende energieën door je heen te laten ‘werke
 n’.\n\nTezamen met de technieken ontstaan dan de diep helende fysiek-energ
 etische sessies.\n\nDeze Basics I is vooral veel praktijk\, met de nodige 
 theorie. Veel aandacht en intensieve begeleiding door Josine\, die haar ke
 nnis en ervaring deelt\, ondersteund door een assistent.\n\nVoor iedereen 
 toegankelijk!\n\nOp maandag 20 maart en vrijdag 31 maart is er de mogelijk
 heid om een individuele sessie bij Josine \, boek HIER. De locatie is een 
 fijne locatie in het bosrijke Schoorl N.H.. Dan kun je middels een sessie 
 kennismaken met Josine en haar werk. Hierna kun je beslissen of jij je wil
 t inschrijven voor de Basic 1 en 2 opleiding in Bergen. \n \n\nOver Josine
 \n\nAllereerst een korte introductie van Josine. Josine is al meer dan 22 
 jaar geleden begonnen met het delen van haar kennis en ervaringen. Zowel d
 oor het aanbieden van sessies lichaamswerk & healing en het lesgeven in gr
 oepen. Haar specialiteit is Shamanic Cranio Healing.\n\nMeer informatie ov
 er haar achtergrond: www.heelsaam.nl\n\n \n\n\nWanner & waar:  10 & 11 en 
 24 & 25 juni  het Grote Heklaantje nr. 5 in Bergen (NH) NL \n\nBijdrage: 4
 -daagse (2x2 dagen): 495 euro\, inclusief uitgebreide reader\, koffie/thee
 \, versnaperingen en soep bij de eigen lunch.\n\nDit bedrag kan worden ove
 rgemaakt op rekeningnr.  NL44 INGB 0796 8731 43\, H.J. Borst\, onder verme
 lding van: Shamanic Cranio Healing Basic I Techniques\n\n\n \n https://deh
 artcirkel.nl/event-menu/evenement/97-shamanic-cranio-healing-basic-i-techn
 iques-josine-hesselbach
DTSTART:20230610T070000Z
DTEND:20230625T150000Z
LOCATION:Noorderhoeve (Grote Heklaantje nr. 5\, 1862 Bergen\, Netherlands)
SUMMARY:Shamanic Cranio Healing Basic I Techniques - Josine Hesselbach
URL:https://dehartcirkel.nl/event-menu/evenement/97-shamanic-cranio-healing
 -basic-i-techniques-josine-hesselbach
END:VEVENT
END:VCALENDAR
