BEGIN:VCALENDAR
VERSION:2.0
PRODID:-//https://dehartcirkel.nl///NONSGML kigkonsult.se iCalcreator 2.10.15//
METHOD:PUBLISH
BEGIN:VEVENT
UID:20260420T061906EDT-4658TTrSU7@https://dehartcirkel.nl/
DTSTAMP:20260420T101906Z
DESCRIPTION:Tijdens deze middag komen we samen en zullen we het hebben over
  gevoeligheid.\n\nGevoeligheid - wat is dat?\n\nHoe ga je ermee om?\n\nDez
 e middag zal je inzicht en handvatten geven om met je gevoeligheid om te g
 aan en het een plek in jouw leven te geven.\n\nJe leert hoe je jouw gevoel
 igheid voor jezelf kunt laten werken. Je zult erachter komen dat je er jui
 st veel profijt van kunt hebben.\n\nTijdens deze middag gaan we ook in op 
 individuele vragen. Je zult met praktische toepasbare handvatten naar huis
  gaan.\n\nDeze middag zal worden geopend met de prachtige klanken van de k
 ristallen klankschalen op 432 HZ. (hartfrequentie)\n\nHier zullen we ook d
 e middag mee afsluiten.\n\n \n\n\nWanneer: zondagmiddag 12 maart - 14 tot 
 17 uur (inloop vanaf 13.30 uur) - Verplaatst nssr 23 April\, 2023\n\nWaar:
  omgeving Bergen (afhankelijk van het aantal aanmeldingen)\n\nBijdrage: 55
  euro (inclusief koffie\, thee en lekkers)\n\nMax aantal deelnemers: 12\n
 \nDit bedrag kan worden overgemaakt op rekeningnr.  NL44 INGB 0796 8731 43
 \, H.J. Borst\, onder vermelding van: Gevoeligheid - Rachel koers.\n\n\n 
 \n https://dehartcirkel.nl/event-menu/evenement/94-gevoeligheid-rachel-koe
 rs
DTSTART:20230423T120000Z
DTEND:20230423T150000Z
LOCATION:Ergens in Bergen N.H (Bergen\, Netherlands)
SUMMARY:Gevoeligheid  Rachel Koers
URL:https://dehartcirkel.nl/event-menu/evenement/94-gevoeligheid-rachel-koe
 rs
END:VEVENT
END:VCALENDAR
