BEGIN:VCALENDAR
VERSION:2.0
PRODID:-//https://dehartcirkel.nl///NONSGML kigkonsult.se iCalcreator 2.10.15//
METHOD:PUBLISH
BEGIN:VEVENT
UID:20260420T061954EDT-0159m2UoXZ@https://dehartcirkel.nl/
DTSTAMP:20260420T101954Z
DESCRIPTION:Met: Ilona Borst & Ellen Oosterom\n\nWe zijn weer beland in de 
 tijd van het jaar\, de herfst\, dat de dagen korter en kouder worden. \n\n
 Deze periode gaat over knus de kaarsjes aansteken en het naar binnen keren
 . \n\nWat is er fijner dan juist nu\, in een hele geborgen setting\, je te
  laten aanraken door de helende klanken en trillingen van muziek. \n\nVrij
 dag avond 4 November wordt een heerlijke avond om te badderen in een muzik
 aal veld van liefde. \n\n\n\nIlona Borst en Ellen Oosterom gaan beiden hun
  gaven samenbrengen in een prachtig luisterconcert.\n\nIlona organiseert r
 uim 12 jaar vanuit De Hartcirkel hartverwarmende activiteiten. Deze keer n
 eemt ze je echter zelf mee in een prachtig kristallen klankschalen concert
 . \n\nTerwijl ze speelt voel je de trillingen van de klankschalen door je 
 lichaam heen vibreren. Dit kan jou ondersteunen om te helen en op een diep
  niveau te ontspannen. \n\nHet ontvangen van de vibraties van de kristalle
 n schalen helpen jou om te harmoniseren en deze werken diep door op celniv
 eau. Het oude celgeheugen kan hiermee losgelaten worden. \n\nOnze cellen k
 unnen nu worden gevuld met de nieuwe frequenties van Licht & Liefde.\n\nDe
  klankschalen worden afgewisseld door Ellen met haar gitaar en stem. Met h
 aar Engelenstem laat ze intuïtief helende klanken\, energieën en trillinge
 n vanuit de bron doorstromen. Ze staat erom bekend - met haar unieke gelui
 d - rechtstreeks jouw hart te kunnen raken. \n\nZe zingt klanken en voelba
 re liefdevolle teksten die vibreren in je Zijn\, waardoor je nog meer thui
 skomt bij jeZelf. \n\nJe komt weer in contact met de vreugde en liefde die
  jij ten diepste bent. Ontspannen en met een vernieuwde energie zul jij we
 er naar huis gaan.\n\nSamen gaan deze twee vrouwen een heerlijke avond voo
 r je neerzetten\, waarbij je alleen maar hoeft te ontvangen in dit liefdev
 olle veld.\n\nWanneer: 4 november - 20:00 - 21:30 (inloop vanaf 19.30 uur)
 \n\nWaar: Soulbalance\n\nBijdrage: 22 euro\n\nDit bedrag kan worden overge
 maakt op rekeningnr.  NL44 INGB 0796 8731 43\, H.J. Borst\, onder vermeldi
 ng van: Luisterconcert.\n https://dehartcirkel.nl/event-menu/evenement/93-
 luisterconcert-thuis-komen-bij-jezelf
DTSTART:20221104T190000Z
DTEND:20221104T203000Z
LOCATION:SoulBalance (Vreekesweid 1 1721PP Broek op Langedijk)
SUMMARY:Luisterconcert ~ Thuis komen bij jeZelf
URL:https://dehartcirkel.nl/event-menu/evenement/93-luisterconcert-thuis-ko
 men-bij-jezelf
END:VEVENT
END:VCALENDAR
