BEGIN:VCALENDAR
VERSION:2.0
PRODID:-//https://dehartcirkel.nl///NONSGML kigkonsult.se iCalcreator 2.10.15//
METHOD:PUBLISH
BEGIN:VEVENT
UID:20260420T062037EDT-74813B70UP@https://dehartcirkel.nl/
DTSTAMP:20260420T102037Z
DESCRIPTION:Deze zijn onder leiding van Rachel Koers met de ondersteunende 
 werking van de kristallen klankschalen (Ilona)\n\nDeze middagen zijn deels
  interactief met de mogelijkheid om vragen te stellen die gechanneld worde
 n.\n\nZoals vele van jullie reeds weten is Rachel geboren met alle paranor
 malen gaven te weten: helderziend\, helder horend\, helder voelend en held
 er wetend.\n\nWij bieden tijdens deze middagen de mogelijkheid om op een h
 eel diep niveau te rusten in een Zijns-veld. Jij zult tijdens deze middag 
 in de energie worden ondersteund. \n\nEr is een Veld dat de weg naar het w
 are Zijn bespoedigd. Er zal op Energetisch niveau worden gewerkt en dit zu
 l jij kunnen ervaren. Een ware belevenis!\n\nHet Zijn zal tijdens deze mid
 dag worden benadrukt en hierin zal de Albron verduidelijking geven.\n\nWan
 t wat is nu werkelijk Zijn?\n\nHoe kom je daar?\n\nHoe doe je dat?\n\nEn h
 oe weet je dat je daar aangekomen bent?\n\nOp een diep niveau te kunnen ru
 sten in Zijn is niet alleen belangrijk voor jouw ontwikkeling. Het biedt j
 e ook de gelegenheid om het zenuwstelsel helemaal tot rust te brengen.\n\n
 De Albron zegt hierover: alles draait om het ZIJN.\n\nTijdens deze middag 
 heb je bovendien de mogelijkheid om direct jouw vragen te stellen en hieri
 n zal de Albron - via Rachel Koers - jouw vragen beantwoorden.\n\nDe midda
 g zal worden aangevangen met een korte kristallen klankschalen concert waa
 rbij je kunt starten om de reis naar binnen te maken. Ook zal de middag hi
 ermee worden beëindigd om weer volledig in harmonie naar huis te keren.\n
 \nVoor meer informatie over Rachel Koers kijk op haar website: www.dewaarh
 eidvanhetzelf.nl\n\n\nWanneer: 29 oktober - 14:00 - 17:00 (inloop vanaf 13
 .30 uur)\n\nook andere dagen: 24  September & 26 November\n\nWaar: Grote Z
 aal in Soulbalance\n\nBijdrage: 50 euro (inclusief koffie\, thee en lekker
 s)\n\nDit bedrag kan worden overgemaakt op rekeningnr.  NL44 INGB 0796 873
 1 43\, H.J. Borst\, onder vermelding van: Ontspanningsmiddag 29 Okt - Rach
 el koers.\n\n\n{module title='Recensie voor Rachel Koers' showtitle='true'
 }\n https://dehartcirkel.nl/event-menu/evenement/91-ontspanningsmiddag-29-
 okt-rachel-koers
DTSTART:20221029T120000Z
DTEND:20221029T150000Z
LOCATION:SoulBalance (Vreekesweid 1 1721PP Broek op Langedijk)
SUMMARY:Ontspanningsmiddag 29 Okt - Rachel Koers
URL:https://dehartcirkel.nl/event-menu/evenement/91-ontspanningsmiddag-29-o
 kt-rachel-koers
END:VEVENT
END:VCALENDAR
