BEGIN:VCALENDAR
VERSION:2.0
PRODID:-//https://dehartcirkel.nl///NONSGML kigkonsult.se iCalcreator 2.10.15//
METHOD:PUBLISH
BEGIN:VEVENT
UID:20260420T080957EDT-4483baUXKF@https://dehartcirkel.nl/
DTSTAMP:20260420T120957Z
DESCRIPTION:Het is alweer de 6e keer dat deze bijzondere leraar – Xie Chuan
  – naar het mooie Bergen komt. Velen ervaren het als inspirerend om de wij
 sheid\, nederigheid en bevlogenheid van deze leraar te leren kennen.\n\n “
 Het is zo fijn om te ervaren hoe hij steeds gericht is op het collectief\,
  oftewel wat goed is voor het grotere geheel. In alles wat hij zegt en doe
 t is dit merkbaar én vooral ook voelbaar. Dat is één van de redenen waarom
  ik het als zo'n bijzondere leraar ervaar.”\n\n\nKom deze bijzonder Effect
 ieve Oefeningen ervaren en leer je innerlijke Geneeskracht weer in te zett
 en!\n\nDe oefeningen en de ondersteunende theorie hebben hun oorsprong in 
 het medicijnloze ziekenhuis uit China. Dit ziekenhuis heeft in 10 jaar tij
 d ruim 300.000 patiënten ‘behandeld’ door dagelijks de oefeningen van Zhin
 eng Qigong uit te voeren. Na het sluiten van dit medicijnloze ziekenhuis i
 n 2001 zijn enkele leraren van dit ziekenhuis Engels gaan leren zodat ze d
 eze bijzondere leer konden verspreiden in het Westen.\n\n Xie Chuan is een
  van deze leraren. Een heel integere\, zuivere docent met een enorme kenni
 s en vanuit een diep respect voor de leer van Zhineng Qigong. Op het momen
 t dat je bij hem in de buurt bent\, voel je verbondenheid\, onvoorwaardeli
 jkheid en begrijp je – voorbij woorden – dat er meer mogelijk is dan wat w
 ij met onze mind kunnen begrijpen.\n\nWat is Zhineng Qigong\nZhineng Qiqon
 g is een reeks van eenvoudige bewegingen ontwikkeld door Dr. Pang Ming\, e
 en Oosters en Westers afgestudeerd arts. Zijn bewegingen zijn bedoeld om d
 e Innerlijke geneeskracht aan te boren door je o.a. af te stemmen op het C
 hi-veld. Dit is in het Westen bekend als het veld van de onbegrensde mogel
 ijkheden\, het kwantumveld.\n\nIn 1991 startte Dr. Pang Ming een klein Zhi
 neng centrum dat in korte tijd uitgroeide tot wat werd genoemd ‘het groots
 te medicijnloze ziekenhuis ter wereld’. Aan dit HuaXia Zhineng Qigong Cent
 er startte Xie Chuan zijn tweejarige lerarenopleiding. Van 1995 tot 2001 i
 s hij als leraar verbonden geweest aan dit centrum.\n\nXie Chuan noemt zic
 hzelf geen master\, geen leraar\, geen healer. Net als in het HuaXia cente
 r is iedereen student. Iedereen is gelijk. Met z’n allen bouw je het Helen
 de Qi Veld op\, door te vertrouwen in wat er is en je hart open te stellen
  voor de ervaring. Hart\, mind en lichaam functioneren als één. En dit wor
 dt mogelijk gemaakt door de onvoorwaardelijke liefde en compassie van deze
  bijzondere leraar.\n\nTijdens deze dagen begeleidt Xie je om weer in verb
 inding en balans met jezelf te komen. Zhineng Qigong is een leer waarbij j
 e weer zelf de touwtjes in handen krijgt. Je neemt zelf (weer) de volledig
 e verantwoordelijkheid over jouw lichaam en geest.\n\nDeze bijzondere twee
 daagse is geschikt voor iedereen die zijn/haar gezondheid wil verbeteren e
 n het zelfhelend vermogen wil activeren. Jong en oud\, al bekend met Zhine
 ng Qigong of helemaal beginner\, gezond of met een fysieke uitdaging\, ied
 ereen is welkom!\n\nWil jij niet meer geleefd worden door de westerse medi
 sche wereld\, maar zelf controle hebben over jouw proces – fysiek\, mentaa
 l of emotioneel – dan is dit een unieke kans!\nMeer over Zhineng Qigong: z
 higong.nl\n\n\nDe workshop wordt in eenvoudig Engels gegeven\, maar zal wa
 ar nodig worden vertaald in het Nederlands.\n\n\nWanneer:\n18\, 19 en 20 O
 ktober 2019\nLocatie:\nThe Bears (een prachtige stille plek in de natuur)\
 ,\nGroeneweg nr. 5\, 1861 PH te Bergen\n\nDeze locatie ligt rechts van de 
 voetbalvelden\, VVBergen.\n\nTijdstip:\n10 tot 17 uur (inloop vanaf 9.30 u
 ur met koffie/thee/lekkers)\nVergoeding:\n199 euro voor een driedaagse Wor
 kshop inclusief koffie\, thee en lekkers. Een heerlijke en gezonde lunch i
 s op deze locatie verkrijgbaar.\n\n\nDit bedrag kan worden overgemaakt op 
 rekeningnr. NL37 RABO 0327 7053 53\, H.J. Borst\, onder vermelding van: “W
 orkshop Zhineng Qiqong”\n https://dehartcirkel.nl/event-menu/evenement/9-d
 riedaagse-workshop-zhineng-qigong-met-xie-chuan
DTSTART:20191018T080000Z
DTEND:20191020T150000Z
LOCATION:the Bears (Groeneweg 5C 1861 PH Bergen )
SUMMARY:[DRIEDAAGSE WORKSHOP] Zhineng Qigong met Xie Chuan 
URL:https://dehartcirkel.nl/event-menu/evenement/9-driedaagse-workshop-zhin
 eng-qigong-met-xie-chuan
END:VEVENT
END:VCALENDAR
