BEGIN:VCALENDAR
VERSION:2.0
PRODID:-//https://dehartcirkel.nl///NONSGML kigkonsult.se iCalcreator 2.10.15//
METHOD:PUBLISH
BEGIN:VEVENT
UID:20260420T062635EDT-1011L3iu9g@https://dehartcirkel.nl/
DTSTAMP:20260420T102635Z
DESCRIPTION:Het thema liefde is gekozen omdat het een allesomvattend thema 
 is.\n\nHet is een thema waar de mens naar verlangd en tevens is dit het gr
 ootste Mysterie hier op Aarde.\n\nDit thema wil de Albron aanbieden onder 
 het mom van: de Liefde leren kennen\, de liefde in elkaar herkennen en ons
  te laten ervaren wat nu werkelijke liefde is.\n\nBovenstaande tekst is ge
 channeld.\n\nMocht jij resoneren met dit thema dan ben je meer dan welkom 
 om je aan te sluiten. \n\nDe groep bestaat uit maximaal 12 deelnemers.\n\n
 Je bent van harte welkom!\n\n\n\n\nDatum: Zondag 30 Januari\n\nInloop: 9.4
 5 uur - einde dag ongeveer 17 uur.\n\nLocatie: een prachtige plek in de na
 tuur van Bergen N.H. (je krijgt de exacte details na jouw opgave en betali
 ng)\n\nAanwezig: koffie/thee/fruit/lekkers en een warme lekkere biologisch
 e soep en broodjes. \n\nVergoeding: 115 euro\n\nBij deze locatie is iedere
 en welkom\, een QR-code is niet nodig!\n\nDit bedrag kan worden overgemaak
 t op rekeningnr.  NL44 INGB 0796 8731 43\, H.J. Borst\, onder vermelding v
 an: Rachel Koers - Liefde\n\n https://dehartcirkel.nl/event-menu/evenement
 /83-bijeenkomst-met-als-thema-liefde-rachel-koers
DTSTART:20220130T084500Z
DTEND:20220130T160000Z
LOCATION:Ergens in Bergen N.H (Bergen\, Netherlands)
SUMMARY:Bijeenkomst met als thema: Liefde - Rachel Koers
URL:https://dehartcirkel.nl/event-menu/evenement/83-bijeenkomst-met-als-the
 ma-liefde-rachel-koers
END:VEVENT
END:VCALENDAR
