BEGIN:VCALENDAR
VERSION:2.0
PRODID:-//https://dehartcirkel.nl///NONSGML kigkonsult.se iCalcreator 2.10.15//
METHOD:PUBLISH
BEGIN:VEVENT
UID:20260421T064127EDT-17545E4Bgn@https://dehartcirkel.nl/
DTSTAMP:20260421T104127Z
DESCRIPTION:\n\nDeze dag wil ik het hebben over Waarheid. \n\nHoe voel\, he
 rken je waarheid vanuit diverse velden en niveaus?\n\nDe tijd die er aanko
 mt zal in het thema staan van transparantie en waarheid.\n\nDe mens evalue
 ert en beziet de materie anders.\n\nNu wordt men uitgedaagd te kiezen\, ki
 jken en te bevinden.\n\nDaarom het thema waarheid.\n\nWaarheid is belangri
 jk want zij is de hoofdwetmatigheid van liefde en dus creatie.\n\nAlleen v
 anuit liefde kan gecreëerd worden\; dus is het wenselijk de waarheid te he
 rkennen om te manifesteren.\n\nRachel heeft alle mediamieke gaven en sinds
  7 jaar communiceert ze met de Albron.\n\nJe bent van harte welkom!\n\n\n
 \n\nDatum: Zondag 27 maart. Maximaal: 8 deelnemers\n\nInloop: 9.45 uur - e
 inde dag ongeveer 17 uur.\n\nLocatie: een prachtige plek in de natuur van 
 Bergen N.H. (je krijgt de exacte details na jouw opgave en betaling)\n\nVe
 rgoeding: 129 euro Dit bedrag is inclusief biologische lunch\, koffie/thee
  en onbeperkt fruit.\n\nDit bedrag kan worden overgemaakt op rekeningnr.  
 NL44 INGB 0796 8731 43\, H.J. Borst\, onder vermelding van: Rachel Koers -
  Waarheid\n\n https://dehartcirkel.nl/event-menu/evenement/82-bijeenkomst-
 met-als-thema-waarheid-rachel-koers
DTSTART:20220327T074500Z
DTEND:20220327T150000Z
LOCATION:Ergens in Bergen N.H (Bergen\, Netherlands)
SUMMARY:Bijeenkomst met als thema: Waarheid - Rachel Koers
URL:https://dehartcirkel.nl/event-menu/evenement/82-bijeenkomst-met-als-the
 ma-waarheid-rachel-koers
END:VEVENT
END:VCALENDAR
