BEGIN:VCALENDAR
VERSION:2.0
PRODID:-//https://dehartcirkel.nl///NONSGML kigkonsult.se iCalcreator 2.10.15//
METHOD:PUBLISH
BEGIN:VEVENT
UID:20260421T063646EDT-7982tXn9uL@https://dehartcirkel.nl/
DTSTAMP:20260421T103646Z
DESCRIPTION:Gratis bijeenkomst met Rachel Koers. Speciaal voor diegene die 
 deze multi dimensionale healer nog niet eerder hebben ontmoet. Jij mag een
  persoonlijke vraag stellen en ook zal ze demonstreren hoe zij 'energetisc
 h' met je mag meekijken. Mocht er sprake zijn van een (fysieke) blokkade o
 f ongemak. De avond start om 19 uur. \n\nMeer informatie over Rachel: www.
 dewaarheidvanhetzelf.nl\n\nNieuwsgierig geworden?\n\nWe hebben voor deze g
 ratis kennismakingsbijeenkomst slechts een beperkt aantal plekken. Locatie
 : Schoorl N.H.\n\nJe kunt je aanmelden door een app te sturen naar Ilona: 
 06 - 150 65 991\n\n\nWanneer: 11 maart 2022 19:00 - 22.00 uur\n\nLocatie: 
 De nieuwe Beuk\, Dorpstraat 20 Bergen. Gratis Parkeren voor de deur van de
  Petrus Paulus Kerk (onze locatie zit er aanvast)\n\n https://dehartcirkel
 .nl/event-menu/evenement/81-kennismaken-met-rachel-koers-in-de-nieuwe-beuk
 -te-bergen-n-h
DTSTART:20220311T180000Z
DTEND:20220311T210000Z
LOCATION:de Nieuwe Beuk (Dorpsstraat 20\, 1861 KW Bergen\, Netherlands)
SUMMARY:Kennismaken met Rachel Koers ~ in de Nieuwe Beuk te Bergen N.H
URL:https://dehartcirkel.nl/event-menu/evenement/81-kennismaken-met-rachel-
 koers-in-de-nieuwe-beuk-te-bergen-n-h
END:VEVENT
END:VCALENDAR
