BEGIN:VCALENDAR
VERSION:2.0
PRODID:-//https://dehartcirkel.nl///NONSGML kigkonsult.se iCalcreator 2.10.15//
METHOD:PUBLISH
BEGIN:VEVENT
UID:20260421T064127EDT-1522JIAcF7@https://dehartcirkel.nl/
DTSTAMP:20260421T104127Z
DESCRIPTION:\n\nTijdens deze 2-daagse Retraite ga jij op zoek naar jouw waa
 rheid. Want iedereen heeft een eigen waarheid en deze waarheid is ook nog 
 eens veranderlijk. \n\nWe kijken immers door onze eigen bril naar de Werel
 d en er zijn veel factoren die van invloed zijn op de wijze waarop jij het
  leven aanschouwt. Onder meer: het doel dat je hebt in dit leven\, de reis
  die je ziel maakt en de ervaringen die je op wilt doen in dit leven. Al d
 eze aspecten zijn voor iedereen weer anders.\n\nDit is een unieke kans voo
 r een 2-daagse verdieping in jezelf met antwoorden waarop je al lang wacht
 te. Je zult het anker in jezelf vinden en dit zal worden bestendigd door d
 e Bron. Je zult opstaan vanuit het ZIJN. De laatste sluiers zullen worden 
 afgelegd en je zult opgeruimd en licht naar huis gaan. \n\nWe werken met k
 leine groepjes van maximaal 6 deelnemers waardoor er veel persoonlijke aan
 dacht is.\n\nRachel Koers kan transformatief werk verrichten door middel v
 an haar contact met de Bron. \n\n​Hierdoor komt zij tot ieders kern en waa
 rheid en kan er op een liefdevolle manier verder worden gegaan. Tevens is 
 zij Multi dimensionaal ​en kent zij alle gaves waardoor zij goed met jou k
 an meekijken. Alles gebeurt in een veilige\, warme en liefdevolle setting 
 met vreugde en genot.\n\n\n\nInhoud programma\n\nTijdens deze dagen maken 
 we het onszelf vooral zo relaxt als mogelijk\; zo is er een heerlijke loun
 ge bank om op te zitten. Er is zelfs de mogelijkheid om tussendoor te ligg
 en (matjes zijn aanwezig). Heerlijk jezelf zijn staat tijdens deze dagen h
 oog in het vaandel. Het kan fijn zijn om lekker zittende kleding aan te tr
 ekken en een omslagdoek of vestje mee te nemen.\n\nZaterdag 26 Februari\n
 \n9.30 uur - Aankomst met koffie/thee/lekkers - rustig aankomen op de plek
 .\n\n10.00 - 12.00 uur: Channeling en Begeleiding. Een persoonlijke reis m
 et de Bron.\n\n12.30: Gezonde lunch\n\n14.00 -15.00 uur: Begeleiding vanui
 t de Bron.\n\n15.00 uur - 17.00 uur - Opschonen van blokkades met Energie 
 werk.\n\nZondag 27 Februari\n\n10.00 - 12.30 uur: Begeleiding vanuit de Br
 on.\n\n12.30: Gezonde bio lunch\n\n14.00 -17.00 uur: Nabespreking\, energi
 e werk\, channeling en vragenronde.\n\n\n\n\nInvestering: 299\,00 euro. Di
 t bedrag is inclusief onbeperkt koffie/thee/lekkers/fruit en 2x een heerli
 jke gezonde lunch.\n\nWanneer: 26 - 27 februari - 10:00 - 17:00 (inloop va
 naf 9.30 uur)\n\nWaar: Schoorl\, je krijgt de exacte gegevens na aanmeldin
 g..\n\nDit bedrag kan worden overgemaakt op rekeningnr.  NL44 INGB 0796 87
 31 43\, H.J. Borst\, onder vermelding van: Rachel Koers Jouw eigen waarhei
 d ontdekken.\n\n https://dehartcirkel.nl/event-menu/evenement/79-jouw-eige
 n-waarheid-ontdekken-met-rachel-koers-schoorl-nh
DTSTART:20220226T090000Z
DTEND:20220227T160000Z
LOCATION:Ergens in Bergen N.H (Bergen\, Netherlands)
SUMMARY:Jouw Eigen Waarheid ontdekken met Rachel Koers ~ Schoorl NH
URL:https://dehartcirkel.nl/event-menu/evenement/79-jouw-eigen-waarheid-ont
 dekken-met-rachel-koers-schoorl-nh
END:VEVENT
END:VCALENDAR
