BEGIN:VCALENDAR
VERSION:2.0
PRODID:-//https://dehartcirkel.nl///NONSGML kigkonsult.se iCalcreator 2.10.15//
METHOD:PUBLISH
BEGIN:VEVENT
UID:20260420T063618EDT-0147IxoD0j@https://dehartcirkel.nl/
DTSTAMP:20260420T103618Z
DESCRIPTION:De Wereld is continue aan het veranderen en de enige keuze die 
 we hebben is om mee te bewegen.\n\nDaar waar we ons enorm verheugde om op 
 Kerst Retraite te gaan\, blijkt nu dat we aan allerlei voorwaarden moeten 
 voldoen die vanuit de overheid worden gesteld. Deze maatregelen passen nie
 t bij onze missie en dat is om alle mensen met elkaar te blijven verbinden
 \; niemand uitgezonderd.\n\nWe hebben er daarom voor gekozen de 3-daagse R
 etraite uit te stellen tot een nader te bepalen datum in 2022.  \n\nIn pla
 ats van de Kerst Retraite zullen we op 19 December een gehele dag samenkom
 en. De Albron heeft aangegeven dat deze dag zal gaan om het thema: innerli
 jke Vrede. Hoe mooi om in deze tijd van grote tegenstellingen en verwarrin
 g aan dit thema aandacht te schenken.\n\nDe prachtige locatie die we hebbe
 n gevonden in de natuur van Bergen ontvangt echt iedereen\; gevaccineerd o
 f niet gevaccineerd. \n\nMocht jij resoneren met dit thema dan ben je meer
  dan welkom om je aan te sluiten. \n\nDe groep bestaat uit maximaal 12 dee
 lnemers.\n\nTot slot: Nog even wat extra aandacht voor onze lieve Moeder A
 arde. Ik zou haar graag eens in het zonnetje zetten. Als je tijd hebt\, st
 em je dan (dagelijks) af op een positief gevoel in jezelf en geef dit als 
 intentie aan de Aarde. Het kan van alles zijn: liefde\, vrede\, eenheid et
 c. \n\nSamen maken we het verschil! \n\nVrede zit in Jezelf ~ Onder leidin
 g van: Rachel Koers\n\n\n\nDeze dag staan we stil bij de vrede in onszelf.
  Ieder mens heeft een punt van werkelijke vrede.\n\n\n\nDeze dag zullen we
  de ware vrede ontdekken en vinden.\n\n\n\nDit thema zal aangedragen en er
 varen kunnen worden door Rachel haar aanwezigheid.\n\n\n\nDagindeling: Voo
 rstellen\, delen en de Albron zal - via Rachel - met alle deelnemers in ge
 sprek gaan.\n\n\n\nJe bent van harte welkom!\n\n\n\n \n\nInloop: 9.45 uur 
 - einde dag ongeveer 17 uur.\n\nLocatie: een prachtige plek in de natuur v
 an Bergen N.H. (je krijgt de exacte details na jouw opgave en betaling)\n
 \nAanwezig: koffie/thee/fruit/lekkers en een warme lekkere biologische soe
 p. \n\nVergoeding: 95 euro\n\n\n\nBij deze locatie is iedereen welkom\, ee
 n QR-code is niet nodig!\n\n https://dehartcirkel.nl/event-menu/evenement/
 77-uitverkocht-dag-van-innerlijke-vrede
DTSTART:20211219T084500Z
DTEND:20211219T160000Z
LOCATION:Ergens in Bergen N.H (Bergen\, Netherlands)
SUMMARY:UITVERKOCHT: Dag van Innerlijke Vrede
URL:https://dehartcirkel.nl/event-menu/evenement/77-uitverkocht-dag-van-inn
 erlijke-vrede
END:VEVENT
END:VCALENDAR
