BEGIN:VCALENDAR
VERSION:2.0
PRODID:-//https://dehartcirkel.nl///NONSGML kigkonsult.se iCalcreator 2.10.15//
METHOD:PUBLISH
BEGIN:VEVENT
UID:20260420T063555EDT-4396vuwwTK@https://dehartcirkel.nl/
DTSTAMP:20260420T103555Z
DESCRIPTION:De QR-code zorgt ervoor dat we plotseling op veel locaties niet
  meer terecht kunnen.\n\nWij - vanuit De Hartcirkel - ondersteunen niet ee
 n beleid wat mensen uit elkaar drijft\, omdat verbinden immers onze missie
  is.\n\nDat betekent dat we op dit moment wel evenementen in het vooruitzi
 cht hebben\, maar nog niet op de Agenda hebben geplaatst. We willen nameli
 jk even aankijken hoe alles zich de komende tijd gaat ontwikkelen. \n\nWil
 t u ons eventueel helpen? Zeer gewaardeerd!\n\n\nVia onze Nieuwsbrief houd
 en we jou uiteraard op de hoogte!\n https://dehartcirkel.nl/event-menu/eve
 nement/76-het-zijn-onzekere-tijden
DTSTART:20211219T230000Z
DTEND:20220227T230000Z
LOCATION:Nederland ()
SUMMARY:Het zijn onzekere tijden...
URL:https://dehartcirkel.nl/event-menu/evenement/76-het-zijn-onzekere-tijde
 n
END:VEVENT
END:VCALENDAR
