BEGIN:VCALENDAR
VERSION:2.0
PRODID:-//https://dehartcirkel.nl///NONSGML kigkonsult.se iCalcreator 2.10.15//
METHOD:PUBLISH
BEGIN:VEVENT
UID:20260422T061758EDT-5297BXEpnr@https://dehartcirkel.nl/
DTSTAMP:20260422T101758Z
DESCRIPTION:We hebben een kennismaking-bijeenkomst gepland mocht jij nieuws
 gierig zijn naar de multidimensionale mediamieke Rachel Koers. \n\nOok fij
 n om haar 'werk' beter te leren kennen als je overweegt om naar een van de
  Retraites te gaan welke wij in het najaar en de winter aanbieden. De Sept
 ember retraite is inmiddels uitverkocht.\n\nTijdens deze avond kun jij dir
 ect jouw persoonlijke vragen stellen aan Rachel. Het kan gaan over iets wa
 t in jouw eigen leven 'speelt' (gezondheid\, relatie\, werk) of een vraag 
 die veel breder en algemener is. Alle vragen zijn heel erg welkom! Ook zal
  ze je praktische tips geven hoe jij jouw energie hoog kunt houden in deze
  huidige tijd. Ze zal op haar eigen - multi dimensionale - wijze antwoord 
 geven. \n\nSoulbalance is een warme & veilige omgeving waarin jij jezelf h
 elemaal kunt ontplooien en vrijgeven.\n\nWie is Rachel?\n\nRachel is een m
 ultidimensionale genezer met een verruimd bewustzijn. Ze staat direct in c
 ontact met de Bron. Hierdoor is ze in staat om zeer zuiver en verfijnd te 
 werken op diverse manieren waaronder Energetisch. Door haar verruimde bewu
 stzijn is ze dientengevolge ook in staat zeer nauwkeurig te channelen. Ze 
 is in staat om je bij jouw diepste lagen te brengen en daarmee kom je bij 
 stukken die je eerder zelf nooit hebt kunnen vinden. De verborgen stukken 
 waar je zelf niet bijkomt omdat ze in het onbewuste zitten - de laatste st
 ukken vaak - die kunnen met haar hulp aan het licht komen. Hierdoor word j
 ij in staat gesteld om echt te transformeren naar jouw Ware Zelf. En daarb
 ij een goede integratie in jouw lichaam te laten plaatsvinden om zo heel e
 n volmaakt mogelijk te zijn en te functioneren. Hierdoor zul je meer in ba
 lans zijn en dichter bij jouw Ziel.\n\nDe zaal is groot en de groep blijft
  klein. We kunnen daarom aan alle wettelijke maatregelen voldoen. Wie weet
  tot snel!\n\n\nInvestering: 20\,00 euro. Koffie/thee/lekkers te verkrijge
 n.  \n\nWanneer: 1 Oktober 19:15 - 21.45 uur (inloop vanaf 19 uur)\n\nWaar
 : Soulbalance - Vreekesweid 1 1721PP Broek op Langedijk - gratis parkeren 
 voor de deur.\n\nDit bedrag kan worden overgemaakt op rekeningnr.  NL44 IN
 GB 0796 8731 43\, H.J. Borst\, onder vermelding van: Rachel Koers Kennisma
 king\n\n https://dehartcirkel.nl/event-menu/evenement/75-kennismaken-met-r
 achel-koers-soulbalance
DTSTART:20211001T171500Z
DTEND:20211001T194500Z
LOCATION:SoulBalance (Vreekesweid 1 1721PP Broek op Langedijk)
SUMMARY:Kennismaken met Rachel Koers ~ Soulbalance
URL:https://dehartcirkel.nl/event-menu/evenement/75-kennismaken-met-rachel-
 koers-soulbalance
END:VEVENT
END:VCALENDAR
