BEGIN:VCALENDAR
VERSION:2.0
PRODID:-//https://dehartcirkel.nl///NONSGML kigkonsult.se iCalcreator 2.10.15//
METHOD:PUBLISH
BEGIN:VEVENT
UID:20260420T062311EDT-3164vcbHIS@https://dehartcirkel.nl/
DTSTAMP:20260420T102311Z
DESCRIPTION:Deze Retraite is een kans voor een 3-daagse verdieping in jezel
 f met antwoorden waarop je al lang wachtte.\n\nHet vindt plaats in het pra
 chtige Centrum Soul Balance gelegen in een ruime omgeving.\n\nRachel Koers
  kan transformatief werk verrichten door middel van haar contact met de Br
 on. \n\n​Hierdoor komt zij tot ieders kern en waarheid en kan er op een li
 efdevolle manier verder worden gegaan. Tevens is zij Multi dimensionaal ​e
 n kent zij alle gaves waardoor zijn goed kan meekijken. Alles gebeurt in e
 en veilige\, warme en liefdevolle setting met vreugde en genot.\n\n'Deze 3
 -daagse is bedoeld voor diegene die er klaar voor is om zijn/haar laatste 
 kleed af te leggen en in het levende water willen stappen. En als gevolg h
 iervan zul jij jouw voetsporen op Aarde definitief achterlaten. Met de vel
 en doorbraken\, welke zich tijdens deze twee dagen zullen voltrekken\, zul
  je gesterkt naar huis gaan.'\n\nInhoud programma\n\nUiteraard blijven de 
 groepen klein - met een maximum van 12 deelnemers - en kunnen we volledig 
 voldoen aan alle wettelijke maatregelen. Geheel 'corona proof' om het zo m
 aar te zeggen. \n\nTijdens deze dagen maken we het onszelf vooral zo relax
 t als mogelijk\; zo is er een heerlijke lounge bank om op te zitten. Er is
  zelfs de mogelijkheid om tussendoor te liggen (matjes zijn aanwezig). Hee
 rlijk jezelf zijn staat tijdens deze dagen hoog in het vaandel. Het kan fi
 jn zijn om lekker zittende kleding aan te trekken en een omslagdoek of ves
 tje mee te nemen.\n\nVrijdag 19 November \n\n13 uur - Aankomst met koffie/
 thee/lekkers - rustig aankomen op de plek.\n\n14.00 uur - 15.00 uur: Voors
 telronde\n\n15.00 uur - 17.00 uur - Intentie zetten\; eerst door middel va
 n Energetische Reiniging\n\nZaterdag 20 November\n\n10.00 - 12.00 uur: Cha
 nneling en Begeleiding. Een persoonlijke reis met de Bron.\n\n12.30: Gezon
 de lunch\n\n14.00 -15.00 uur: Lichaamsgericht werk\; dit is een vorm van Y
 oga.\n\n15.00 uur - 17.00 uur - Het bespreken van jouw persoonlijke channe
 ling.\n\nDan: Opschonen van blokkades met Energie werk.\n\nZondag 21 Novem
 ber\n\n10.00 - 12.30 uur: Initiatie\; intentie in de Aarde zetten door mid
 del van de hulp van de Bron.\n\n12.30: Gezonde lunch\n\n14.00 -17.00 uur: 
 Nabespreking\, energie werk\, channeling en vragen ronde.\n\n\nJouw invest
 ering in deze 2-daagse Retraite is 375\,- euro.\nVoor dit bedrag heb je op
  beide dagen onbeperkt koffie/thee/fris en fruit & 2x een gezonde warme (u
 itgebreide) lunch.\n\nDit bedrag kan worden overgemaakt op rekeningnr.  NL
 44 INGB 0796 8731 43\, H.J. Borst\, onder vermelding van: Rachel Koers - B
 ezinning\n\n https://dehartcirkel.nl/event-menu/evenement/74-bezinnings-re
 traite-verder-gaan-met-jezelf-rachel-koers-soulbalance
DTSTART:20211119T083000Z
DTEND:20211121T170000Z
LOCATION:SoulBalance (Vreekesweid 1 1721PP Broek op Langedijk)
SUMMARY:Bezinnings Retraite: Verder gaan met jezelf ~ Rachel Koers  - Soulb
 alance
URL:https://dehartcirkel.nl/event-menu/evenement/74-bezinnings-retraite-ver
 der-gaan-met-jezelf-rachel-koers-soulbalance
END:VEVENT
END:VCALENDAR
