BEGIN:VCALENDAR
VERSION:2.0
PRODID:-//https://dehartcirkel.nl///NONSGML kigkonsult.se iCalcreator 2.10.15//
METHOD:PUBLISH
BEGIN:VEVENT
UID:20260421T063735EDT-34439uSUKf@https://dehartcirkel.nl/
DTSTAMP:20260421T103735Z
DESCRIPTION:Verdiepings Retraite: 'Jouw Voetsporen nalaten op Aarde'\n\nNa 
 een serie succesvolle zomer retraites bieden we in Oktober een verdiepings
  Retraite aan. Deze Retraite is ondermeer voor deelnemers aan de vorige Re
 traites. Dit omdat er vanuit deze groepen de vraag kwam om een follow up t
 e geven aan hetgeen in gang is gezet. Als je bekend bent met het werk van 
 Rachel\, of je voelt in je Hart dat je erbij wilt zijn\, dan ben je uitera
 ard ook zeer welkom!\n\nAls mens blijven we tot onze dood in proces. Het k
 an daarom heel fijn zijn om met gelijkgestemden te delen waar je staat op 
 dit moment in je leven en de Albron mee te laten kijken waar het nog niet 
 (voldoende) stoomt.\n\nDeze verdiepings Retraite is ook wederom een geheel
  verzorgde 3-daagse Retraite op het prachtige landgoed Venwoude. De Albron
  laat ons weten dat deze Magische plek in het bos ondersteunend is aan dit
  werk omdat je in de energie gedragen wordt.\n\nRachel Koers zal deze retr
 aite leiden vanuit haar bijzondere gaven en haar unieke manier van werken.
  Haar eigen proces verliep anders dan die van de 'gemiddelde mens'. Omdat 
 hetgeen ze aanbiedt zich niet zo gemakkelijk in woorden laat vangen\, is h
 et wellicht een idee om haar te leren kennen op de laagdrempelige twee-daa
 gse Intensive die we aanbieden in September. \n\nMet de vele doorbraken\, 
 welke zich tijdens deze drie dagen zullen voltrekken\, zul je opgelift en 
 opgetild naar huis gaan met Nieuwe Zienswijzen en Manifestatiekracht.'\n\n
 De groep blijft heel klein\, slechts 12 deelnemers\, zo is er ruimschoots 
 persoonlijke aandacht voor eenieder uit de groep \n\nIn December hebben we
  ook een Retraite voor degene die zich geroepen voelen om via Rachel begel
 eiding te ontvangen van de Albron.\n\nAchtergrond Rachel\n\nRachel is van 
 jongs af aan paranormaal begaafd. Ze heeft een directe verbinding met de A
 lbron. Concreet betekent het dat ze onder andere helder kan horen\, zien\,
  voelen en weten en in meerdere dimensies gelijk aanwezig kan zijn. (multi
  dimensionaal)\n\nZe weet exact waar je blokkades zitten en kan je helpen 
 deze op te heffen. Uiteraard met toestemming van de persoon in kwestie omd
 at niets geschiedt zonder de vrije wil van de mens. Acht jaar lang volgde 
 zij een intensief traject met de 'Andere Wereld'\, om zichzelf helemaal ui
 t te balanceren. Nu kan zij als de beste mensen - met het accent op Lichtw
 erkers - helpen om in hun kracht te komen. \n\nHet Centrum\n\nDe energie o
 p Centrum Venwoude - gelegen midden in de bossen van Lage Vuursche - wordt
  gedragen en is daarom bij uitstek 'de plek' om deze Retraite te organiser
 en. Bij aankomst ontdek je direct hoe fijn deze plek is waar je onmiddelli
 jk de stilte ervaart. Deze unieke locatie is nergens mee te vergelijken\, 
 zelf kom ik er al zo'n 10 jaar. Het landgoed staat op 16 hectare eigen gro
 nd en de drie zalen zijn helemaal natuurlijk. Neem snel een kijkje op de w
 ebsite om deze prachtige plek te zien: www.venwoude.nl. \n\nVenwoude staat
  voor het bewust ontwikkelen en leren inzetten van je eigen kracht en kwal
 iteiten\, vanuit betrokkenheid en afstemming op het grotere geheel.\n\n\nI
 nhoud programma\n\nUiteraard blijven de groepen klein en kunnen we volledi
 g voldoen aan alle wettelijke maatregelen. Geheel 'corona proof' om het zo
  maar te zeggen.\n\nVrijdag\n\n10.00 uur - 12.00 uur: Aankomen op Venwoude
  met koffie/thee/lekkers en Acclimatiseren op het prachtige landgoed.\n\n1
 2.30 uur: Gezonde biologische lunch met o.a. salade\, soep & broodjes\n\n1
 3.30: Terrein verkennen en wandeling maken met of zonder begeleiding of ge
 woon lekker relaxen op het Landgoed.\n\n16.00: Kennismaken met elkaar en u
 itleg over het weekeinde\n\n18.00: Diner en eigen besteding\n\n20.00: Welk
 e intentie wil jij neerzetten voor dit weekend? Lekker bij het kampvuur bu
 iten. (dit onderdeel is niet verplicht\, gewoon aanwezig zijn mag ook)\n\n
 We starten op vrijdag heel rustig op omdat het van belang is dat we tot ru
 st komen en ons helemaal leeg kunnen maken voor het Energetische werk van 
 Zaterdag en Zondag.\n\nZaterdag\n\n8.00 en 9.15 uur: Ontbijt\n\n10.00 - 12
 .00 uur: Energetisch Werk met het Witte Licht en opheffen blokkades / scho
 onmaken van het Energie systeem\n\n12.30: Lunch\n\n14.00 -17.00 uur: Licha
 amsgericht werk met onder andere Yoga \n\nD.m.v. beweging het lichaam losm
 aken zodat je goed in je lijf komt te zitten.\n\nWe gaan vervolgens verder
  met ademhalingstechnieken waarbij je nog dieper in jouw lijf komt. \n\nDa
 n: Opschonen van blokkades met Energie werk.\n\n18.00: Diner\n\n20.00 uur:
  Kringgesprek met de groep\, deels gechanneld.\n\nZondag\n\n8.00 en 9.15 u
 ur: Ontbijt\n\n10.00 - 12.30 uur: Initiatie in de Aarde zetten. Oftewel\, 
 Eigen intenties verankeren in de Aarde. \n\nDan zal het tij keren. De laat
 ste Mantel zul je ontdoen!\n\n13.00 uur: Uitgebreide warme lunch (hoeft je
  's avonds niet meer warm te eten)\n\n14.00 tot ongeveer 16.00 uur: Deze m
 iddag biedt jou de gelegenheid om al je 'laatste' vragen te kunnen stellen
 . Dit is op basis van een multi dimensionale channeling. We sluiten de ret
 raite op een mooie liefdevolle manier af. Dit onderdeel is geheel vrijblij
 vend.\n\n\nInvestering\n\nJouw investering in deze all inclusive 3-daagse 
 Retraite is 615 euro in totaal als je kiest voor een 1 persoonskamer op he
 t grote landgoed.  \n\nVoor het totaal bedrag heb je onbeperkt koffie/thee
 /water en fruit & alle biologische gezonde maaltijden en slapen in de stil
 te van de natuur. . Ook de zaalhuur - we hebben een eigen gebouw in de nat
 uur waar de begeleiding plaatsvindt - is in deze prijs inbegrepen!\n\n(Van
  het totaal bedrag is de investering in Venwoude 400 euro)\n\nKamperen\n\n
 Je kunt het een stukje goedkoper maken door te kamperen. Of een kampeerbus
  neerzetten mag ook!  - 540 euro totaal\n\nDelen van een 2-persoons kamer
 \n\nSamen een kamer delen totaalprijs Retraite is dan: 585 euro\n\nMocht j
 e nog vragen hebben bel of mail gerust. Definitieve opgave door mij (Ilona
 ) een mail te sturen en je ontvangt dan nadere informatie. De voorwaarden 
 zoals deze staan op de website van de Hartcirkel zijn van toepassing op de
 ze 3-daagse Retraite.\n\nDit bedrag kan worden overgemaakt op rekeningnr. 
  NL44 INGB 0796 8731 43\, H.J. Borst\, onder vermelding van: Rachel Koers.
 \n\nData:\n\n29\, 30 en 31 Oktober\, 2021\n\n https://dehartcirkel.nl/even
 t-menu/evenement/73-verdiepings-retraite-rachel-koers-29-30-en-31-oktober-
 in-lage-vuursche
DTSTART:20211028T220000Z
DTEND:20211031T120500Z
LOCATION:Retraite Centrum Venwoude (Vuurse Steeg 1\, 3749 AN Lage Vuursche\
 , Nederland)
SUMMARY:Verdiepings Retraite - Rachel Koers - 29\, 30 en 31 Oktober in Lage
  Vuursche
URL:https://dehartcirkel.nl/event-menu/evenement/73-verdiepings-retraite-ra
 chel-koers-29-30-en-31-oktober-in-lage-vuursche
END:VEVENT
END:VCALENDAR
