BEGIN:VCALENDAR
VERSION:2.0
PRODID:-//https://dehartcirkel.nl///NONSGML kigkonsult.se iCalcreator 2.10.15//
METHOD:PUBLISH
BEGIN:VEVENT
UID:20260422T063015EDT-1572Pbuv2J@https://dehartcirkel.nl/
DTSTAMP:20260422T103015Z
DESCRIPTION:OVERGANG NAAR AQUARIUSTIJDPERK EN HAAR SPIRITUELE EIGEN WEG\n\n
 Janneke Monshouwer\, onderzoeksjournalist\, TV-maakster en schrijfster van
  de boeken Ander Nieuws\, vertelt tijdens deze boeiende middag over haar i
 nnerlijke ontdekkingsreis om het boek 'Overgang naar Aquariustijdperk' te 
 kunnen schrijven en over de gebeurtenissen in deze tijd.\n\n\n\nIn dit boe
 k staat dat de Aarde in de overgang is naar de 5e Dimensie en een hogere m
 enselijke beschaving\, die\, volgens haar Lichtbronnen\, 21 december 2037 
 begint.  \n\nVelen kennen Janneke als onderzoeksjournalist en TV-maakster 
 (1965-2000)\, maar ze is ook onderzoekster in lichamelijke en geestelijke 
 gezondheid\, persoonlijke ontwikkeling en spiritualiteit. Ze heeft een mul
 tidimensionaal bewustzijn. Ze werd zich hier pas veel later van bewust. In
  2001 werd haar duidelijk dat ze een ‘spreekbuis’ is van Moeder Aarde. Ze 
 heeft toen Stichting ‘Viva Pachamama’ opgericht als uitgever van films\, b
 oeken et cetera. Later besefte ze dat ze ook een spreekbuis is van het Chr
 istusbewustzijn en Lichtkrachten in de kosmos. Ze raakte steeds meer vertr
 ouwd met Engelen\, Aartsengelen\, Galactische Federatie\, Pleiaden (Maya’s
 ) en vele andere universele multidimensionale bondgenoten. Allemaal helper
 s bij de overgang van de Aarde naar de 5e Dimensie en een hogere menselijk
 e beschaving\, die 21 december 2037 begint.\n\nBij de TV werkte ze voor he
 t NOS Journaal\, de NOS en diverse omroepen. Vanaf ±1986 maakte ze mee dat
  de Nederlandse publieke televisie\, die uniek in de wereld was met alle v
 erschillende omroepen met een eigen geluid (stem)\, stapsgewijs één groot 
 kartel werd. In 1990 kondigde George H.W. Bush de Nieuwe Wereld Orde aan v
 oor wereldvrede\, zei hij\, maar hij riep meteen soldaten op en begon de G
 olfoorlog. \n\nDe Nieuwe Wereld Orde begon meer vorm te krijgen.\n\nDaar w
 erd ze ziek van. Dat triggerde gebeurtenissen uit haar jeugd met haar psyc
 hotische moeder en dominante vader met een woedeprobleem. Ze werd uitgedaa
 gd om in de spiegel te kijken\, op zoek te gaan naar de waarheid over wat 
 er gebeurd was met haarzelf\, haar ouders\, broers en zusjes\, en alles go
 ed verwerken. Een zeer zwaar proces. Maar het grote cadeau dat ze hierbij 
 kreeg was: hoe meer ze aan trauma’s opspoorde en kon opruimen (goed mijn e
 moties voelen en veel verdriet eruit huilen) – des te beter ze zich voelde
 . Dit soort behandelingen zit niet in het pakket van de gangbare Freudiaan
 se psychiatrie en psychologie. Ze moest dus op zoek naar wat wél effectief
  was\, wat wél werkt. Dat heeft ze gelukkig kunnen vinden!\nHaar immuunsys
 teem werd steeds sterker en het bleek meteen ook om een enorme spirituele 
 ontwikkeling te gaan. \n\nNu komt alles bij elkaar: wat ze geleerd heeft a
 an waarheid en haar intuïtie\, alles gaat hand in hand en ze leert steeds 
 bij. Ze vertelt tijdens deze boeiende bijeenkomst graag meer over haar avo
 nturen.\n\nMeer informatie over Janneke Monshouwer kun je lezen op www.and
 ernieuws.eu \n\n\nWanneer? Op zaterdagmiddag 18 September\, 2021\nTijdstip
 : 14:00 uur tot 17 uur (zaal open om 13:30 uur)\nLocatie: Dorpshuis De Sch
 ulp\, Visweg 45\, 1935 EB Egmond-Binnen\nHeerlijke lichte zaal en volop gr
 atis parkeerplekken\, rechts en links van het gebouw!\nInvestering: 25 eur
 o   \n\n(De zaal is heel ruim en de groep blijft klein)\n\nDit bedrag kan 
 worden overgemaakt op rekeningnr. NL44 INGB 0796 8731 43\, H.J. Borst\, on
 der vermelding van: Janneke Monshouwer\n\n\n \n https://dehartcirkel.nl/ev
 ent-menu/evenement/71-lezing-overgang-naar-aquariustijdperk-en-mijn-spirit
 uele-eigen-weg-janneke-monshouwer
DTSTART:20210918T120000Z
DTEND:20210918T150000Z
LOCATION:Dorpshuis De Schulp (Visweg 45\, 1935 EB Egmond-Binnen)
SUMMARY:Lezing 'Overgang naar Aquariustijdperk' en mijn spirituele Eigen We
 g - Janneke Monshouwer
URL:https://dehartcirkel.nl/event-menu/evenement/71-lezing-overgang-naar-aq
 uariustijdperk-en-mijn-spirituele-eigen-weg-janneke-monshouwer
END:VEVENT
END:VCALENDAR
