BEGIN:VCALENDAR
VERSION:2.0
PRODID:-//https://dehartcirkel.nl///NONSGML kigkonsult.se iCalcreator 2.10.15//
METHOD:PUBLISH
BEGIN:VEVENT
UID:20260420T064259EDT-3085XoUSu9@https://dehartcirkel.nl/
DTSTAMP:20260420T104259Z
DESCRIPTION:De 3-daagse Retraites die we deze zomer organiseerden op Centru
 m Venwoude werden door de deelnemers zeer goed ontvangen. Mijn grote dank 
 aan alle participanten die zich helemaal openstelden en niet te vergeten R
 achel voor haar toewijding en inzet van haar prachtige talenten. Binnenkor
 t zal ik aantal van deze mooie reacties op mijn website zetten. \n\nMet ve
 el plezier zullen we deze Retraites voortzetten\; een aantal daarvan in ee
 n iets wat ander jasje om het voor iedereen toegankelijk te maken. Zoals d
 eze tweedaagse in Centrum Soul Balance waarbij je gewoon heerlijk in je ei
 gen bedje kunt slapen (als je in de buurt woont). Voor degenen die niet in
  de buurt wonen hebben we zeer betaalbare bed & breakfast mogelijkheden.\n
 \nRachel Koers zal deze tweedaagse bijeenkomst leiden vanuit haar bijzonde
 re gaven en haar unieke manier van werken. Haar eigen proces verliep ander
 s dan die van de 'gemiddelde mens'. Omdat haar talenten zo divers en breed
  zijn noem ik (Ilona) het multi dimensionaal 'werk'. Rachel is een vrouw m
 et bijzondere gaven die in staat is om zeer transformatief werk te doen me
 t mensen die hiervoor openstaan. Haar taak hier op Aarde is om 'Lichtwerke
 rs' in hun kracht te zetten. \n\n'Deze 2-daagse is bedoeld voor diegene di
 e er klaar voor is om zijn/haar laatste kleed af te leggen en in het leven
 de water willen stappen. En als gevolg hiervan zul jij jouw voetsporen op 
 Aarde definitief achterlaten. Met de vele doorbraken\, welke zich tijdens 
 deze twee dagen zullen voltrekken\, zul je gesterkt naar huis gaan.\n\nInh
 oud programma\n\nUiteraard blijven de groepen klein (maximaal 12 deelnemer
 s) en kunnen we volledig voldoen aan alle wettelijke maatregelen. Geheel '
 corona proof' om het zo maar te zeggen. \n\nTijdens deze dagen maken we he
 t onszelf vooral zo relaxt als mogelijk\; zo is er een heerlijke lounge ba
 nk om op te zitten. Heerlijk jezelf zijn staat tijdens deze dagen hoog in 
 het vaandel. Het kan fijn zijn om lekker zittende kleding aan te trekken e
 n een omslagdoek of vestje mee te nemen.\n\nZaterdag 25 September\n\nAanko
 mst Soul Balance: 9.45 uur (met ontvangst van koffie/thee en lekkers)\n10.
 00 uur - 12.30 uur: Kennismaken en Ochtend programma onder leiding van Rac
 hel - Wat is jouw intentie voor deze 2 daagse?\n12.30 uur: Gezonde (warme)
  uitgebreide lunch \n14.00 uur - 18.00 uur: Middag programma - De groep wo
 rdt meegenomen op reis door de Bron.\n\nZondag 26 September\n\n10.00 - 12.
 30 uur: Landen en vervolgens Energie werk\n12.30: Gezonde (warme) uitgebre
 ide lunch\n14.00 -18.00 uur: Middag programma - Initiatie en daarna afslui
 t ronde.\n \n\n\nJouw investering in deze 2-daagse Retraite is 249\,- euro
 .\nVoor dit bedrag heb je op beide dagen onbeperkt koffie/thee/fris en fru
 it & een gezonde warme (uitgebreide) lunch.\n\nDit bedrag kan worden overg
 emaakt op rekeningnr.  NL44 INGB 0796 8731 43\, H.J. Borst\, onder vermeld
 ing van: Rachel Koers.\n\n https://dehartcirkel.nl/event-menu/evenement/70
 -uitverkocht-2-daagse-retraite-jouw-voetsporen-nalaten-op-aarde-rachel-koe
 rs-soulbalance
DTSTART:20210925T073000Z
DTEND:20210926T160000Z
LOCATION:SoulBalance (Vreekesweid 1 1721PP Broek op Langedijk)
SUMMARY:UITVERKOCHT: 2 daagse Retraite: 'Jouw Voetsporen nalaten op Aarde' 
 ~ Rachel Koers  - Soulbalance
URL:https://dehartcirkel.nl/event-menu/evenement/70-uitverkocht-2-daagse-re
 traite-jouw-voetsporen-nalaten-op-aarde-rachel-koers-soulbalance
END:VEVENT
END:VCALENDAR
