BEGIN:VCALENDAR
VERSION:2.0
PRODID:-//https://dehartcirkel.nl///NONSGML kigkonsult.se iCalcreator 2.10.15//
METHOD:PUBLISH
BEGIN:VEVENT
UID:20260420T080834EDT-3306sMgTEU@https://dehartcirkel.nl/
DTSTAMP:20260420T120834Z
DESCRIPTION:Voor wie is deze workshop geschikt?\n\nVoor patiënten die hun l
 ichaam willen helen en voor therapeuten die zich de werkwijze van Henk Fra
 nsen willen eigen maken.\n\nHet is belangrijk dat je de lezing 'Psychosoma
 tiek' op de dag voorafgaand aan de workshop hebt bijgewoond of een van de 
 boeken van Henk Fransen hebt gelezen. Als je de lezing 'Psychosomatiek' we
 lke Henk vorig jaar (2018) voor de Hartcirkel verzorgde hebt bijgewoond\, 
 dan is dat uiteraard ook voldoende om de workshop bij te kunnen wonen.\n\n
 Tijdens deze workshop kun je leren hoe je de informatie uit de lezing voor
  jezelf kunt toepassen. Henk Fransen geeft voorbeeldsessies waarnaar je in
  2-tallen kunt oefenen. Ook ga je leren hoe je 'tekeningen' kunt gebruiken
  om snel extra informatie te verkrijgen over een ziekte/probleem. Tot slot
  evalueer je de dag en kijk je hoe je het geleerde voor jezelf (of in je p
 raktijk) kunt uitbouwen.\n\n\nProgramma onderdelen:\n- Wat is psychosomati
 ek?\n- De kracht en beperkingen van de psychosomatische benadering\n- Inle
 iding in de psycho-neuro-immunologie (lichaam-geest relatie)\n- Het doorgr
 onden van de betekenis van organen/ziekten\n- Non-verbale signalen (lichaa
 mstaal) leren verstaan\n- Van klacht naar kracht\n- Een manier van werken 
 waarbij je lichaam je de weg wijst naar de oplossing\n- Manieren om een ge
 voelige/zieke plek in je lichaam te versterken\n- Demonstratie-sessie(s)\n
 \n\n\nHenk Fransen is afgestudeerd als arts en deed 30 jaar onderzoek naar
  de zin en onzin van alternatieve geneeswijzen. Hij schreef de boeken 'Bon
 dgenoot\, de autobiografie van een immuuncel'\, 'Versterk je genezend verm
 ogen op 5 niveaus'\, 'Handboek kanker' en 'De betekenis van kanker'. In 20
 15 lanceerde hij 'De zoektocht naar genezing'. De video's hierover zijn op
  Youtube al meer dan een kwart miljoen keer bekeken.\nIn 2016 viel hij op 
 door zijn visie het eerste medicijnloze ziekenhuis van Nederland te creëre
 n\; dit is een ongoing project. Meer info op: www.henkfransen.nl.\n\n\nWan
 neer: Zondag 15 September 2019\n\nTijdstip: 10 tot 17 uur (inloop vanaf 9.
 30 uur met koffie/thee)\n\nLocatie: De Schulp\, Egmond Binnen\n\nVergoedin
 g voor deze bijzondere dag: 125 euro. Dit bedrag is inclusief koffie/thee/
 lekkers en een veganistische maaltijdsoep. (Je kunt zelf eventueel nog een
  broodje meenemen)\n\nPARKEREN: Je kunt zowel rechts als links van het geb
 ouw 'De Schulp' gratis parkeren!\n\nDit bedrag kan worden overgemaakt op r
 ekeningnr. NL37 RABO 0327 7053 53\, H.J. Borst\, onder vermelding van: “Wo
 rkshop Henk Fransen”\n\n https://dehartcirkel.nl/event-menu/evenement/7-oe
 fenworkshop-psychosomatiek-henk-fransen
DTSTART:20190915T080000Z
DTEND:20190915T150000Z
LOCATION:Dorpshuis De Schulp (Visweg 45\, 1935 EB Egmond-Binnen)
SUMMARY:Oefenworkshop Psychosomatiek - Henk Fransen
URL:https://dehartcirkel.nl/event-menu/evenement/7-oefenworkshop-psychosoma
 tiek-henk-fransen
END:VEVENT
END:VCALENDAR
