BEGIN:VCALENDAR
VERSION:2.0
PRODID:-//https://dehartcirkel.nl///NONSGML kigkonsult.se iCalcreator 2.10.15//
METHOD:PUBLISH
BEGIN:VEVENT
UID:20260420T081147EDT-0204V04DxW@https://dehartcirkel.nl/
DTSTAMP:20260420T121147Z
DESCRIPTION:Start je eigen magische reis naar je Ware Zelf en Luister naar 
 het Lied van de Ziel is het thema van het jaarprogramma dat bij voldoende 
 belangstelling in de winter van 2021-2022 zal starten.\n\nIn dit jaarprogr
 amma zul je meer en meer in contact komt met wie je werkelijk bent\, je Wa
 re Zelf\, terwijl ondertussen levensvragen worden beantwoord.\n\n\n\nVrage
 n als:\n\nWaarom ben je op Aarde? Waar kom je vandaan? En waar ga je naar 
 toe? Hoe bereik je meesterschap en waarom is dat belangrijk? Wat is de zie
 l? Wat is bewustzijn? Wat is de Ik Ben? Hoe herstel je de verbinding met d
 e Ik Ben en met de ziel? Wat is liefde en hoe bereik je werkelijke liefde 
 voor jezelf? Wie ben jij echt? En hoe geef je uitdrukking aan dit alles in
  je dagelijkse leven.\n\nEen reis verloopt meestal soepeler als je een dui
 delijk vertrekpunt hebt en jezelf goed voorbereid\, ook een magische reis 
 naar je Ware Zelf. In het tweedaagse oriëntatieweekend dat op 9 en 10 okto
 ber wordt aangeboden\, wordt duidelijk waar je op dit moment staat in je l
 even\, waar je ten diepste naar verlangt en wat verhindert dat je dit verl
 angen kunt vervullen. En…of je zover bent om aan het jaarprogramma mee te 
 doen.\n\n\n\nVoor wie?\n\nVoor iedereen die wakker is geworden (en dat ben
  jij\, anders las je deze informatie niet)\, de verbinding met zijn of haa
 r Goddelijk deel wil herstellen en meester wil worden over het eigen leven
 . Voor mensen die werkelijk vrij willen zijn\; hun door de buitenwereld op
 gelegde identiteit in willen ruilen voor die van het soevereine wezen dat 
 je in werkelijkheid bent.\n\nHoe?\n\nDoor stap voor stap te ontdekken waar
  je vandaan komt\, door je oude geschiedenis los te laten en te vervangen 
 door een grotere versie. Door je karma los te laten en je innerlijke wijsh
 eid te omarmen. Door de invloed van het massabewustzijn te doorzien en te 
 leren er los van te komen. Door je eigen energie te leren kennen en te ont
 dekken hoe oneindig jouw mogelijkheden zijn. Door je unieke Lied van de Zi
 el te leren verstaan en dat de leiding te geven over je leven(s).\n\nWie i
 s Joy?\n\nJoy is een vrouw die zelf deze magische reis heeft afgelegd en i
 s uitgekomen bij haar realisatie en meesterschap en ervoor heeft gekozen o
 m nog enige tijd op Aarde te blijven. in 2007 is ze begonnen met het doen 
 van verslag van haar magische reis in de serie boeken ‘Het buitengewone ge
 wone leven van Eva Goudsmid’ waarvan inmiddels drie delen zijn uitgekomen:
  'De terugkeer van de healers'\, 'Het temmen van de olifant' en 'De komst 
 van de Draak'.\n\nJoy werkt aan het vierde en laatste deel met de voorlopi
 ge titel ‘De dans van Merlijn en Shakti’.\n\n\n\nMeer informatie over Joy 
 en de boeken en enkele reviews vind je op haar website: www.joyligteringen
 .org\n\n\nWanneer: Zaterdag 9 en Zondag 10 Oktober\, 2021 Tijdstip: Zaterd
 ag van 10 tot 21 uur De inloop is vanaf 9.30 uur met koffie/thee/lekkers. 
 Zondag ronden we de dag rond 17.30 uur af.\n\nLocatie: Soul Balance\, Vree
 kesweid 1 1721PP Broek op Langedijk\n\nInvestering: 375 euro   \n\nAantal 
 deelnemers: Slechts 12 personen\, dus veel persoonlijke aandacht!\n\nDeze 
 tweedaagse is inclusief alle gezonde maaltijden (2x lunch en 1x avond eten
 ) Onbeperkt koffie/thee/fris/fruit en lekkers.\n\nDit bedrag kan worden ov
 ergemaakt op rekeningnr.  NL44 INGB 0796 8731 43\, H.J. Borst\, onder verm
 elding van: Workshop Joy Ligteringen\n\n https://dehartcirkel.nl/event-men
 u/evenement/69-twee-daagse-orientatieweekend-luister-naar-het-lied-van-de-
 ziel-joy-ligteringen-voorjaar-2022-datum-volgt
DTSTART:20220301T090000Z
DTEND:20220601T153000Z
LOCATION:SoulBalance (Vreekesweid 1 1721PP Broek op Langedijk)
SUMMARY:Twee daagse oriëntatieweekend: Luister naar Het Lied van de Ziel - 
 Joy Ligteringen / voorjaar 2022 (datum volgt) 
URL:https://dehartcirkel.nl/event-menu/evenement/69-twee-daagse-orientatiew
 eekend-luister-naar-het-lied-van-de-ziel-joy-ligteringen-voorjaar-2022-dat
 um-volgt
END:VEVENT
END:VCALENDAR
