BEGIN:VCALENDAR
VERSION:2.0
PRODID:-//https://dehartcirkel.nl///NONSGML kigkonsult.se iCalcreator 2.10.15//
METHOD:PUBLISH
BEGIN:VEVENT
UID:20260420T063135EDT-8714No0D3J@https://dehartcirkel.nl/
DTSTAMP:20260420T103135Z
DESCRIPTION:Je hoort met regelmaat het woord flow vallen\, bijvoorbeeld: 'i
 k zit lekker in de flow'\, waarmee wordt bedoeld dat het allemaal lekker l
 oopt in het leven. Het kan eigenlijk niet meer stuk. Flow\, met andere woo
 rden\, brengt kansen\, meevallers\, realiseert dromen en noem maar op. Wie
  wil er geen flow in zijn leven? Toch lijken weinig mensen in een constant
 e flow te zitten en vallen ze er vaak even snel weer uit als ze er in tere
 chtkomen. Het lijkt alsof je er geen grip op hebt\, alsof het een kwestie 
 van geluk hebben is. Het is niet een kwestie van geluk hebben want flow is
  het resultaat van contact hebben met je Ziel. Het gaat er dus om de taal\
 , de klank van de Ziel te verstaan en de invloed van het massa bewustzijn 
 buiten de deur te houden. Klinkt simpel maar dat is het niet voor het over
 grote deel van de mensheid. Want wat is de Ziel precies? Waar bevindt de Z
 iel zich? Wat is flow? Hoe werkt flow? Wat is Het Lied van de Ziel en hoe 
 kun je er contact mee maken? Wat is massabewustzijn en welke invloed heeft
  het op flow en hoe kun je daar mee omgaan? En\, hoe laat je jezelf door j
 ouw Ziel leiden?\n\nJoy neemt je tijdens deze middag bijeenkomst mee naar 
 het rijk van de Ziel en geeft daarmee een voorproefje van de weekenden die
  zij begeleid en die als doel hebben om je te helpen jouw eigen Lied van d
 e Ziel te verstaan. Het vervolgens te integreren in je dagelijks leven zod
 at je leven een weerspiegeling wordt van wie je werkelijk bent en waarmee 
 je een bijna constante flow in je leven kunt creëren. Het is als een magis
 che reis naar je Ware Zelf. De cycli weekenden start met een oriëntatiewee
 kend op 9 en 10 Oktober en wordt bij voldoende belangstelling voortgezet m
 et een serie van 5 à 6 weekenden die over een periode van ongeveer een jaa
 r zullen worden aangeboden.\n\nHet oriëntatie-weekend is bedoeld om je te 
 laten ervaren waar jij staat in je leven\, waar je naar verlangt en wat je
  verhindert om dit verlangen te realiseren en te leven. Op basis van dit e
 erste weekend kun je beslissen of het voor jou de moeite waard is om aan d
 e vervolgweekenden deel te nemen.\n\nWie is Joy?\n\n\n\nJoy is een vrouw d
 ie zelf deze magische reis heeft afgelegd en is uitgekomen bij haar realis
 atie en meesterschap en er voor heeft gekozen om nog enige tijd op Aarde t
 e blijven. In 2007 is ze begonnen met het doen van verslag van haar magisc
 he reis in de serie boeken ‘Het buitengewone gewone leven van Eva Goudsmid
 ’ waarvan inmiddels drie delen zijn uitgekomen: 'De terugkeer van de heale
 rs\, ''Het temmen van de olifant' en 'De komst van de Draak'.\n\nJoy werkt
  aan het vierde en laatste deel met de voorlopige titel ‘De dans van Merli
 jn en Shakti’.\n\n\n\nMeer informatie over Joy en de boeken en enkele revi
 ews vind je op haar website: www.joyligteringen.org\n\nNoot van de organis
 ator Ilona: de eerste drie boeken heb ik in een ruk uitgelezen. Deze boeke
 n staan echt in mijn lijstje van 'meest favoriete' boeken. Waarom? Het is 
 alsof mijn eigen 'transformatie' een duwtje in de goede richting krijgt. I
 k voel me momenteel zo geïnspireerd om mijn eigen Meesterschap te bereiken
  door onder andere volledige verantwoordelijkheid te nemen voor mijn leven
 .\n\n\nWanneer? Op zaterdagmiddag 4 september\, 2021\nTijdstip: 14:00 uur 
 tot 17 uur (zaal open om 13:30 uur)\nLocatie: Dorpshuis De Schulp\, Visweg
  45\, 1935 EB Egmond-Binnen\nHeerlijke lichte zaal en volop gratis parkeer
 plekken\, rechts en links van het gebouw!\nVergoeding: 25 euro   \n\nDit b
 edrag kan worden overgemaakt op rekeningnr.  NL44 INGB 0796 8731 43\, H.J.
  Borst\, onder vermelding van: Bijeenkomst Joy Ligteringen\n\n\n \n https:
 //dehartcirkel.nl/event-menu/evenement/67-bijeenkomst-op-zoek-naar-flow-in
 -je-leven-luister-naar-het-lied-van-je-ziel-joy-ligteringen
DTSTART:20210904T120000Z
DTEND:20210904T150000Z
LOCATION:Dorpshuis De Schulp (Visweg 45\, 1935 EB Egmond-Binnen)
SUMMARY:Bijeenkomst: Op zoek naar flow in je leven? Luister naar het Lied v
 an je Ziel - Joy Ligteringen
URL:https://dehartcirkel.nl/event-menu/evenement/67-bijeenkomst-op-zoek-naa
 r-flow-in-je-leven-luister-naar-het-lied-van-je-ziel-joy-ligteringen
END:VEVENT
END:VCALENDAR
