BEGIN:VCALENDAR
VERSION:2.0
PRODID:-//https://dehartcirkel.nl///NONSGML kigkonsult.se iCalcreator 2.10.15//
METHOD:PUBLISH
BEGIN:VEVENT
UID:20260420T062403EDT-0711UNLcG6@https://dehartcirkel.nl/
DTSTAMP:20260420T102403Z
DESCRIPTION:Er is een nieuw initiatief geboren waar wij zeer verheugd over 
 zijn! Wij lopen al langere tijd met de gedachte rond om voor jongeren iets
  te mogen betekenen. Want wij merken dat steeds meer jongeren vastlopen. Z
 ij weten niet meer waarvoor zij naar de Aarde zijn gekomen en snappen niet
 s van deze Wereld welke nog in transitie is naar een Nieuwe Aarde in een h
 ogere dimensie.\n\nIn samenwerking met Rachel Koers en Silvia Hoevenaar (K
 eytohealth.nl) zal Ilona - vanuit De Hartcirkel - een evenement organisere
 n om jongeren te helpen weer in hun KRACHT te komen. Bovenstaande drie dam
 es zullen deze middag 'begeleiden' en de inhoud samen met de jongeren vorm
 geven. Het wordt dus een interactieve middag zonder verplichtingen en voor
 al heel laagdrempelig. \n\nDeze bijeenkomst is in principe voor iedereen -
  maar vooral gericht op jongeren. Uiteraard zijn de ouders ook van harte w
 elkom op deze eerste bijeenkomst. \n\nWe laten deze middag ontstaan vanuit
  de behoefte van de jeugd. Zij worden in de gelegenheid gesteld de vragen 
 te stellen die bij hen leven en niets is te gek. Alles is welkom! Mocht he
 t zo zijn dat we op een bepaald moment 'vastlopen' met het geven van een p
 assend antwoord\, dan zal Rachel het antwoord 'channelen' vanuit haar cont
 act met de Bron. De vragen worden beantwoord vanuit een groter en breder p
 erspectief. (dus niet vanuit de 3e dimensie)\n\nHet wordt een evenement zo
 nder winstoogmerk. De inkomsten worden dus uitsluitende gebruikt om de kos
 ten van deze bijeenkomst te dekken (zaalhuur\, PR en reiskosten).\n\nMocht
  er echter iemand zijn die dit initiatief een warm hart toedraagt... dan i
 s een donatie vanuit 'sponsoring' welkom.\n\nAchtergrond Rachel\n\nRachel 
 is van jongs af aan paranormaal begaafd. Ze heeft een directe verbinding m
 et de Albron. Concreet betekent het dat ze onder andere helder kan horen\,
  zien\, voelen en weten en in meerdere dimensies gelijk aanwezig kan zijn.
  (multi dimensionaal)\n\nZe weet exact waar je blokkades zitten en kan je 
 helpen deze op te heffen. Uiteraard met toestemming van de persoon in kwes
 tie omdat niets geschiedt zonder de vrije wil van de mens. Acht jaar lang 
 volgde zij een intensief traject met de 'Andere Wereld'\, om zichzelf hele
 maal uit te balanceren. Nu kan zij als de beste mensen (jongeren) - met he
 t accent op Lichtwerkers - helpen om in hun kracht te komen. \n\nAchtergro
 nd Silvia\n\nSilvia is Holistisch Health coach en helpt mensen in hun krac
 ht te zetten op mentaal\, fysiek en energetisch vlak. Daarnaast is ze bewu
 stzijnscoach en begeleid mensen in het proces van ontwaken. Door events te
  geven en 1 op 1 coaching. Heel haar leven houdt ze zich al bezig met spir
 itualiteit en holistische gezondheid en de kracht van het bewustzijn.\n\n 
 \n\n\n\nAchtergrond Ilona \n\nIlona heeft na haar studie Communicatie gewe
 rkt in diverse functies binnen de communicatie-branche (waaronder bij de T
 elevisie). Na een omscholing tot trainer en professioneel begeleider werkt
 e zij met mensen als allround coach. Nadat zij aanvullend nog een korte op
 leiding volgde tot HSP-begeleider werkte ze jaren met kinderen en jongeren
 . In 2009 is zij begonnen evenementen te organiseren op het gebied van spi
 ritualiteit en bewustzijns-ontwikkeling en dat doet ze tot op de dag van v
 andaag met veel plezier en vanuit haar Hart.\n\n \n\n\nVrije Donatie.\n\nA
 lleen op de dag zelf\, contant te voldoen! Dus ajb geen overboeking op de 
 rekening van Ilona!!!\n\nWanneer: 11 juli 14:00 - 17:00\, inloop 13:40.\n
 \nWaar: Soulbalance - Vreekesweid 1 1721PP Broek op Langedijk - gratis par
 keren voor de deur.\n\n\n \n https://dehartcirkel.nl/event-menu/evenement/
 66-bijeenkomst-voor-jongeren-meer-de-ontwakende-lichtwerkers-soulbalance
DTSTART:20210711T120000Z
DTEND:20210711T150000Z
LOCATION:SoulBalance (Vreekesweid 1 1721PP Broek op Langedijk)
SUMMARY:Bijeenkomst voor jongeren & meer! De Ontwakende Lichtwerkers - Soul
 balance
URL:https://dehartcirkel.nl/event-menu/evenement/66-bijeenkomst-voor-jonger
 en-meer-de-ontwakende-lichtwerkers-soulbalance
END:VEVENT
END:VCALENDAR
