BEGIN:VCALENDAR
VERSION:2.0
PRODID:-//https://dehartcirkel.nl///NONSGML kigkonsult.se iCalcreator 2.10.15//
METHOD:PUBLISH
BEGIN:VEVENT
UID:20260420T062035EDT-7804pCNjEL@https://dehartcirkel.nl/
DTSTAMP:20260420T102035Z
DESCRIPTION:Een weldadige manier om te ontspannen en tot rust te komen. De 
 harmonieuze klanken van de klankschalen\, sjamanen drum\, stemvorken en an
 dere instrumenten vitaliseren en geven nieuwe energie.\n\nTijdens een klan
 kmeditatie & healing stemt Karina zich af op de energie van de aanwezigen.
  Ze verbindt iedereen met de bron-energie en vraagt de helende Engelen van
  de violette straal een IET-healing* in te zetten.\n\nDeze healing werkt o
 p celniveau en zorgt voor het lostrillen en loslaten van negatieve onverwe
 rkte emoties (inprintingen). Aangesproken wordt jouw zelfhelend vermogen. 
 Jouw energiesysteem wordt herinnerd aan zijn heelheid en dat het tot zelfg
 enezing in staat is. \n\nHelen doe je namelijk zelf. Wat kan en wil jij nu
  loslaten? Kun jij je volledig overgeven aan deze aangereikte energie?\n\n
 De helende reis wordt begeleid met de zachte\, harmonieuze en soms uitdage
 nde en prikkelende klanken van de klankschalen\, sjamanen drum\, stemvorke
 n en andere instrumenten. Je zult de bijzondere trillingen die deze instru
 menten veroorzaken horen\, voelen en ervaren. Jouw energie wordt op een un
 ieke wijze in beweging gebracht. Luisterend naar deze prachtige muziek ga 
 je op reis in jezelf.\n\nPraktische informatie\n\nTijdens een klankmeditat
 ie & healing lig je op een eigen matje met kussen en een warme deken om he
 t zo comfortabel mogelijk te hebben. Ervaring met meditatie of andere onts
 panningstechnieken is niet nodig. Wel vraagt deze klankmeditatie & healing
  een liefdevolle overgave van jezelf aan jezelf.\n\nDe uitwerking verschil
 t dan ook per persoon. Na afloop voel je je vaak kalm en energiek tegelijk
 . Alsof je ontwaakt uit een diepe\, verkwikkende slaap. \nVan belang is om
  na de klankmeditatie & healing voldoende water of kruidenthee te drinken.
  Je ondersteunt hiermee jouw proces en voer je vrijgekomen afvalstoffen sn
 eller af. De harmoniserende kracht van de sessie kan nog dagen doorwerken.
 \n\n*IET=Integrated Energy Therapy\n\nWie is deze Healer?\nKarina Kerssens
  is een multidimensionaal wezen\, een sprank goddelijk licht met een mense
 lijke ervaring.\nEind 2006 begon haar zoektocht naar heling\, ontspanning 
 en vooral meer energie. Ze ontdekte haar talenten\, namelijk: het helder i
 nvoelen en het diep en krachtig helen. Gefascineerd en gretig volgde zij v
 ele workshops en opleidingen zoals: intuïtieve ontwikkeling\, mediumschap\
 , zelfheling met de pendel tot systemisch werk\, heilige geometrie en nog 
 veel meer.\n\nIn 2018 behaalde zij haar master in IET® gehaald. Een healin
 g methode die blokkades op cellulair niveau aanpakt\, mensen weer in hun k
 racht zet en op weg helpt bij het beleven van hun zielendoel.\n\nHet afgel
 open jaar (2020-heden) heeft zij een enorme verdieping mogen ervaren in ha
 ar zijn. In contact met haar goddelijke bewustzijn werd ze herinnerd aan h
 aar taak in energiewerk voor Moeder Aarde.\n\nIn haar praktijk werkt ze va
 nuit haar hart\, in verbinding met God en uitsluitend in licht en liefde. 
 Haar grootste kracht en zielendoel is dat ze mensen heling\, ontspanning\,
  aarding en leven vanuit hartsbewustzijn\, meegeef.\n\nZe kijkt er naar ui
 t je te ontmoeten!\n\nInvestering:  20 euro. Koffie/thee/lekkers te verkri
 jgen.\n\nWanneer: 18 april 14:00 - 17:00 inloop 13.45.\n\nWaar: Soulbalanc
 e - Vreekesweid 1 1721PP Broek op Langedijk - gratis parkeren voor de deur
 .\n\nDit bedrag kan worden overgemaakt op rekeningnr.  NL44 INGB 0796 8731
  43\, H.J. Borst\, onder vermelding van: Karina Kerssens\n\n https://dehar
 tcirkel.nl/event-menu/evenement/65-klankmeditatie-healing-liggend-karina-k
 erssens
DTSTART:20210522T120000Z
DTEND:20210522T150000Z
LOCATION:SoulBalance (Vreekesweid 1 1721PP Broek op Langedijk)
SUMMARY:Klankmeditatie & Healing (liggend) - Karina Kerssens
URL:https://dehartcirkel.nl/event-menu/evenement/65-klankmeditatie-healing-
 liggend-karina-kerssens
END:VEVENT
END:VCALENDAR
