BEGIN:VCALENDAR
VERSION:2.0
PRODID:-//https://dehartcirkel.nl///NONSGML kigkonsult.se iCalcreator 2.10.15//
METHOD:PUBLISH
BEGIN:VEVENT
UID:20260420T063839EDT-2103chEvCX@https://dehartcirkel.nl/
DTSTAMP:20260420T103839Z
DESCRIPTION:We hebben een 'last minute' kennismaking-bijeenkomst ingelast v
 oor hen die nieuwsgierig zijn naar de multidimensionale Genezer Rachel Koe
 rs en er over nadenken mee te gaan met een van de drie daagse Retraites in
  de zomer maanden.\n\nTijdens deze middag kun jij direct jouw persoonlijke
  vragen stellen aan Rachel. Over iets wat er momenteel in jouw eigen leven
  'speelt' of een vraag die wat breder is. Bijvoorbeeld: wat er in de Werel
 d momenteel gaande is (vanuit een hoger plan bezien). Ze zal de vragen op 
 haar eigen - multi dimensionale - wijze channelen. Ze zal ook iets vertell
 en over haar eigen achtergrond en hoe het is om met een hoger bewustzijn o
 p Aarde te leven.\n\nWie is Rachel?\n\nRachel is een multidimensionale gen
 ezer met een verruimd bewustzijn. Hierdoor is ze in staat om zeer zuiver e
 n verfijnd te werken op diverse manieren waaronder met energieën. Door haa
 r verruimde bewustzijn is ze dientengevolge ook in staat zeer nauwkeurig t
 e channelen. Ze kan mensen bij hun diepste lagen brengen en daarmee kunnen
  ze bij stukken komen die ze eerder zelf nooit hebben kunnen vinden. De ve
 rborgen stukken waar je zelf niet bijkomt omdat ze in het onbewuste zitten
  - de laatste stukken vaak - die kunnen met haar hulp aan het LICHT komen.
  Hierdoor worden mensen in staat gesteld om echt te transformeren naar hun
  Ware Zelf. En daarbij een goede integratie in jouw lichaam om zo heel en 
 volmaakt mogelijk te zijn en te functioneren. En hierdoor zul je meer in b
 alans zijn en dichter bij jouw Ziel.\n\nDe zaal is groot en de groep blijf
 t klein. We kunnen daarom aan alle wettelijke maatregelen voldoen. Wie wee
 t tot snel!\n\nInvestering:  15 euro. Koffie/thee/lekkers te verkrijgen.\n
 \nWanneer: 30 mei 14:00 - 16:30 inloop 13.45.\n\nWaar: Soulbalance - Vreek
 esweid 1 1721PP Broek op Langedijk - gratis parkeren voor de deur.\n\nDit 
 bedrag kan worden overgemaakt op rekeningnr.  NL44 INGB 0796 8731 43\, H.J
 . Borst\, onder vermelding van: Kennismaking Rachel Koers Mei\n\n https://
 dehartcirkel.nl/event-menu/evenement/64-kennismaken-met-multidimensionale-
 genezer-rachel-koers-soulbalance
DTSTART:20210530T120000Z
DTEND:20210530T143000Z
LOCATION:SoulBalance (Vreekesweid 1 1721PP Broek op Langedijk)
SUMMARY: Kennismaken met Multidimensionale Genezer Rachel  Koers - SoulBala
 nce
URL:https://dehartcirkel.nl/event-menu/evenement/64-kennismaken-met-multidi
 mensionale-genezer-rachel-koers-soulbalance
END:VEVENT
END:VCALENDAR
