BEGIN:VCALENDAR
VERSION:2.0
PRODID:-//https://dehartcirkel.nl///NONSGML kigkonsult.se iCalcreator 2.10.15//
METHOD:PUBLISH
BEGIN:VEVENT
UID:20260422T063358EDT-5422BUtfa8@https://dehartcirkel.nl/
DTSTAMP:20260422T103358Z
DESCRIPTION:Gezien de grote vraag hebben we een nieuwe kennismaking ingelas
 t voor 30 mei\, 2021.\n\nWe hebben een 'last minute' kennismaking-bijeenko
 mst ingelast voor hen die nieuwsgierig zijn naar de multidimensionale Gene
 zer Rachel Koers en er over nadenken mee te gaan met een van de drie daags
 e Retraites in de zomer maanden.\n\nTijdens deze middag kun jij direct jou
 w persoonlijke vragen stellen aan Rachel. Over iets wat er momenteel in jo
 uw eigen leven 'speelt' of een vraag die wat breder is. Bijvoorbeeld: wat 
 er in de Wereld momenteel gaande is (vanuit een hoger plan bezien). Ze zal
  de vragen op haar eigen - multi dimensionale - wijze channelen. Ze zal oo
 k iets vertellen over haar eigen achtergrond en hoe het is om met een hoge
 r bewustzijn op Aarde te leven.\n\nWie is Rachel?\n\nRachel is een multidi
 mensionale genezer met een verruimd bewustzijn. Hierdoor is ze in staat om
  zeer zuiver en verfijnd te werken op diverse manieren waaronder met energ
 ieën. Door haar verruimde bewustzijn is ze dientengevolge ook in staat zee
 r nauwkeurig te channelen. Ze kan mensen bij hun diepste lagen brengen en 
 daarmee kunnen ze bij stukken komen die ze eerder zelf nooit hebben kunnen
  vinden. De verborgen stukken waar je zelf niet bijkomt omdat ze in het on
 bewuste zitten - de laatste stukken vaak - die kunnen met haar hulp aan he
 t LICHT komen. Hierdoor worden mensen in staat gesteld om echt te transfor
 meren naar hun Ware Zelf. En daarbij een goede integratie in jouw lichaam 
 om zo heel en volmaakt mogelijk te zijn en te functioneren. En hierdoor zu
 l je meer in balans zijn en dichter bij jouw Ziel.\n\nDe zaal is groot en 
 de groep blijft klein. We kunnen daarom aan alle wettelijke maatregelen vo
 ldoen. Wie weet tot snel!\n\nInvestering:  15 euro. Koffie/thee/lekkers te
  verkrijgen.\n\nWanneer: 11 april 14:00 - 16:30 inloop 13.45.\n\nWaar: Sou
 lbalance - Vreekesweid 1 1721PP Broek op Langedijk - gratis parkeren voor 
 de deur.\n\nDit bedrag kan worden overgemaakt op rekeningnr.  NL44 INGB 07
 96 8731 43\, H.J. Borst\, onder vermelding van: Kennismaking Rachel Koers
 \n\n https://dehartcirkel.nl/event-menu/evenement/62-uitverkocht-kennismak
 en-met-multidimensionale-genezer-rachel-11-april-nieuwe-kennismaking-ingel
 ast-op-30-mei
DTSTART:20210411T120000Z
DTEND:20210411T143000Z
LOCATION:SoulBalance (Vreekesweid 1 1721PP Broek op Langedijk)
SUMMARY:UITVERKOCHT! Kennismaken met Multidimensionale Genezer Rachel - 11 
 April (Nieuwe Kennismaking ingelast op 30 mei!)
URL:https://dehartcirkel.nl/event-menu/evenement/62-uitverkocht-kennismaken
 -met-multidimensionale-genezer-rachel-11-april-nieuwe-kennismaking-ingelas
 t-op-30-mei
END:VEVENT
END:VCALENDAR
