BEGIN:VCALENDAR
VERSION:2.0
PRODID:-//https://dehartcirkel.nl///NONSGML kigkonsult.se iCalcreator 2.10.15//
METHOD:PUBLISH
BEGIN:VEVENT
UID:20260420T081914EDT-7115oo7MuH@https://dehartcirkel.nl/
DTSTAMP:20260420T121914Z
DESCRIPTION:Je leert een unieke manier van werken waarbij jouw lichaam je d
 e weg wijst naar je gezondheid.\n\nIn deze lezing deelt Henk Fransen 25 ja
 ar kennis en ervaring in het werken met de geestelijk/ emotionele betekeni
 s van ziekten. Je leert een unieke manier van ‘werken’ waarbij je lichaam 
 je de weg wijst naar de betekenis van een klacht/ziekte. Niet zelden blijk
 en symptomen daarbij een richtingaanwijzer naar je diepere levensbedoeling
 /zingeving.\n\nProgramma onderdelen:\n\n\n	Wat is psychosomatiek?\n	De kra
 cht en beperkingen van de psychosomatische benadering\n	Inleiding in de ps
 ycho-neuro-immunologie (lichaam-geest relatie)\n	Het doorgronden van de be
 tekenis van organen/ziekten\n	Non-verbale signalen (lichaamstaal) leren ve
 rstaan\n	Van klacht naar KRACHT\n	Een manier van werken waarbij je lichaam
  je de wegwijst naar de oplossing\n	Manieren om een gevoelige/zieke plek i
 n je lichaam te versterken\n	Demonstratie-sessie(s)\n\n\nOp 15 september g
 eeft Henk Fransen een verdiepende workshop over dit onderwerp. Klik hier v
 oor meer details.\n\n‘Het unieke is dat je niet zoals doorgaans in de psyc
 hosomatiek een mentaal concept aanbiedt van hoe het zit … maar dat je de l
 ichaamstaal en emoties gebruikt om zelf het antwoord te ontdekken.’\n\nHen
 k Fransen is afgestudeerd als arts en deed 30 jaar onderzoek naar de zin e
 n onzin van alternatieve geneeswijzen. Hij schreef de boeken ‘Bondgenoot\,
  de autobiografie van een immuuncel’\, ‘Versterk je genezend vermogen op 5
  niveaus’\, ‘Handboek kanker’ en ‘De betekenis van kanker’. In 2015 lancee
 rde hij ‘De zoektocht naar genezing’. De video’s hierover zijn op Youtube 
 al meer dan een kwart miljoen keer bekeken. In 2016 viel hij op door zijn 
 visie het eerste medicijnloze ziekenhuis van Nederland te creëren – dit is
  een ongoing project. Meer info op: www.henkfransen.nl\n\n\nDeze lezing za
 l op lichtzinnige wijze worden ingeleid door lofdichter en B12 specialist 
 Bo Baden (vitamineb12tekort.nl) en zal begeleid worden door de prachtige E
 ngelen klanken van harpiste en pianiste Fraukje Ramona Weishaupt.\n\n\nWan
 neer?\nOp zaterdagmiddag 14 september 2019\nTijdstip: 14:30 uur tot 17 uur
  (zaal open om 14:00 uur)\nLocatie: Dorpshuis De Schulp\, Visweg 45\, 1935
  EB Egmond-Binnen\nHeerlijke lichte zaal en volop gratis parkeerplekken\, 
 rechts en links van het gebouw!\nVergoeding: 17\,50 euro (vermeld duidelij
 k jouw naam bij de betaling)\n\n\nDit bedrag kan worden overgemaakt op rek
 eningnr. NL37 RABO 0327 7053 53\, H.J. Borst\, onder vermelding van: “Henk
  Fransen”\n\n \n https://dehartcirkel.nl/event-menu/evenement/6-lezing-psy
 chosomatiek-henk-fransen
DTSTART:20190914T123000Z
DTEND:20190914T150000Z
LOCATION:Dorpshuis De Schulp (Visweg 45\, 1935 EB Egmond-Binnen)
SUMMARY:Lezing Psychosomatiek - Henk Fransen
URL:https://dehartcirkel.nl/event-menu/evenement/6-lezing-psychosomatiek-he
 nk-fransen
END:VEVENT
END:VCALENDAR
