BEGIN:VCALENDAR
VERSION:2.0
PRODID:-//https://dehartcirkel.nl///NONSGML kigkonsult.se iCalcreator 2.10.15//
METHOD:PUBLISH
BEGIN:VEVENT
UID:20260420T064130EDT-50090JWCgB@https://dehartcirkel.nl/
DTSTAMP:20260420T104130Z
DESCRIPTION:Thema van de Retraites: 'Jouw Voetsporen nalaten op Aarde'\n\nN
 a een hele periode van stilte zijn wij zeer verheugd je te vertellen dat w
 e deze zomer maar liefst vier maal een 3-daagse Retraite zullen organisere
 n op Centrum Venwoude. Rachel Koers zal deze retraite leiden vanuit haar b
 ijzondere gaven en haar unieke manier van werken. Haar eigen proces verlie
 p anders dan die van de 'gemiddelde mens'. Omdat hetgeen ze aanbiedt zich 
 niet zo gemakkelijk in woorden te pakken is\, is het wellicht een idee om 
 haar te leren kennen op de introductie-bijeenkomst die we aanbieden.\n\nDe
  eerste retraite in de reeks\, te weten op 7\, 8 en 9 Mei was direct uitve
 rkocht. Daarom hebben we ervoor gekozen in Juni\, Juli en Augustus ook een
  3-daagse aan te bieden!\n\nHoe kwam mijn ontmoeting met Rachel tot stand?
 \n\nIk\, Ilona\, heb Rachel vorig jaar - Augustus 2020 - leren kennen. Doo
 r een groep 'licht werkers' die zich bezighielden met helingswerk voor Moe
 der Aarde werd ik gevraagd om me aan te sluiten. Wat een feestje was dat o
 m al deze mooie zielen te leren kennen! Al vrij snel ontdekte ik het grote
  talent van deze bijzondere jonge vrouw van 43 jaar. We hebben elkaar weke
 lijks ontmoet en heb ik haar inmiddels zeer goed leren kennen. Omdat haar 
 talenten zo divers en breed zijn noem ik het multi dimensionaal 'werk'. \n
 \nVoor wie de boeken van Christina von Dreien kent\; Rachel is net als zij
  een vrouw met bijzondere gaven die in staat is om zeer transformatief wer
 k te doen met mensen die hiervoor openstaan. Haar taak is om 'Lichtwerkers
 ' in hun kracht te zetten. Onderstaande tekst - inclusief de opzet van de 
 3-daagse - komt niet van onszelf maar is gechannelde informatie. Voel maar
  of je ermee resoneert.\n\n'Deze 3-daagse is bedoeld voor diegene die er k
 laar voor is om zijn/haar laatste kleed af te leggen en in het levende wat
 er willen stappen. En als gevolg hiervan zul jij jouw voetsporen op Aarde 
 definitief achterlaten.\n\nMet de vele doorbraken\, welke zich tijdens dez
 e drie dagen zullen voltrekken\, zul je gesterkt naar huis gaan.'\n\nHet C
 entrum\n\nDe energie op Centrum Venwoude - gelegen midden in de bossen van
  Lage Vuursche - wordt gedragen en is daarom bij uitstek 'de plek' om deze
  Retraite te organiseren. Bij aankomst ontdek je direct hoe fijn deze plek
  is waar je onmiddellijk de stilte ervaart. Deze unieke locatie is nergens
  mee te vergelijken\, zelf kom ik er al zo'n 10 jaar. Het landgoed staat o
 p 16 hectare eigen grond en de drie zalen zijn helemaal natuurlijk. Neem s
 nel een kijkje op de website om deze prachtige plek te zien: www.venwoude.
 nl. \n\nVenwoude staat voor het bewust ontwikkelen en leren inzetten van j
 e eigen kracht en kwaliteiten\, vanuit betrokkenheid en afstemming op het 
 grotere geheel.\n\n\nInhoud programma\n\nUiteraard blijven de groepen klei
 n en kunnen we volledig voldoen aan alle wettelijke maatregelen. Geheel 'c
 orona proof' om het zo maar te zeggen.\n\nVrijdag\n\n10.00 uur - 12.00 uur
 : Aankomen op Venwoude met koffie/thee/lekkers en Acclimatiseren op het pr
 achtige landgoed.\n\n12.30 uur: Gezonde biologische lunch met o.a. salade\
 , soep & broodjes\n\n13.30: Terrein verkennen en wandeling maken met of zo
 nder begeleiding of gewoon lekker relaxen op het Landgoed.\n\n16.00: Kenni
 smaken met elkaar en uitleg over het weekeinde\n\n18.00: Diner en eigen be
 steding\n\n20.00: Welke intentie wil jij neerzetten voor dit weekend? Lekk
 er bij het kampvuur buiten. (dit onderdeel is niet verplicht\, gewoon aanw
 ezig zijn mag ook)\n\nWe starten op vrijdag heel rustig op omdat het van b
 elang is dat we tot rust komen en ons helemaal leeg kunnen maken voor het 
 Energetische werk van Zaterdag en Zondag.\n\nZaterdag\n\n8.00 en 9.15 uur:
  Ontbijt\n\n10.00 - 12.00 uur: Energetisch Werk met het Witte Licht en oph
 effen blokkades / schoonmaken van het Energie systeem\n\n12.30: Lunch\n\n1
 4.00 -17.00 uur: Lichaamsgericht werk met onder andere Yoga \n\nD.m.v. bew
 eging het lichaam losmaken zodat je goed in je lijf komt te zitten.\n\nWe 
 gaan vervolgens verder met ademhalingstechnieken waarbij je nog dieper in 
 jouw lijf komt. \n\nDan: Opschonen van blokkades met Energie werk.\n\n18.0
 0: Diner\n\n20.00 uur: Kringgesprek met de groep\, deels gechanneld.\n\n22
 .00 uur: Vrij bewegen (dansen) na afloop voor wie zin heeft!\n\nZondag\n\n
 8.00 en 9.15 uur: Ontbijt\n\n10.00 - 12.30 uur: Initiatie in de Aarde zett
 en. Oftewel\, Eigen intenties verankeren in de Aarde. \n\nDan zal het tij 
 keren. De laatste Mantel zul je ontdoen!\n\n13.00 uur: Uitgebreide warme l
 unch (hoeft je 's avonds niet meer warm te eten)\n\n14.00 tot ongeveer 16.
 00 uur: Deze middag biedt jou de gelegenheid om al je 'laatste' vragen te 
 kunnen stellen. Dit is op basis van een multi dimensionale channeling. We 
 sluiten de retraite op een mooie liefdevolle manier af. Dit onderdeel is g
 eheel vrijblijvend.\n\n\nInvestering\n\nJouw investering in deze all inclu
 sive 3-daagse Retraite is 505 euro in totaal als je kiest voor een 1 perso
 onskamer op het grote landgoed.  (50\,00 euro per nacht is het aandeel van
  je kamer inclusief toeristen belasting). \n\nVoor het totaal bedrag heb j
 e onbeperkt koffie/thee/water en fruit & alle biologische gezonde maaltijd
 en en slapen in de stilte van de natuur. \n\n(Van het totaal bedrag is de 
 investering in Venwoude 400 euro)\n\nKamperen\n\nJe kunt het een stukje go
 edkoper maken door te kamperen. Of een kampeerbus neerzetten mag ook! (17\
 ,28 euro per nacht) - 440 euro totaal\n\nDelen van een 2-persoons kamer\n
 \nSamen een kamer delen kost 39\,08 euro per nacht. Totaalprijs Retraite i
 s dan: 485 euro\n\nMocht je nog vragen hebben bel of mail gerust. Definiti
 eve opgave door mij (Ilona) een mail te sturen en je ontvangt dan nadere i
 nformatie. De voorwaarden zoals deze staan op de website van de Hartcirkel
  zijn van toepassing op deze 3-daagse Retraite.\n\nDit bedrag kan worden o
 vergemaakt op rekeningnr.  NL44 INGB 0796 8731 43\, H.J. Borst\, onder ver
 melding van: Rachel Koers.\n\nData:\n\n11\, 12 en 13 Juni\n\n2\, 3 en 4 Ju
 li\n\n30\, 31 Augustus t/m 1 September\n\nVoor diegene die het werk van Ra
 chel willen leren kennen alvorens een Retraite te boeken. Op 11 April is e
 r een kennismakingsmiddag met haar in Centrum Soulbalance te Broek op Lang
 edijk. Nader informatie volgt snel.\n\n https://dehartcirkel.nl/event-menu
 /evenement/59-3-daagse-retraite-jouw-voetsporen-nalaten-op-aarde-rachel-ko
 ers-centrum-venwoude-juli
DTSTART:20210702T080000Z
DTEND:20210704T140000Z
LOCATION:Retraite Centrum Venwoude (Vuurse Steeg 1\, 3749 AN Lage Vuursche\
 , Nederland)
SUMMARY:3 daagse Retraite: 'Jouw Voetsporen nalaten op Aarde' ~ Rachel Koer
 s  - Centrum Venwoude juli
URL:https://dehartcirkel.nl/event-menu/evenement/59-3-daagse-retraite-jouw-
 voetsporen-nalaten-op-aarde-rachel-koers-centrum-venwoude-juli
END:VEVENT
END:VCALENDAR
