BEGIN:VCALENDAR
VERSION:2.0
PRODID:-//https://dehartcirkel.nl///NONSGML kigkonsult.se iCalcreator 2.10.15//
METHOD:PUBLISH
BEGIN:VEVENT
UID:20260420T081141EDT-2056C1cu9V@https://dehartcirkel.nl/
DTSTAMP:20260420T121141Z
DESCRIPTION:Staande blijven in woelige tijden\n\nBlijven geloven in jezelf
 \n\nBlijven geloven in een mooie wereld\n\nJe blijven verbinden met andere
 n\n\nAl deze zaken komen aan bod op deze bijzondere middag. Er wordt een c
 hanneling gegeven over de afgelopen maanden\, het heden en de nabije toeko
 mst en wat die voor jou in petto heeft.\n\nDeze bezinningsmiddag heeft ook
  een actief karakter. Wij zullen een ritueel doen op een sjamanistische ci
 rkel\, om het licht toe te laten in ons leven (het is de op twee na kortst
 e dag de 19e) en om uit te spreken wat jij graag wilt in je leven voor het
  komende jaar.\n\nAls er tijd is\, kunnen er ook nog persoonlijke vragen w
 orden gesteld waar Dorien een gechanneld antwoord op geeft.\n\nJe bent van
  HARTe welkom!\n\nDorien is een begaafd medium die al ruim 20 jaar met gro
 ot gemak klaterheldere\, wijze en opbeurende boodschappen 'van de andere k
 ant' doorgeeft.\n\nZe is de auteur van twee hele waardevolle boeken: ‘ Lie
 fde voor jezelf’ en 'Verlicht je leven'.  Haar consulten (doorgevingen) di
 e ze individueel geeft\, zijn van een hoog en zeer 'çoncreet' niveau\, waa
 rdoor al heel veel mensen nieuwe richting\, inspiratie en soms ook broodno
 dige troost en verzoening hebben gevonden. Deze zijn beschikbaar bij deze 
 lezing.\n\nMEER INFORMATIE: \n\nMeer informatie over Dorien en haar boeken
  ‘Liefde voor Jezelf’ en ‘Verlicht je leven’ kun je vinden op haar website
 : www.berichtenvanboven.nl. Je kunt je daar ook abonneren op de gratis Nie
 uwsbrief die elke maand een gechanneld bericht over actuele zaken bevat.\n
 \nWanneer?\nOp zaterdagmiddag 19 december 2020\nTijdstip: 13:00 uur tot 17
 :00 uur (zaal open om 12:30 uur)\nLocatie: Dorpshuis De Schulp\, Visweg 45
 \, 1935 EB Egmond-Binnen\nHeerlijke lichte zaal en volop gratis parkeerple
 kken\, rechts en links van het gebouw!\nVergoeding: 30 euro (vermeld duide
 lijk jouw naam bij de betaling)\n\nDit bedrag kan worden overgemaakt op re
 keningnr.  NL44 INGB 0796 8731 43\, H.J. Borst\, onder vermelding van: Dor
 ien Hoogerheide.\n https://dehartcirkel.nl/event-menu/evenement/57-lezing-
 de-terugkeer-van-het-licht-bezinningsmiddag-door-dorien-hoogerheide
DTSTART:20201219T120000Z
DTEND:20201219T160000Z
LOCATION:Dorpshuis De Schulp (Visweg 45\, 1935 EB Egmond-Binnen)
SUMMARY:Lezing: DE TERUGKEER VAN HET LICHT  Bezinningsmiddag door Dorien Ho
 ogerheide
URL:https://dehartcirkel.nl/event-menu/evenement/57-lezing-de-terugkeer-van
 -het-licht-bezinningsmiddag-door-dorien-hoogerheide
END:VEVENT
END:VCALENDAR
