BEGIN:VCALENDAR
VERSION:2.0
PRODID:-//https://dehartcirkel.nl///NONSGML kigkonsult.se iCalcreator 2.10.15//
METHOD:PUBLISH
BEGIN:VEVENT
UID:20260420T080301EDT-9237zH6gbx@https://dehartcirkel.nl/
DTSTAMP:20260420T120301Z
DESCRIPTION:Wie op internet naar de betekenis van graancirkels zoekt\, word
 t naast enkele verbluffende inzichten al gauw overspoeld met theorieën die
  te wensen over laten\; algemeenheden en heel veel verwarring of vaak ook 
 klinkklare nonsens. In deze workshop  - Graancirkels Interpreteren - leer 
 je aan de hand van een zelf uitgekozen graancirkel te ontdekken wat er zoa
 l aan informatie te vinden is achter het intrigerende ontwerp.\n\nKunstena
 ar Randell\, die de beeldtaal van graancirkels tot zijn specialiteit heeft
  gemaakt\, zal aan de hand van een inleidende diapresentatie uitleggen hoe
  één en ander in z'n werk gaat. Aan de hand van een lijst met interpretati
 e bevorderende tools ga je vervolgens zelf aan de slag met de graancirkel 
 die je persoonlijk aanspreekt. In de daaropvolgende ronde is het de bedoel
 ing om in gezamenlijkheid kritisch te reflecteren op ontstane interpretati
 es om zo nog dieper door te dringen in de geheimen van het betreffende zeg
 el of ontwerp.\n\nVan het graancirkelfenomeen in z'n algemeenheid kan men 
 zeggen dat het veel te maken heeft met bevordering van bewustwording ten a
 anzien van een toenemende crisis in de ontwikkeling van de mensheid. Het f
 enomeen blijkt (vaak op paranormale wijze) aan te sturen op een co-creatie
 f proces voor wie maar geïnteresseerd is en biedt wonderlijke invalshoeken
  of oplossingen voor tal van lastige hedendaagse vraagstukken.\n\n\n\nRand
 ell heeft een speciale selectie gemaakt van gewasformaties die nauw kunnen
  samenhangen met de huidige wereldcrisis die naar aanleiding van het coron
 avirus in gang is gezet. Hoewel het vrijstaat om met andere gewasformaties
  te werken hoopt hij dat er nadruk gelegd gaat worden op wat ons in deze v
 erwarrende tijden te doen staat.\n\nWie is deze spreker?\n\nRandell is als
  kunstenaar gepokt en gemazeld in de wereld van de beeldtaal\, hetgeen hem
  een zekere autoriteit verleent wat de analyses van de graancirkels betref
 t. Deze analyses zijn opvallend nauwgezet en kritisch voor iemand die de e
 soterische of spirituele zielsverwantschap met het graancirkelfenomeen bel
 angrijker acht. Misschien is het juist het scherpe onderscheidingsvermogen
  in combinatie met zijn geestelijke intuïtie en rijke ervaringen\, waardoo
 r hij relatief gemakkelijk de 'geheime' betekenissen van graancirkels kan 
 ontrafelen.\n\nVoor meer informatie over deze spreker: www.randell.nl\n\nK
 ijk eventueel ook op: www.cropcircleuniversity.com\n\n\nWanneer: Op zaterd
 ag 28 november 2020. Tijdstip: 11:00 uur tot 17 uur\, 10:30 inloop.\nLocat
 ie: Dorpshuis De Schulp\, Visweg 45\, 1935 EB Egmond-Binnen\nHeerlijke lic
 hte zaal en volop gratis parkeerplekken\, rechts en links van het gebouw!
 \nVergoeding: 49.00 euro   \n\nZelf lunch meenemen of een betaalbare lunch
  te verkrijgen. (soep en tosti)\n\nDit bedrag kan worden overgemaakt op re
 keningnr. NL44 INGB 0796 8731 43\, H.J. Borst\, onder vermelding van: Rand
 ell\n\n\n \n https://dehartcirkel.nl/event-menu/evenement/56-workshop-graa
 ncirkels-interpreteren-randell
DTSTART:20201128T100000Z
DTEND:20201128T160000Z
LOCATION:Dorpshuis De Schulp (Visweg 45\, 1935 EB Egmond-Binnen)
SUMMARY:Workshop Graancirkels Interpreteren ~ Randell
URL:https://dehartcirkel.nl/event-menu/evenement/56-workshop-graancirkels-i
 nterpreteren-randell
END:VEVENT
END:VCALENDAR
