BEGIN:VCALENDAR
VERSION:2.0
PRODID:-//https://dehartcirkel.nl///NONSGML kigkonsult.se iCalcreator 2.10.15//
METHOD:PUBLISH
BEGIN:VEVENT
UID:20260420T102901EDT-2904rkjubH@https://dehartcirkel.nl/
DTSTAMP:20260420T142901Z
DESCRIPTION:Living Truth ~ Healing from The Heart \n\nKom en doe mee als je
  wilt ervaren wat ontspannen is op een heel diep niveau. We hebben weer de
 zelfde prachtige plek geboekt: dichtbij de natuur – rust en stilte – en ma
 kkelijk (gratis) parkeren. Ook als jij fysieke of geestelijke uitdagingen 
 hebt dan kun je bij dit weekend veel baat hebben. \n\nWees welkom!\n\nWEEK
 END Healing Satsang met Yessica\n\n21 en 22 november ipv 3 & 4 oktober\n\n
 We zullen het weekend starten op zaterdagochtend om 10 uur (inloop vanaf 9
 .30 uur) en we eindigen de zaterdag rond 21.15 uur. Op zondag starten we o
 ok weer in de ochtend en het programma zal rond 18 uur eindigen.\n\n\n\nHo
 e kunnen we met elkaar in waarheid rusten en ontdekken wie we werkelijk zi
 jn?\n\nSamen diep kijken naar hoe het leven zich ontvouwt\, inclusief alle
  belemmerende gewoontepatronen\, elkaar in waarheid ontmoeten en vrijheid 
 & heling vinden? \n\nIndien leven als onvoorwaardelijke liefde en compassi
 e jouw interesse heeft\, dan ben je van Harte uitgenodigd bij deze weekend
  intensive.\nSamen Rusten in Zijn en de diepste lagen van de menselijke wo
 rsteling tot rust te laten komen\, dat is onze uitnodiging.\n\nDe Satsang 
 sessies met Yessica zijn in het – inmiddels voor velen bekende – format va
 n geleide meditatie\, diepe ontspanning en interactief Zelf-onderzoek.\n\n
 Het samen diep kijken naar en helen van de pijn achter belemmerende gewoon
 tepatronen en het samen luisteren naar De Stilte achter de Geluiden van He
 t Leven. Hierin herkennen we onze Ware Aard.\n\n‘Het gaat er simpelweg om\
 , om aanwezig te zijn met wat er NU is. Pijn\, berouw\, twijfels\, verlang
 ens\, angsten\, boosheid: het zijn in wezen geen fouten. Ze vragen – ten d
 iepste – niet om geheeld te worden… want het ware Zelf is al heel! Wat het
  ‘nodig’ heeft is om omarmd te worden. Hier\, nu\, zacht en in de liefdevo
 lle aanwezigheid van bewustzijn.’\n\n\nOver Yessica\n\nYessica faciliteert
  ontmoetingen in de traditie van Satsang\, het Samen Zijn in\, en onderzoe
 ken van Waarheid. Haar pad van spiritueel ontwaken liep voornamelijk via S
 ri Nisargadatta Maharaj\, Gangaji\, en Mooji in de traditie van Sri Ramana
  Maharshi en Sri H.W.L. Poonja (beter bekend als Papaji)\, de bekende Indi
 ase leermeesters in de traditie van non-dualiteit.\n\nDe unieke combinatie
  met vormen van trauma-heling zoals geleerd van Brandon Bays (The Journey)
  en Isaac Shapiro\, ook een leerling van Papaji\, maken haar open avond me
 etings\, helende dagworkshops\, weekend intensives en retraites een bijzon
 dere variatie op traditionele Satsang.\nWebsite: Healing Satsang\n\n\nTest
 imonials van deelnemers aan zondag workshops en intensive weekend:\n\n\n'L
 ieve Yessica\, ik wil graag vertellen hoe bijzonder ik de intensive vond! 
 Precies de uitdrukking van waar jij zo begaafd in bent... een heel diep in
 tieme sfeer creëren waarin mensen veel van zichzelf laten zien en bereid z
 ijn diep te kijken in hun problematiek. Dit is hoe jij mensen op een diepe
 r begrijpen brengt. Dank!'\n\n\n\n“Lieve Yessica\, je hebt een unieke mani
 er om mensen tot Het Zelf te brengen! Dank je wel!'\n\n\n\n“Beste Yessica\
 , ik wil je laten weten dat je een rem in mij hebt losgemaakt waar ik al h
 eel mijn leven last van heb gehad! Dank je wel!'\n\n\n\nDit geheel verzorg
 de weekend (inclusief 2x gezonde lunch\, 1x overheerlijke diner\, koffie/t
 hee/fris/fruit en lekkers) bieden we aan voor 225 euro.\n\nLosse dagen kun
  je deze keer ook boeken. Alleen de zaterdag meedoen kost 140 euro. (met l
 unch en diner)\n\nDe zondag - ook 3 blokken Satsang - kun je meedoen voor 
 120 euro. (met lunch) \n\nVoor koppels is deze intensive ook zeer aan te r
 aden om samen naar diepe relatiepatronen te kijken en hebben we een specia
 le 'koppel-prijs' €375 p/paar.\n\nZoom bijeenkomst: weekend voor 195 euro.
  Losse dagen te boeken voor 110 euro.\n\nDe maaltijden zijn zoveel mogelij
 k biologisch en vegetarisch. Bovendien hebben we een team van drie onderst
 euners.\n\nWe hebben bed and breakfast contacten al vanaf 25 euro per nach
 t. Natuurlijk kun je ook gewoon lekker thuis slapen als je in de buurt woo
 nt.\n\nOmdat we het kleinschalig en intiem willen houden\, zijn er een bep
 erkt aantal plekken beschikbaar!  \n\nLocatie:\nSoulBalance\nVreekesweid 1
 \n1721PP Broek op Langedijk\nSoulBalance.nl\n\n\n* Het bedrag kan worden o
 vergemaakt op rekeningnr. NL44 INGB 0796 8731 43\, H.J. Borst\, onder verm
 elding van: “Healing Satsang met Yessica”\n\n https://dehartcirkel.nl/even
 t-menu/evenement/54-weekend-healing-satsang-met-yessica-op-21-en-22-novemb
 er-2020-verschoven
DTSTART:20201121T090000Z
DTEND:20201122T170000Z
LOCATION:SoulBalance (Vreekesweid 1 1721PP Broek op Langedijk)
SUMMARY:WEEKEND 'Healing Satsang' met Yessica  op 21 en 22 november\, 2020 
 (verschoven)
URL:https://dehartcirkel.nl/event-menu/evenement/54-weekend-healing-satsang
 -met-yessica-op-21-en-22-november-2020-verschoven
END:VEVENT
END:VCALENDAR
