BEGIN:VCALENDAR
VERSION:2.0
PRODID:-//https://dehartcirkel.nl///NONSGML kigkonsult.se iCalcreator 2.10.15//
METHOD:PUBLISH
BEGIN:VEVENT
UID:20260420T081315EDT-1467Lcv1Ds@https://dehartcirkel.nl/
DTSTAMP:20260420T121315Z
DESCRIPTION:Trainer: Aad Orgelist\, Natuurgeneeskundig Therapeut\n\n\nIeder
 een heeft een ander lichaamsgestel. Sommigen roken hun leven lang en krijg
 en geen longkanker\, terwijl anderen nog nooit een sigaret hebben aangeraa
 kt en wel die ziekte krijgen. Er zijn personen die leven erop los en worde
 n heel oud en er zijn mensen die heel bewust leven en hun pensionering nie
 t halen. Erfelijkheid\, constitutie\, psychische problemen door langdurige
  emoties en de sociale en maatschappelijke omgeving verklaren veel over he
 t fysieke gestel en de geestkracht van elk mens. \n\nDaarom is de kennis v
 an de ‘pathologie van het gezicht’ een onmisbaar instrument voor het herke
 nnen van gezondheidsproblemen. Het bijzondere van deze kennis is dat gezon
 dheidsproblemen en -klachten direct van het gezicht kunnen worden gelezen.
  In feite is het gelaat een open boek waarin de gesteldheid van onze organ
 en is af te lezen. Onverwerkte emoties en gezondheidsproblemen tekenen zic
 h na verloop van tijd af op het gezicht en krassen die als het ware in het
  gelaat. Uiteraard vergt dit enige oefening om dit te herkennen. Deze work
 shop geeft inzicht welke geheimen er in je gelaat verborgen liggen en zal 
 eenieder aanspreken die is geïnteresseerd in zijn eigen gezondheidsprevent
 ie of werkzaam is in de zorgsector. Denk aan artsen\, therapeuten\, diëtis
 ten etc.\n\nAad Orgelist studeerde HTS weg- en waterbouw en HTS bedrijfsec
 onomie en heeft gewerkt in de ruimtelijke ordening en de transport en logi
 stieke sector\, als adviseur\, manager en zelfstandig ondernemer. Die erva
 ringen hebben hem een kritische kijk gegeven op het functioneren van onze 
 maatschappij. \nHet plotselinge overlijden van zijn jongste dochter verste
 rkte bij hem het innerlijke weten en was aanleiding om een omslag te maken
  naar de natuurgeneeskunde. Sinds 2009 heeft hij een praktijk als natuurge
 neeskundig therapeut en hypnotherapeut. \n\nAls auteur van diverse boeken 
 zijn de thema’s maatschappij\, zingeving\, levensbeschouwing en rouwverwer
 king sterk met elkaar vervlochten. Zijn talent als schrijver en kunstschil
 der stellen hem ook in staat om de kennis van de ‘pathologie van het gezic
 ht’ op heldere\, duidelijke en inzichtelijke wijze over te brengen in zijn
  vierde en nieuwste boek: ‘Je gezicht als spiegel van je gezondheid’\, dat
  volgens planning in september a.s. op de markt wordt gebracht.\n\n \n\n\n
 Wanneer: Op zaterdag 24 oktober 2020. Tijdstip: 10:00 uur tot 16 uur\nLoca
 tie: Dorpshuis De Schulp\, Visweg 45\, 1935 EB Egmond-Binnen\nHeerlijke li
 chte zaal en volop gratis parkeerplekken\, rechts en links van het gebouw!
 \nVergoeding: 75.00 euro   \n\nZelf lunch meenemen of een betaalbare lunch
  te verkrijgen. (soep en tosti)\n\nDit bedrag kan worden overgemaakt op re
 keningnr. NL44 INGB 0796 8731 43\, H.J. Borst\, onder vermelding van: Aad 
 Orgelist.\n\n https://dehartcirkel.nl/event-menu/evenement/53-geannuleerd-
 nader-datum-volgt-spoedig-workshop-je-gezicht-als-spiegel-van-je-gezondhei
 d-een-diagnose-van-je-vitaliteit-aad-orgelist
DTSTART:20210123T090000Z
DTEND:20210123T150000Z
LOCATION:Dorpshuis De Schulp (Visweg 45\, 1935 EB Egmond-Binnen)
SUMMARY:Geannuleerd - nader datum volgt spoedig WORKSHOP: ‘Je gezicht als s
 piegel van je gezondheid’  Een diagnose van je vitaliteit - Aad Orgelist
URL:https://dehartcirkel.nl/event-menu/evenement/53-geannuleerd-nader-datum
 -volgt-spoedig-workshop-je-gezicht-als-spiegel-van-je-gezondheid-een-diagn
 ose-van-je-vitaliteit-aad-orgelist
END:VEVENT
END:VCALENDAR
