BEGIN:VCALENDAR
VERSION:2.0
PRODID:-//https://dehartcirkel.nl///NONSGML kigkonsult.se iCalcreator 2.10.15//
METHOD:PUBLISH
BEGIN:VEVENT
UID:20260420T062703EDT-4709wFavEv@https://dehartcirkel.nl/
DTSTAMP:20260420T102703Z
DESCRIPTION:Living Truth ~ Healing from The Heart \n\nIn juni hebben we wee
 r een Healing Satsang weekend met Yessica gepland staan! Kom gezellig meed
 oen als je wilt ervaren wat ontspannen is op een heel diep niveau.\n\nWe h
 ebben weer dezelfde prachtige plek geboekt: dichtbij de natuur – rust en s
 tilte – en makkelijk (gratis) parkeren. Ook als jij fysieke of geestelijke
  uitdagingen hebt dan kun je bij dit weekend veel baat hebben. \n\nWees we
 lkom!\n\nWEEKEND Healing Satsang met Yessica\n\n27 & 28 juni\n\nWe zullen 
 het weekend starten op zaterdagochtend om 10 uur (inloop vanaf 9.30 uur) e
 n we eindigen de zaterdag rond 21.15 uur. Op zondag starten we ook weer in
  de ochtend en het programma zal rond 18 uur eindigen.\n\n\n\nHoe kunnen w
 e met elkaar in waarheid rusten en ontdekken wie we werkelijk zijn?\n\nSam
 en diep kijken naar hoe het leven zich ontvouwt\, inclusief alle belemmere
 nde gewoontepatronen\, elkaar in waarheid ontmoeten en vrijheid & heling v
 inden? \n\nIndien leven als onvoorwaardelijke liefde en compassie jouw int
 eresse heeft\, dan ben je van Harte uitgenodigd bij deze weekend intensive
 .\nSamen Rusten in Zijn en de diepste lagen van de menselijke worsteling t
 ot rust te laten komen\, dat is onze uitnodiging.\n\nDe Satsang sessies me
 t Yessica zijn in het – inmiddels voor velen bekende – format van geleide 
 meditatie\, diepe ontspanning en inter-actief Zelf-onderzoek.\n\nHet samen
  diep kijken naar en helen van de pijn achter belemmerende gewoontepatrone
 n en het samen luisteren naar De Stilte achter de Geluiden van Het Leven. 
 Hierin herkennen we onze Ware Aard.\n\n‘Het gaat er simpelweg om\, om aanw
 ezig te zijn met wat er NU is. Pijn\, berouw\, twijfels\, verlangens\, ang
 sten\, boosheid: het zijn in wezen geen fouten. Ze vragen – ten diepste – 
 niet om geheeld te worden… want het ware Zelf is al heel! Wat het ‘nodig’ 
 heeft is om omarmd te worden. Hier\, nu\, zacht en in de liefdevolle aanwe
 zigheid van bewustzijn.’\n\n\nOver Yessica\n\nYessica fasciliteert ontmoet
 ingen in de traditie van Satsang\, het Samen Zijn in\, en onderzoeken van 
 Waarheid.\nHaar pad van spiritueel ontwaken liep voornamelijk via Sri Nisa
 rgadatta Maharaj\, Gangaji\, en Mooji in de traditie van Sri Ramana Mahars
 hi en Sri H.W.L. Poonja (beter bekend als Papaji)\, de bekende Indiase lee
 rmeesters in de traditie van non-dualiteit.\n\nDe unieke combinatie met vo
 rmen van trauma-heling zoals geleerd van Brandon Bays (The Journey) en Isa
 ac Shapiro\, ook een leerling van Papaji\, maken haar open avond meetings\
 , helende dagworkshops\, weekend intensives en retraites een bijzondere va
 riatie op traditionele Satsang.\nWebsite: Healing Satsang\n\n\nTestimonial
 s van deelnemers aan zondag workshops en intensive weekend:\n\n\n'Lieve Ye
 ssica\, ik wil graag vertellen hoe bijzonder ik de intensive vond! Precies
  de uitdrukking van waar jij zo begaafd in bent... een heel diep intieme s
 feer creëren waarin mensen veel van zichzelf laten zien en bereid zijn die
 p te kijken in hun problematiek. Dit is hoe jij mensen op een dieper begri
 jpen brengt. Dank!'\n\n\n\n“Lieve Yessica\, je hebt een unieke manier om m
 ensen tot Het Zelf te brengen! Dank je wel!'\n\n\n\n“Beste Yessica\, ik wi
 l je laten weten dat je een rem in mij hebt losgemaakt waar ik al heel mij
 n leven last van heb gehad! Dank je wel!'\n\n\n\nDit geheel verzorgde week
 end (inclusief 2x gezonde lunch\, 1x overheerlijke diner\, koffie/thee/fri
 s/fruit en lekkers) bieden we aan voor 225 euro.\n\nVoor koppels is deze i
 ntensive ook zeer aan te raden om samen naar diepe relatiepatronen te kijk
 en en hebben we een speciale 'koppel-prijs' €375 p/paar.\n\nDe maaltijden 
 zijn zoveel mogelijk biologisch en vegetarisch. Bovendien hebben we een te
 am van drie ondersteuners.\n\nWe hebben bed and breakfast contacten al van
 af 25 euro per nacht. Natuurlijk kun je ook gewoon lekker thuis slapen als
  je in de buurt woont.\n\nOmdat we het kleinschalig en intiem willen houde
 n\, zijn er een beperkt aantal plekken beschikbaar!  \n\n \n\nLocatie:\nSo
 ulBalance\nVreekesweid 1\n1721PP Broek op Langedijk\nSoulBalance.nl\n\n\n*
  Het bedrag kan worden overgemaakt op rekeningnr. NL44 INGB 0796 8731 43\,
  H.J. Borst\, onder vermelding van: “Healing Satsang met Yessica”\n\n http
 s://dehartcirkel.nl/event-menu/evenement/51-weekend-healing-satsang-met-ye
 ssica-op-27-en-28-juni-2020
DTSTART:20200627T080000Z
DTEND:20200628T160000Z
LOCATION:SoulBalance (Vreekesweid 1 1721PP Broek op Langedijk)
SUMMARY:WEEKEND 'Healing Satsang' met Yessica  op 27 en 28 Juni 2020
URL:https://dehartcirkel.nl/event-menu/evenement/51-weekend-healing-satsang
 -met-yessica-op-27-en-28-juni-2020
END:VEVENT
END:VCALENDAR
