BEGIN:VCALENDAR
VERSION:2.0
PRODID:-//https://dehartcirkel.nl///NONSGML kigkonsult.se iCalcreator 2.10.15//
METHOD:PUBLISH
BEGIN:VEVENT
UID:20260422T044708EDT-9385wod08M@https://dehartcirkel.nl/
DTSTAMP:20260422T084708Z
DESCRIPTION:Wij hopen van harte dat op het moment dat deze informatiemiddag
  plaatsvindt\, de Corona crisis op zijn retour is. Hoe dan ook\, het is we
 llicht interessant om te horen hoe de Bovenwereld tegen deze tijd aankijkt
  en dat wij antwoorden krijgen op belangrijke vragen\, zoals:\n\n\n	Was di
 t gepland door Boven?\n	Wat kunnen de hemelse heerscharen voor ons beteken
 en en wat ‘doen’ zij werkelijk?\n	Wat moet de mensheid leren van deze were
 ldwijde crisis?\n	Wat betekent het voor het individu?\n\n\nOp al deze vrag
 en wordt antwoord gegeven tijdens de algemene channeling van Dorien Hooger
 heide.\n\nNa de pauze is er gelegenheid om je eigen persoonlijke vragen te
  stellen. Eerst over het onderwerp en als er tijd over is\, mogen er ook a
 ndere persoonlijke vragen gesteld worden. We kijken er naar uit jullie te 
 mogen ontvangen!\n\nMet hartelijke groet wensen we jullie gezondheid\, lie
 fde en licht toe.\n\n \n\nDorien is een begaafd medium die al ruim 20 jaar
  met groot gemak klaterheldere\, wijze en opbeurende boodschappen 'van de 
 andere kant' doorgeeft.\n\nZe is de auteur van twee hele waardevolle boeke
 n: ‘ Liefde voor jezelf’ en 'Verlicht je leven'.  Haar consulten (doorgevi
 ngen) die ze individueel geeft\, zijn van een hoog en zeer 'çoncreet' nive
 au\, waardoor al heel veel mensen nieuwe richting\, inspiratie en soms ook
  broodnodige troost en verzoening hebben gevonden.\n\n \n\n \n\nom je vrag
 en te stellen die met het onderwerp 'Innerlijke Kracht' te maken hebben.\n
 \nJe bent van HARTe welkom!\n\nMEER INFORMATIE: \n\nMeer informatie over D
 orien en haar boeken ‘Liefde voor Jezelf’ en ‘Verlicht je leven’ kun je vi
 nden op haar website: www.berichtenvanboven.nl. Je kunt je daar ook abonne
 ren op de gratis Nieuwsbrief die elke maand een gechanneld bericht over ac
 tuele zaken bevat.\n\nWanneer?\nOp zaterdagmiddag 2 mei 2020\nTijdstip: 14
 :30 uur tot 17 uur (zaal open om 14:00 uur)\nLocatie: Dorpshuis De Schulp\
 , Visweg 45\, 1935 EB Egmond-Binnen\nHeerlijke lichte zaal en volop gratis
  parkeerplekken\, rechts en links van het gebouw!\nVergoeding: 15 euro \n
 \nDit bedrag kan worden overgemaakt op rekeningnr. NL44 INGB 0796 8731 43\
 , H.J. Borst\, onder vermelding van: Dorien Hoogerheide.\n https://dehartc
 irkel.nl/event-menu/evenement/50-lezing-wat-hebben-we-geleerd-van-de-coron
 a-crisis-en-hoe-nu-verder-de-bovenwereld-geeft-antwoord
DTSTART:20200502T123000Z
DTEND:20200502T150000Z
LOCATION:Dorpshuis De Schulp (Visweg 45\, 1935 EB Egmond-Binnen)
SUMMARY:Lezing: Wat hebben we geleerd van de Corona crisis en hoe nu verder
 ?  De Bovenwereld geeft antwoord 
URL:https://dehartcirkel.nl/event-menu/evenement/50-lezing-wat-hebben-we-ge
 leerd-van-de-corona-crisis-en-hoe-nu-verder-de-bovenwereld-geeft-antwoord
END:VEVENT
END:VCALENDAR
