BEGIN:VCALENDAR
VERSION:2.0
PRODID:-//https://dehartcirkel.nl///NONSGML kigkonsult.se iCalcreator 2.10.15//
METHOD:PUBLISH
BEGIN:VEVENT
UID:20260420T063543EDT-4068vuk7cr@https://dehartcirkel.nl/
DTSTAMP:20260420T103543Z
DESCRIPTION:Living Truth ~ Healing from The Heart \n\nGezien de zeer enthou
 siaste reacties op de laatste Intensive in Juni.... hebben we ook voor de 
 maand Augustus een Satsang weekend met Yessica gepland staan!\n\nWEEKEND I
 NTENSIVE met Yessica\n\n31 augustus en 1 september\n\nWe zullen het weeken
 d starten op zaterdagochtend om 10 uur (inloop vanaf 9.30 uur) en we eindi
 gen de zaterdag rond 21.15 uur. Op zondag starten we ook weer in de ochten
 d en het programma zal rond 18 uur eindigen.\n\nWe hebben weer dezelfde pr
 achtige plek geboekt: dichtbij de natuur – rust en stilte – en makkelijk (
 gratis) parkeren. Ook als jij fysieke of geestelijke uitdagingen hebt dan 
 kun je bij dit weekend veel baat hebben. \n\nWees welkom!\n\nHoe kunnen we
  met elkaar in waarheid rusten en ontdekken wie we werkelijk zijn?\n\nSame
 n diep kijken naar hoe het leven zich ontvouwt\, inclusief alle belemmeren
 de gewoontepatronen\, elkaar in waarheid ontmoeten en vrijheid & heling vi
 nden? \n\nIndien leven als onvoorwaardelijke liefde en compassie jouw inte
 resse heeft\, dan ben je van Harte uitgenodigd bij deze weekend intensive.
 \nSamen Rusten in Zijn en de diepste lagen van de menselijke worsteling to
 t rust te laten komen\, dat is onze uitnodiging.\n\nDe Satsang sessies met
  Yessica zijn in het – inmiddels voor velen bekende – format van geleide m
 editatie\, diepe ontspanning en inter-actief Zelf-onderzoek.\n\nHet samen 
 diep kijken naar en helen van de pijn achter belemmerende gewoontepatronen
  en het samen luisteren naar De Stilte achter de Geluiden van Het Leven. H
 ierin herkennen we onze Ware Aard.\n\n‘Het gaat er simpelweg om\, om aanwe
 zig te zijn met wat er NU is. Pijn\, berouw\, twijfels\, verlangens\, angs
 ten\, boosheid: het zijn in wezen geen fouten. Ze vragen – ten diepste – n
 iet om geheeld te worden… want het ware Zelf is al heel! Wat het ‘nodig’ h
 eeft is om omarmd te worden. Hier\, nu\, zacht en in de liefdevolle aanwez
 igheid van bewustzijn.’\n\n\nOver Yessica\n\nYessica fasciliteert ontmoeti
 ngen in de traditie van Satsang\, het Samen Zijn in\, en onderzoeken van W
 aarheid.\nHaar pad van spiritueel ontwaken liep voornamelijk via Sri Nisar
 gadatta Maharaj\, Gangaji\, en Mooji in de traditie van Sri Ramana Maharsh
 i en Sri H.W.L. Poonja (beter bekend als Papaji)\, de bekende Indiase leer
 meesters in de traditie van non-dualiteit.\n\nDe unieke combinatie met vor
 men van trauma-heling zoals geleerd van Brandon Bays (The Journey) en Isaa
 c Shapiro\, ook een leerling van Papaji\, maken haar open avond meetings\,
  helende dagworkshops\, weekend intensives en retraites een bijzondere var
 iatie op traditionele Satsang.\nWebsite: Wealthy Emptiness\n\n\nTestimonia
 ls van deelnemers aan zondag workshops en intensive weekend:\n\n\n'Lieve Y
 essica\, ik wil graag vertellen hoe bijzonder ik de intensive vond! Precie
 s de uitdrukking van waar jij zo begaafd in bent... een heel diep intieme 
 sfeer creëren waarin mensen veel van zichzelf laten zien en bereid zijn di
 ep te kijken in hun problematiek. Dit is hoe jij mensen op een dieper begr
 ijpen brengt. Dank!'\n\n\n\n“Lieve Yessica\, je hebt een unieke manier om 
 mensen tot Het Zelf te brengen! Dank je wel!'\n\n\n\n“Beste Yessica\, ik w
 il je laten weten dat je een rem in mij hebt losgemaakt waar ik al heel mi
 jn leven last van heb gehad! Dank je wel!'\n\n\n\nDit geheel verzorgde wee
 kend (inclusief 1x avondeten en 2 x lunch\, koffie/thee/fris/fruit en lekk
 ers) bieden we aan voor 170 euro voor de Early birds tot 1 augustus\, daar
 na 185 euro.\n\nDe maaltijden zijn zoveel mogelijk biologisch en vegetaris
 ch.\nBovendien hebben we een team van drie ondersteuners.\n\nWe hebben bed
  and breakfast contacten al vanaf 30 euro per nacht. Natuurlijk kun je ook
  gewoon lekker thuis slapen als je in de buurt woont.\n\nOmdat we het klei
 nschalig en intiem willen houden\, zijn er een beperkt aantal plekken besc
 hikbaar!  \n\nLocatie:\nSoulBalance\nVreekesweid 1\n1721PP Broek op Langed
 ijk\nSoulBalance.nl\n\n\n* Het bedrag kan worden overgemaakt op rekeningnr
 . NL37 RABO 0327 7053 53\, H.J. Borst\, onder vermelding van: “Satsang met
  Yessica”\n\n https://dehartcirkel.nl/event-menu/evenement/5-weekend-inten
 sive-met-yessica
DTSTART:20190831T080000Z
DTEND:20190901T160000Z
LOCATION:SoulBalance (Vreekesweid 1 1721PP Broek op Langedijk)
SUMMARY:WEEKEND Intensive met Yessica
URL:https://dehartcirkel.nl/event-menu/evenement/5-weekend-intensive-met-ye
 ssica
END:VEVENT
END:VCALENDAR
