BEGIN:VCALENDAR
VERSION:2.0
PRODID:-//https://dehartcirkel.nl///NONSGML kigkonsult.se iCalcreator 2.10.15//
METHOD:PUBLISH
BEGIN:VEVENT
UID:20260422T064045EDT-8769ulI8Fr@https://dehartcirkel.nl/
DTSTAMP:20260422T104045Z
DESCRIPTION: \n\nTijdens deze middag leren we hoe met een simpele kinesiolo
 gie techniek (spiertesten) de meest basale dingen te testen zijn. Op het t
 errein van voeding maar ook op emotioneel en psychisch gebied (trauma).\n
 \nOm dat te leren is onze vraag aan jou: “Neem iets mee waarvan je zou wil
 len weten of dat goed of juist slecht voor je is. Dat kan van alles zijn: 
 iets eetbaars\, een voedingssupplement\, bepaalde verzorgingsproducten of 
 make up\, een kledingstuk etc.\n\nAls we dat een beetje onder de knie krij
 gen\, dan komt er een leuke verrassing. Bedenk alvast van tevoren wat je a
 an jezelf zou willen ‘veranderen’. Denk aan zaken als: Karaktereigenschapp
 en\, bepaalde ‘belemmerende’ gewoontes (veel eten of snoepen)\, meer wille
 n bewegen\, meer ontspanning nemen etc. Hier gaan we op een hele speelse m
 anier mee aan de slag en weet het blijft allemaal heel privé. Het is allee
 n voor jou!\n\nOmdat we vooral praktisch aan de slag gaan tijdens deze mid
 dag: neem papier en een pen mee\, plus een schaar.\n\nNa afloop ga je zelf
  je een bach remedie maken die je kunt gaan innemen en waar je de werking 
 ervan ook zult gaan begrijpen. De remedie mag je mee naar huis nemen!\n\nB
 ert Heintzberger (gepensioneerde Bio Energetische tandarts) zal tijdens de
 ze boeiende middag uitleggen hoe bewustzijn werkt. Het is als bij dieren: 
 die voelen automatisch aan wat ze kunnen eten en wat niet. En wat niet goe
 d voor ze is\, dat eten ze ook echt niet\, al ziet het er nog zo lekker ui
 t!\n\nWe komen dan uit bij de werking van de biofotonen en dat die het bew
 ustzijn vervoeren. Sterker nog: die biofotonen zijn in staat om materie te
  creëren. We kunnen dus inderdaad leven van de lucht en het zonlicht. Alho
 ewel dat nog lang niet voor iedereen haalbaar is\, want daar heb je een be
 paald niveau van bewustzijn voor nodig. Bert legt ook het belang van biolo
 gisch eten uit en dat dit eigenlijk helemaal niet zo duur is. Temeer omdat
  we hier gewoon minder van nodig hebben en het veel voedzamer is!\n\nHet w
 erk van professor Kervran in Frankrijk heeft dit aangetoond. Dit geeft een
  nieuw inzicht in wat goed voor ons is en wat niet. Vandaar het leren test
 en. Aan dit testen ligt het LENR systeem ten grondslag: low energy transmu
 tatie. Kernfusie bij kamertemperatuur. Kervran noemt het in 1964 al: biolo
 gische transmutatie. Het is de energievoorziening van de toekomst. Schoon\
 , goedkoop en onbeperkt aanwezig! Als Bert nog wat tijd overhoudt dan zal 
 hij hier nog over vertellen. Waarom weet de politiek hier niets van of ver
 melden ze dit niet? In de moderne natuurkunde is dit fenomeen bekend.\n\nH
 et wordt vooral een gezellige en een praktische middag met vele verrassing
 en waarvan je in je verdere leven veel profijt zult hebben. Wees welkom!\n
 \nBert Heintzberger\n\nBert Heintzberger\, 75 jaar\, heeft zijn hele leven
  gewerkt als tandarts waarvan de laatste 30 jaar als Bio Energetisch Tanda
 rts. Hij is daarnaast ook Acupuncturist.\n\nBert heeft zich verdiept in ee
 n veel verschillende onderwerpen: Kwantumfysica\, Homeopathie\, Neuraal Th
 erapie\, NEI-therapie en Numerologie zijn hier een aantal van. Hierdoor is
  hij in staat om naar Gezondheid te kijken vanuit verschillende invalshoek
 en.\n\nBert is een zeer deskundige Geneesheer die met zijn hart betrokken 
 is bij niet alleen zijn patiënten maar bij AL het leven op Aarde.\n\nDeze 
 lezing zal op lichtzinnige wijze worden ingeleid door lofdichter en B12 sp
 ecialist Bo Baden (vitamineb12tekort.nl).\n\n\nWanneer? Op zaterdagmiddag 
 12 december\, 2020\nTijdstip: 13:00 uur tot 17 uur (zaal open om 12:30)\nL
 ocatie: Soulbalance ~ Vreekesweid 1 1721PP Broek op Langedijk\n\nVergoedin
 g: 25 euro   \n\nDit bedrag kan worden overgemaakt op rekeningnr. NL44 ING
 B 0796 8731 43\, H.J. Borst\, onder vermelding van: Bert Heintzberger\n\n
 \n \n https://dehartcirkel.nl/event-menu/evenement/49-workshop-licht-is-be
 wustzijn-bert-heintzberger
DTSTART:20201212T120000Z
DTEND:20201212T160000Z
LOCATION:SoulBalance (Vreekesweid 1 1721PP Broek op Langedijk)
SUMMARY:WORKSHOP: LICHT IS BEWUSTZIJN - Bert Heintzberger
URL:https://dehartcirkel.nl/event-menu/evenement/49-workshop-licht-is-bewus
 tzijn-bert-heintzberger
END:VEVENT
END:VCALENDAR
