BEGIN:VCALENDAR
VERSION:2.0
PRODID:-//https://dehartcirkel.nl///NONSGML kigkonsult.se iCalcreator 2.10.15//
METHOD:PUBLISH
BEGIN:VEVENT
UID:20260420T062909EDT-5477vuviVo@https://dehartcirkel.nl/
DTSTAMP:20260420T102909Z
DESCRIPTION:De bijzondere leraar Bernie Prior uit Nieuw Zeeland komt voor d
 e 2e keer naar de Hartcirkel. Zijn komst vorig jaar in Oktober werd zeer g
 oed ontvangen door de bezoekers. Dit is wederom een unieke kans om met zij
 n 'teachings' kennis te maken. Het thema van deze middag is: Enlightened P
 artnerschip oftewel Love without Duality. Weet echter dat je in de gelegen
 heid bent om hem ook andere vragen te stellen. Alle vragen zijn welkom!\n 
 \nDe teachings zijn in het Engels. Hierbij een korte introductie over hem.
  We ontvangen je graag op zaterdag middag 25 April.\n\n“We are not blinded
  by the light\, we are blinded by the known. Your freedom is in the unknow
 n.”\n\nBernie Prior\, known as “B” is a contemporary visionary and teacher
 . He offers a profoundly unique and enlightening perspective on life from 
 the smallest matters that shape our personal lives to the biggest universa
 l questions of human existence.\n\nWith compassion\, humour and uncompromi
 sing Truth\, he brings the highest teachings straight into one’s core and 
 into daily life. \n\nHis teaching about enlightened partnership\, real int
 imacy and the calling to a higher Love as men and women of Truth\, undoes 
 and transcends everything the world has taught us. \n\nHe is the author “L
 ove Without Duality “ a book about awakening in profound Love and intimacy
 .\n\nB lives in New Zealand and travels the globe extensively offering tal
 ks\, seminars and residential retreats.\n\nDo check his site with most int
 eresting information and insights: BPrior.org\n\nMeetings with B are a pro
 found inner-outer discovery of Life and Love beyond Duality. They spring f
 rom and speak to one’s innermost calling to enter into an entirely new int
 imacy with life.\n\nNo meeting is ever the same\; the sessions are unscrip
 ted and interactive\, always ‘New-Now’ and you may touch upon any area of 
 Life: relationships\, sexuality\, children\, parenting\, work and creativi
 ty. Laying it all at the heart of deeper Knowing Awareness B’s constant an
 d heartful invitation to open to greater Love in all things will ignite yo
 ur heart and Being from the inside out.\n\nMore about B\n\nBorn in 1954 in
  England\, B’s childhood and teenage years were marked by profound mystica
 l experiences.  At age 19 he awakened in the realisation of One-ness and a
 t 33 he opened into the Absolute.  Within this unfolding he was graced wit
 h the rare and profound realisation of the Bhagavati\, the Divine Feminine
  Principle.\n\nA life of service in utter dedication to the awakening and 
 evolution of humanity began and continues to unfold...\n\nWanneer?\nOp zat
 erdag 25 april\, 2020 Tijdstip: 14:30 uur tot 17 uur (zaal open om 14:00 u
 ur)\nLocatie: Dorpshuis De Schulp\, Visweg 45\, 1935 EB Egmond-Binnen.\nVe
 rgoeding: 15 Euro \n\nDit bedrag kan worden overgemaakt op rekeningnr. NL4
 4 INGB 0796 8731 43\, H.J. Borst\,\nonder vermelding van: B. Prior.\n http
 s://dehartcirkel.nl/event-menu/evenement/47-bijeenkomst-enlightened-partne
 rship-met-b-prior-uit-nieuw-zeeland
DTSTART:20200425T123000Z
DTEND:20200425T150000Z
LOCATION:Dorpshuis De Schulp (Visweg 45\, 1935 EB Egmond-Binnen)
SUMMARY:Bijeenkomst - Enlightened Partnership met B. Prior uit Nieuw Zeelan
 d
URL:https://dehartcirkel.nl/event-menu/evenement/47-bijeenkomst-enlightened
 -partnership-met-b-prior-uit-nieuw-zeeland
END:VEVENT
END:VCALENDAR
