BEGIN:VCALENDAR
VERSION:2.0
PRODID:-//https://dehartcirkel.nl///NONSGML kigkonsult.se iCalcreator 2.10.15//
METHOD:PUBLISH
BEGIN:VEVENT
UID:20260420T080623EDT-84661KrUmw@https://dehartcirkel.nl/
DTSTAMP:20260420T120623Z
DESCRIPTION:In de Cirkel van Isis zijn betekent je laten omhullen door de B
 aarmoeder van de Goddelijke Moeder. Hoe Zij ook genoemd wordt: Isis\, Ashe
 ra\, Artemis\, Demeter\, Brigit\, Freya of Maria. Zij is Degene met de Tie
 nduizend Namen\, overal op aarde in één of andere vorm bekend. Haar Wezen 
 is Liefde en Eenheid. Daar in Haar heilige ruimte\, de Cirkel\, kunnen wij
  delen met elkaar. Isis is een Deur\, een Poort. Eén van de vele ingangen 
 naar het Goddelijk Vrouwelijke\, de kern van de Schepping.\n\nIn haar twee
 de boek: ‘Het Huis van Isis\, een liefdesgeschiedenis’  schrijft Lauri Fra
 nsen daarover. Zij vertelt van haar ontdekkingsreis met Isis\; een reis di
 e twintig jaar geleden begon en nog steeds verder gaat. Van verwarring\, o
 nbegrip en verzet naar voortschrijdend inzicht en overgave. Dit vertellen 
 is altijd ingebed in de Cirkel van Isis. Dat wil zeggen: we zitten met de 
 groep in een cirkel-opstelling en er wordt begonnen met een geleide medita
 tie waarin we ons verbinden met het energieveld van Isis. Daarbinnen komt 
 dan op organische wijze het boek ter sprake. Zo kun jij\, als je aanwezig 
 bent\, dezelfde energie door je heen voelen komen die in het boek zit. “Wa
 nt het boek ’Het Huis van Isis’ is een co-creatie\, een samenwerking\, som
 s zelfs een samensmelting van Isis en mijzelf. Daardoor is dit boek geword
 en tot een manifestatie van de Godin op aarde. Wij ontvangen Haar in deze 
 Heilige Cirkel in ons hart\, in ieders hart. Want mijn hart vloeit over om
  dát met jullie te delen wat ik zelf ervaren heb tijdens het schrijven en 
 wat ik nog steeds ervaar in mijn dagelijks leven.”\n\nNa de lunchpauze gaa
 n wij verder met een meditatieve oefening en kunnen er vragen worden geste
 ld. Deze workshop is een interactieve ervaring.\nMeer informatie vind je o
 p haar website: www.indecirkelvanisis.nl\n \nLauri Fransen wordt in 1946 g
 eboren in een protestants-christelijk middenklasse-gezin. Al jong kent zij
  een diep verlangen naar verbinding met het goddelijke\, maar kan zichzelf
  niet herkennen in de religie van een vadergod. Op 36-jarige leeftijd ontd
 ekt zij meditatie en vervolgens leeft zij twee jaar in een spirituele comm
 une. Op haar 40e wordt zij moeder van een zoon en trekt met haar gezin naa
 r mediterrane landen\, waar ze godinnenculturen bestudeert. Tijdens die re
 izen gaat haar mediamieke kanaal open en krijgt ze contact met gidsen\, en
 gelen en leraren in de geestelijke wereld. Samen met haar gids ontwerpt en
  geeft ze een cursus om ook anderen dit contact te leren. Niet lang daarna
  begint de godin Isis door haar heen te spreken.\n\nLauri werkte 15 jaar i
 n het onderwijs en volgde daarna verschillende internationale trainingen i
 n energiewerk en groepsbegeleiding.\n\nZe ontwikkelde een eigen methode om
  te werken met het innerlijk kind en heeft een lange ervaring in het indiv
 idueel begeleiden van mensen.\n\nIn 2007 verscheen haar eerste boek: ‘Het 
 Evangelie van Isis\, de rol van het vrouwelijke bij het ontstaan van het c
 hristendom.’ Klik hier voor meer informatie.\n\nDatum: zaterdag 10 oktober
  2020 in Bergen(NH)\nTijd: 11 uur tot ca. 16:00 uur. Zaal open vanaf 10:30
  uur.\nLocatie:  Dorpshuis De Schulp\, Visweg 45\, 1935 EB Egmond-Binnen\n
 Heerlijke lichte zaal en volop gratis parkeerplekken\, rechts en links van
  het gebouw!\nBijdrage: 49\,00 euro (beperkt aantal plaatsen).\nLunch: Er 
 is overheerlijke soep te verkrijgen (3 euro) en tosti's of zelf lunch meen
 emen\, thee & koffie verkrijgbaar.\n\nBoeksigneersessie. Prijs boek: € 20\
 ,50.\n\nDit bedrag kan worden overgemaakt op rekeningnr. NL44 INGB 0796 87
 31 43\, H.J. Borst\, onder vermelding van: Lauri Fransen.  \n\n \n\n \n ht
 tps://dehartcirkel.nl/event-menu/evenement/44-workshop-de-cirkel-van-isis-
 lauri-fransen
DTSTART:20201010T090000Z
DTEND:20201010T140000Z
LOCATION:Dorpshuis De Schulp (Visweg 45\, 1935 EB Egmond-Binnen)
SUMMARY:WORKSHOP: De Cirkel van Isis - Lauri Fransen
URL:https://dehartcirkel.nl/event-menu/evenement/44-workshop-de-cirkel-van-
 isis-lauri-fransen
END:VEVENT
END:VCALENDAR
