BEGIN:VCALENDAR
VERSION:2.0
PRODID:-//https://dehartcirkel.nl///NONSGML kigkonsult.se iCalcreator 2.10.15//
METHOD:PUBLISH
BEGIN:VEVENT
UID:20260420T080957EDT-4914TdAGnH@https://dehartcirkel.nl/
DTSTAMP:20260420T120957Z
DESCRIPTION:\n\nKom deze inspirerende leraar - Xie Chuan - ervaren in het p
 rachtige bosrijke Bergen en verbeter jouw gezondheid. \n\nHet is alweer de
  9e keer dat hij zijn inspiratie\, wijsheid\, nederigheid en bevlogenheid 
 met ons komt delen. \n\nXie mag in het najaar NIET komen. Het wordt VOORJA
 AR 2021 voor een 3 daagse workshop.\n\n'Deze Chinese gezondheidsoefeningen
  kunnen door iedereen - jong en oud - in korte tijd aangeleerd en beoefend
  worden. Zhineng Qigong is een Chinese bewegingsleer\, ook wel beschouwd a
 ls meditatie in beweging.'\n\n\n\n\n \n\nKom deze bijzonder Effectieve Oef
 eningen ervaren en leer je innerlijke Geneeskracht weer in te zetten!\n\n
 \nDe oefeningen en de ondersteunende theorie hebben hun oorsprong in het m
 edicijnloze ziekenhuis uit China. Dit ziekenhuis heeft in 10 jaar tijd rui
 m 300.000 patiënten ‘behandeld’ door dagelijks de oefeningen van Zhineng Q
 igong uit te voeren. Na het sluiten van dit medicijnloze ziekenhuis in 200
 1 zijn enkele leraren van dit ziekenhuis Engels gaan leren zodat ze deze b
 ijzondere leer konden verspreiden in het Westen.\n\n Xie Chuan is een van 
 deze leraren. Een heel integere\, zuivere docent met een enorme kennis en 
 vanuit een diep respect voor de leer van Zhineng Qigong. Op het moment dat
  je bij hem in de buurt bent\, voel je verbondenheid\, onvoorwaardelijkhei
 d en begrijp je – voorbij woorden – dat er meer mogelijk is dan wat wij me
 t onze mind kunnen begrijpen.\n\nWat is Zhineng Qigong\n\nZhineng Qiqong i
 s een reeks van eenvoudige bewegingen ontwikkeld door Dr. Pang Ming\, een 
 Oosters en Westers afgestudeerd arts. Zijn bewegingen zijn bedoeld om de I
 nnerlijke geneeskracht aan te boren door je o.a. af te stemmen op het Chi-
 veld. Dit is in het Westen bekend als het veld van de onbegrensde mogelijk
 heden\, het kwantumveld.\n\nIn 1991 startte Dr. Pang Ming een klein Zhinen
 g centrum dat in korte tijd uitgroeide tot wat werd genoemd ‘het grootste 
 medicijnloze ziekenhuis ter wereld’. Aan dit HuaXia Zhineng Qigong Center 
 startte Xie Chuan zijn tweejarige lerarenopleiding. Van 1995 tot 2001 is h
 ij als leraar verbonden geweest aan dit centrum.\n\nXie Chuan noemt zichze
 lf geen master\, geen leraar\, geen healer. Net als in het HuaXia center i
 s iedereen student. Iedereen is gelijk. Met z’n allen bouw je het Helende 
 Qi Veld op\, door te vertrouwen in wat er is en je hart open te stellen vo
 or de ervaring. Hart\, mind en lichaam functioneren als één. En dit wordt 
 mogelijk gemaakt door de onvoorwaardelijke liefde en compassie van deze bi
 jzondere leraar.\n\nTijdens deze dagen begeleidt Xie je om weer in verbind
 ing en balans met jezelf te komen. Zhineng Qigong is een leer waarbij je w
 eer zelf de touwtjes in handen krijgt. Je neemt zelf (weer) de volledige v
 erantwoordelijkheid over jouw lichaam en geest.\n\nDeze bijzondere driedaa
 gse is geschikt voor iedereen die zijn/haar gezondheid wil verbeteren en h
 et zelfhelend vermogen wil activeren. Jong en oud\, al bekend met Zhineng 
 Qigong of helemaal beginner\, gezond of met een fysieke uitdaging\, iedere
 en is welkom!\n\nWil jij niet meer geleefd worden door de westerse medisch
 e wereld\, maar zelf controle hebben over jouw proces – fysiek\, mentaal o
 f emotioneel – dan is dit een unieke kans!\nMeer over Zhineng Qigong: zhig
 ong.nl\n\n\nDe workshop wordt in eenvoudig Engels gegeven\, maar zal waar 
 nodig worden vertaald in het Nederlands.\n\n\nWanneer:\n19 - 21 maart\, 20
 21\nLocatie:\nThe Bears (een prachtige stille plek in de natuur)\,\nGroene
 weg nr. 5\, 1861 PH te Bergen\nDeze locatie ligt rechts van de voetbalveld
 en\, VVBergen.\n\nTijdstip:\n10 tot 17 uur (inloop vanaf 9.30 uur met koff
 ie/thee/lekkers)\nVergoeding:\n215 euro voor deze driedaagse Workshop incl
 usief koffie\, thee en lekkers. Een heerlijke en gezonde lunch is op deze 
 locatie verkrijgbaar.\n \n\n\nDit bedrag kan worden overgemaakt op rekenin
 gnr. NL44 INGB 0796 8731 43 \, H.J. Borst\, onder vermelding van: “3 daags
 e Workshop Zhineng Qiqong”\n https://dehartcirkel.nl/event-menu/evenement/
 42-driedaagse-workshop-zhineng-qigong-met-xie-chuan
DTSTART:20210319T090000Z
DTEND:20210321T160000Z
LOCATION:the Bears (Groeneweg 5C 1861 PH Bergen )
SUMMARY:[DRIEDAAGSE WORKSHOP] Zhineng Qigong met Xie Chuan
URL:https://dehartcirkel.nl/event-menu/evenement/42-driedaagse-workshop-zhi
 neng-qigong-met-xie-chuan
END:VEVENT
END:VCALENDAR
