BEGIN:VCALENDAR
VERSION:2.0
PRODID:-//https://dehartcirkel.nl///NONSGML kigkonsult.se iCalcreator 2.10.15//
METHOD:PUBLISH
BEGIN:VEVENT
UID:20260420T063957EDT-1194VmRK9u@https://dehartcirkel.nl/
DTSTAMP:20260420T103957Z
DESCRIPTION:This is Living Truth with Love from The Heart!\n\nWorkshop faci
 litering: Yessica Sillekens\n\nDeze inter-actieve healing Satsang op basis
  van diep Zelf-onderzoek is bijzonder geschikt als je worstelt met ‘jouw’ 
 beperkende gewoontepatronen die zich voordoen als praktische uitdagingen i
 n het dagelijkse leven. Dit kan gaan om relaties\, gezondheid\, werk en zi
 ngeving\, emotionele thema’s of spiritualiteit. Diepe heling wordt onderst
 eund door zachte\, liefdevolle aandacht in een heilzaam\, veilig veld van 
 Liefde. De Ultieme Helende Kracht is Universele Intelligentie (Spirit) als
  we durven te vertragen\, kalm te blijven en voor een moment te stoppen… W
 e nemen de tijd om diep te Rusten in Zijn\, De Stilte te horen en heling t
 oe te laten. Tijdens deze dag zullen we misverstanden\, gedachten en geloo
 fsovertuigingen over wie we denken te zijn of zouden moeten zijn achter on
 s laten. Hierdoor kun je ware vrijheid ervaren\, diepe innerlijke vrede en
  vreugde zonder oorzaak\, natuurlijk en spontaan. Je zult je realiseren en
  her-ontdekken wie 'je' Echt bent: Het Ene Authentieke Zelf. Deze bijeenko
 mst bestaat onder andere uit geleide en inter-actieve meditaties\, vraag e
 n antwoord-sessies en verdiepende contemplaties. \n\n\nRusten in Zijn ~ Ho
 ren van Stilte\nVinden van Het Ware Zelf ~ Genieten van het Leven\n\n \n\n
 \nYessica Sillekens is Holistisch Coach en Healer voor Integratie van fysi
 ek-energetische\, emotionele\, mentale en spirituele 'dis-ease' en blokkad
 es. Zij werkt intensief met mensen met o.a. chronische spanning en stress\
 , (dreigende) burn-out\, PTSS\, angstsymptomen\, intense emoties en spirit
 uele- en zingevingsvraagstukken. Voor meer informatie over haar achtergron
 d: www.healingsatsang.com\n\nIn haar individuele sessies en inter-actieve 
 workshops met mensen werkt ze vanuit haar zeer heldere Gewaar Zijn en haar
  diep Intuïtief Voelen van het Subtiele Energie lichaam. Dit maakt haar he
 lende werk zo bijzonder. Het is een zeer laagdrempelige manier om alles wa
 t tot rust wil komen zacht aan te raken en te laten helen in de heldere en
  liefdevolle onvoorwaardelijke liefde van Puur Bewust Zijn!\n\nYessica is 
 beschikbaar voor INDIVIDUELE privé sessies bij jouw thuis. Schroom niet om
  naar haar uit te reiken als je de impuls voelt! Met name voor mensen in e
 en burn-out situatie of met veel Angst en Paniek kan het fijn zijn om in j
 e eigen vertrouwde omgeving te zijn.\n\n\nLiving Truth ~ Zelf-realisatie v
 oor het dagelijkse Leven\n\n\nDatum:  Zondag 2 Februari 2020\n\n(andere da
 ta: 1 maart en 3 mei en in de maand April hebben we weer een Satsang weeke
 nd)\n\nLocatie: Lucebertschool\nZakedijkje 38a\n1862HB bergen nh\nwww.luce
 bertschool.nl\nTijdstip: Inloop om 11.45 uur met koffie/thee. Aanvang 12 u
 ur tot 17 uur\nVergoeding: 55 euro\nDe lunch mag je zelf verzorgen of kun 
 je ter plekke verkrijgen voor 5 euro.\n\n https://dehartcirkel.nl/event-me
 nu/evenement/38-satsang-met-yessica-eerste-zondag-van-de-maand-in-bergen-n
 -h
DTSTART:20200301T110000Z
DTEND:20200301T160000Z
LOCATION:Lucebertschool (Zakedijkje 38a 1862 HB Bergen N.H.)
SUMMARY:Satsang met Yessica - Eerste zondag van de maand in BERGEN N.H
URL:https://dehartcirkel.nl/event-menu/evenement/38-satsang-met-yessica-eer
 ste-zondag-van-de-maand-in-bergen-n-h
END:VEVENT
END:VCALENDAR
