BEGIN:VCALENDAR
VERSION:2.0
PRODID:-//https://dehartcirkel.nl///NONSGML kigkonsult.se iCalcreator 2.10.15//
METHOD:PUBLISH
BEGIN:VEVENT
UID:20260420T062044EDT-9165D6ZjK3@https://dehartcirkel.nl/
DTSTAMP:20260420T102044Z
DESCRIPTION:Living Truth ~ Healing from The Heart \n\nIn maart hebben we we
 er een Healing Satsang weekend met Yessica gepland staan! Kom gezellig mee
 doen als je wilt ervaren wat ontspannen is op een heel diep niveau.\n\nWe 
 hebben weer dezelfde prachtige plek geboekt: dichtbij de natuur – rust en 
 stilte – en makkelijk (gratis) parkeren. Ook als jij fysieke of geestelijk
 e uitdagingen hebt dan kun je bij dit weekend veel baat hebben. \n\nWees w
 elkom!\n\nWEEKEND Healing Satsang met Yessica\n\n28 en 29 maart\n\nWe zull
 en het weekend starten op zaterdagochtend om 10 uur (inloop vanaf 9.30 uur
 ) en we eindigen de zaterdag rond 21.15 uur. Op zondag starten we ook weer
  in de ochtend en het programma zal rond 18 uur eindigen.\n\n\n\nHoe kunne
 n we met elkaar in waarheid rusten en ontdekken wie we werkelijk zijn?\n\n
 Samen diep kijken naar hoe het leven zich ontvouwt\, inclusief alle belemm
 erende gewoontepatronen\, elkaar in waarheid ontmoeten en vrijheid & helin
 g vinden? \n\nIndien leven als onvoorwaardelijke liefde en compassie jouw 
 interesse heeft\, dan ben je van Harte uitgenodigd bij deze weekend intens
 ive.\nSamen Rusten in Zijn en de diepste lagen van de menselijke worstelin
 g tot rust te laten komen\, dat is onze uitnodiging.\n\nDe Satsang sessies
  met Yessica zijn in het – inmiddels voor velen bekende – format van gelei
 de meditatie\, diepe ontspanning en inter-actief Zelf-onderzoek.\n\nHet sa
 men diep kijken naar en helen van de pijn achter belemmerende gewoontepatr
 onen en het samen luisteren naar De Stilte achter de Geluiden van Het Leve
 n. Hierin herkennen we onze Ware Aard.\n\n‘Het gaat er simpelweg om\, om a
 anwezig te zijn met wat er NU is. Pijn\, berouw\, twijfels\, verlangens\, 
 angsten\, boosheid: het zijn in wezen geen fouten. Ze vragen – ten diepste
  – niet om geheeld te worden… want het ware Zelf is al heel! Wat het ‘nodi
 g’ heeft is om omarmd te worden. Hier\, nu\, zacht en in de liefdevolle aa
 nwezigheid van bewustzijn.’\n\n\nOver Yessica\n\nYessica fasciliteert ontm
 oetingen in de traditie van Satsang\, het Samen Zijn in\, en onderzoeken v
 an Waarheid.\nHaar pad van spiritueel ontwaken liep voornamelijk via Sri N
 isargadatta Maharaj\, Gangaji\, en Mooji in de traditie van Sri Ramana Mah
 arshi en Sri H.W.L. Poonja (beter bekend als Papaji)\, de bekende Indiase 
 leermeesters in de traditie van non-dualiteit.\n\nDe unieke combinatie met
  vormen van trauma-heling zoals geleerd van Brandon Bays (The Journey) en 
 Isaac Shapiro\, ook een leerling van Papaji\, maken haar open avond meetin
 gs\, helende dagworkshops\, weekend intensives en retraites een bijzondere
  variatie op traditionele Satsang.\nWebsite: Healing Satsang\n\n\nTestimon
 ials van deelnemers aan zondag workshops en intensive weekend:\n\n\n'Lieve
  Yessica\, ik wil graag vertellen hoe bijzonder ik de intensive vond! Prec
 ies de uitdrukking van waar jij zo begaafd in bent... een heel diep intiem
 e sfeer creëren waarin mensen veel van zichzelf laten zien en bereid zijn 
 diep te kijken in hun problematiek. Dit is hoe jij mensen op een dieper be
 grijpen brengt. Dank!'\n\n\n\n“Lieve Yessica\, je hebt een unieke manier o
 m mensen tot Het Zelf te brengen! Dank je wel!'\n\n\n\n“Beste Yessica\, ik
  wil je laten weten dat je een rem in mij hebt losgemaakt waar ik al heel 
 mijn leven last van heb gehad! Dank je wel!'\n\n\n\nDit geheel verzorgde w
 eekend (inclusief 2x gezonde lunch\, 1x overheerlijke diner\, koffie/thee/
 fris/fruit en lekkers) bieden we aan voor 185 euro voor de Early Birds t/m
  1 maart\, daarna 225 euro.\n\nVoor koppels is deze intensive ook zeer aan
  te raden om samen naar diepe relatiepatronen te kijken en hebben we een s
 peciale 'koppel-prijs' van €300 per paar in de early bird periode en €375 
 p/paar daarna.\n\nVoor Early Birds boekingen moeten deze betaald zijn op u
 iterlijk 1 maart\, 2020\n\nDe maaltijden zijn zoveel mogelijk biologisch e
 n vegetarisch. Bovendien hebben we een team van drie ondersteuners.\n\nWe 
 hebben bed and breakfast contacten al vanaf 25 euro per nacht. Natuurlijk 
 kun je ook gewoon lekker thuis slapen als je in de buurt woont.\n\nOmdat w
 e het kleinschalig en intiem willen houden\, zijn er een beperkt aantal pl
 ekken beschikbaar!  \n\nLocatie:\nSoulBalance\nVreekesweid 1\n1721PP Broek
  op Langedijk\nSoulBalance.nl\n\n\n* Het bedrag kan worden overgemaakt op 
 rekeningnr. NL44 INGB 0796 8731 43\, H.J. Borst\, onder vermelding van: “H
 ealing Satsang met Yessica”\n\n https://dehartcirkel.nl/event-menu/eveneme
 nt/27-weekend-healing-satsang-met-yessica-maart-2020
DTSTART:20200328T090000Z
DTEND:20200329T160000Z
LOCATION:SoulBalance (Vreekesweid 1 1721PP Broek op Langedijk)
SUMMARY:WEEKEND 'Healing Satsang' met Yessica Maart 2020
URL:https://dehartcirkel.nl/event-menu/evenement/27-weekend-healing-satsang
 -met-yessica-maart-2020
END:VEVENT
END:VCALENDAR
