BEGIN:VCALENDAR
VERSION:2.0
PRODID:-//https://dehartcirkel.nl///NONSGML kigkonsult.se iCalcreator 2.10.15//
METHOD:PUBLISH
BEGIN:VEVENT
UID:20260420T081731EDT-1561cWxXuV@https://dehartcirkel.nl/
DTSTAMP:20260420T121731Z
DESCRIPTION:De lezing gaat over een ‘Ordenend Principe’ dat bepalend is voo
 r alles wat met ons en om ons heen gebeurt en dat niet wordt beperkt door 
 tijd en ruimte\, waardoor de werking ervan vaak wordt ervaren als curieuze
  toevalligheden\, synchroniteiten en zelfs als pure wonderen.\n\nWe kunnen
  dit ‘Ordenend Principe’ voor ons laten werken. Tijd\, ruimte en plaats zi
 jn hierbij niet relevant. Ons geheugen kan actief voorwaarts in de tijd we
 rken (precognitie\, premonitie\, remote viewing\, etc.) en onze invloed ac
 hterwaarts. We kunnen zelfs het verleden veranderen.\n\nHet is een intens 
 meeslepend en vaak ook verbijsterend verhaal\n\nOver synchroniciteiten en 
 bijzondere ontmoetingen\n\nOver leylijnen en vormen in het landschap\n\nOv
 er Stonehenge\, Avebury en Silbury Hill\n\nOver tijd\, ruimte en acausalit
 eit\n\nOver Carl Gustav Jung en zijn mandala’s\n\nOver Alchemie en de Stee
 n der Wijzen\n\nEn vooral over geometrie en de menselijke geest\n\nOver su
 bliminale boodschappen en onbewuste beslissingen\n\nEen verhaal over de my
 stieke achtergrond\, waardoor er vele wonderbaarlijke zaken gebeuren. En e
 en verhaal dat nog dagen\, zo niet weken\, zal nagalmen.\n\nBio Bert Janss
 en\n\nBert Janssen is bekroond auteur\, avonturier en flamboyant verhalenv
 erteller. Lang geleden is hij de mysterieuze wereld van de kwantum fysica\
 , Gotische kathedralen\, graancirkels\, Inka sjamanisme\, Carl Gustav Jung
 \, oude krachtplaatsen\, etc\, binnengestapt.\n\nIn een wervelend en spran
 kelend optreden - gevuld met een lach\, een traan\, drama en dreunend dyna
 miet - maakt hij je deelgenoot van verbazingwekkende zaken\, messcherpe to
 -the-point analyses en reikt hij je handvaten aan waar je wat mee kunt.\n
 \nBert Janssen keert je binnenstebuiten en ondersteboven\, maar zodra de o
 rkaan is gaan liggen en het stof neer gedwarreld\, zul je je niet alleen h
 erboren voelen\, maar het ook zijn.\n\nDeze lezing zal op lichtzinnige wij
 ze worden ingeleid door lofdichter en B12 specialist Bo Baden (vitamineb12
 tekort.nl).\n\nWanneer? Op zaterdagmiddag 15 februari 2020\nTijdstip: 14:3
 0 uur tot 17 uur (zaal open om 14:00 uur)\nLocatie: Dorpshuis De Schulp\, 
 Visweg 45\, 1935 EB Egmond-Binnen\nHeerlijke lichte zaal en volop gratis p
 arkeerplekken\, rechts en links van het gebouw!\nVergoeding: 15 euro   \n
 \nDit bedrag kan worden overgemaakt op rekeningnr. NL44 INGB 0796 8731 43\
 , H.J. Borst\, onder vermelding van: Bert Janssen.\n https://dehartcirkel.
 nl/event-menu/evenement/25-uitverkocht-lezing-het-ordenend-principe-niets-
 gebeurt-per-toeval-bert-janssen
DTSTART:20200215T133000Z
DTEND:20200215T160000Z
LOCATION:Dorpshuis De Schulp (Visweg 45\, 1935 EB Egmond-Binnen)
SUMMARY:UITVERKOCHT!! LEZING: het Ordenend Principe -  Niets Gebeurt per To
 eval - Bert Janssen
URL:https://dehartcirkel.nl/event-menu/evenement/25-uitverkocht-lezing-het-
 ordenend-principe-niets-gebeurt-per-toeval-bert-janssen
END:VEVENT
END:VCALENDAR
