BEGIN:VCALENDAR
VERSION:2.0
PRODID:-//https://dehartcirkel.nl///NONSGML kigkonsult.se iCalcreator 2.10.15//
METHOD:PUBLISH
BEGIN:VEVENT
UID:20260420T081049EDT-3847P40EFl@https://dehartcirkel.nl/
DTSTAMP:20260420T121049Z
DESCRIPTION:\n\nBeste lezer\,\n\nHet team van de Hartcirkel heeft gezien de
  situatie met de Carona virus toch ook besloten deze 3 daagse met Xie Chua
 n te annuleren.\n\nAls organisator heb ik natuurlijk een verantwoordelijk 
 naar alle deelnemers. (en hun familie)\n\nBovendien heeft het niet zoveel 
 zin om voor een paar mensen dit evenement door te laten gaan. (velen hebbe
 n afgezegd)\n\nIn Oktober komt Xie weer naar Nederland en dan heb je alsno
 g de kans om deze workshop in te halen. \n\nWellicht zelfs in April\, moch
 t de situatie veranderen.\n\nHet is pure overmacht wat er nu gebeurt. Heel
  vervelend voor iedereen.\n\nExcuses voor het ongemak!\n\n \n\nHartegroet\
 ,\n\nIlona \n\nwww.dehartcirkel.nl\n\n \n\nKom deze inspirerende leraar - 
 Xie Chuan - ervaren in het prachtige bosrijke Bergen en verbeter jouw gezo
 ndheid. \n\nHet is alweer de 7e keer dat hij zijn inspiratie\, wijsheid\, 
 nederigheid en bevlogenheid met ons komt delen. Omdat het enthousiasme voo
 r zijn 'werk' groot te noemen is\, zal Xie dit voorjaar zelfs TWEE keer in
  Bergen workshops geven en een 3-daagse in het najaar (October).! \n\nHij 
 komt in Maart voor een 3 daagse workshop als ook in de maand April voor ee
 n 2 daagse.\n\n'Deze Chinese gezondheidsoefeningen kunnen door iedereen - 
 jong en oud - in korte tijd aangeleerd en beoefend worden. Zhineng Qigong 
 is een Chinese bewegingsleer\, ook wel beschouwd als meditatie in beweging
 .'\n\n\n\n\n \n\nKom deze bijzonder Effectieve Oefeningen ervaren en leer 
 je innerlijke Geneeskracht weer in te zetten!\n\n\nDe oefeningen en de ond
 ersteunende theorie hebben hun oorsprong in het medicijnloze ziekenhuis ui
 t China. Dit ziekenhuis heeft in 10 jaar tijd ruim 300.000 patiënten ‘beha
 ndeld’ door dagelijks de oefeningen van Zhineng Qigong uit te voeren. Na h
 et sluiten van dit medicijnloze ziekenhuis in 2001 zijn enkele leraren van
  dit ziekenhuis Engels gaan leren zodat ze deze bijzondere leer konden ver
 spreiden in het Westen.\n\n Xie Chuan is een van deze leraren. Een heel in
 tegere\, zuivere docent met een enorme kennis en vanuit een diep respect v
 oor de leer van Zhineng Qigong. Op het moment dat je bij hem in de buurt b
 ent\, voel je verbondenheid\, onvoorwaardelijkheid en begrijp je – voorbij
  woorden – dat er meer mogelijk is dan wat wij met onze mind kunnen begrij
 pen.\n\nWat is Zhineng Qigong\n\nZhineng Qiqong is een reeks van eenvoudig
 e bewegingen ontwikkeld door Dr. Pang Ming\, een Oosters en Westers afgest
 udeerd arts. Zijn bewegingen zijn bedoeld om de Innerlijke geneeskracht aa
 n te boren door je o.a. af te stemmen op het Chi-veld. Dit is in het Weste
 n bekend als het veld van de onbegrensde mogelijkheden\, het kwantumveld.
 \n\nIn 1991 startte Dr. Pang Ming een klein Zhineng centrum dat in korte t
 ijd uitgroeide tot wat werd genoemd ‘het grootste medicijnloze ziekenhuis 
 ter wereld’. Aan dit HuaXia Zhineng Qigong Center startte Xie Chuan zijn t
 weejarige lerarenopleiding. Van 1995 tot 2001 is hij als leraar verbonden 
 geweest aan dit centrum.\n\nXie Chuan noemt zichzelf geen master\, geen le
 raar\, geen healer. Net als in het HuaXia center is iedereen student. Iede
 reen is gelijk. Met z’n allen bouw je het Helende Qi Veld op\, door te ver
 trouwen in wat er is en je hart open te stellen voor de ervaring. Hart\, m
 ind en lichaam functioneren als één. En dit wordt mogelijk gemaakt door de
  onvoorwaardelijke liefde en compassie van deze bijzondere leraar.\n\nTijd
 ens deze dagen begeleidt Xie je om weer in verbinding en balans met jezelf
  te komen. Zhineng Qigong is een leer waarbij je weer zelf de touwtjes in 
 handen krijgt. Je neemt zelf (weer) de volledige verantwoordelijkheid over
  jouw lichaam en geest.\n\nDeze bijzondere driedaagse is geschikt voor ied
 ereen die zijn/haar gezondheid wil verbeteren en het zelfhelend vermogen w
 il activeren. Jong en oud\, al bekend met Zhineng Qigong of helemaal begin
 ner\, gezond of met een fysieke uitdaging\, iedereen is welkom!\n\nWil jij
  niet meer geleefd worden door de westerse medische wereld\, maar zelf con
 trole hebben over jouw proces – fysiek\, mentaal of emotioneel – dan is di
 t een unieke kans!\nMeer over Zhineng Qigong: zhigong.nl\n\n\nDe workshop 
 wordt in eenvoudig Engels gegeven\, maar zal waar nodig worden vertaald in
  het Nederlands.\n\n\nWanneer:\n13\, 14 en 15 Maart 2020\nLocatie:\nThe Be
 ars (een prachtige stille plek in de natuur)\,\nGroeneweg nr. 5\, 1861 PH 
 te Bergen\nDeze locatie ligt rechts van de voetbalvelden\, VVBergen.\n\nTi
 jdstip:\n10 tot 17 uur (inloop vanaf 9.30 uur met koffie/thee/lekkers)\nVe
 rgoeding:\n215 euro voor deze driedaagse Workshop inclusief koffie\, thee 
 en lekkers. Een heerlijke en gezonde lunch is op deze locatie verkrijgbaar
 .\n \n\n\nDit bedrag kan worden overgemaakt op rekeningnr. NL44 INGB 0796 
 8731 43 \, H.J. Borst\, onder vermelding van: “3-daagse Workshop Zhineng Q
 iqong”\n https://dehartcirkel.nl/event-menu/evenement/23-geannuleerd-dried
 aagse-workshop-zhineng-qigong-met-xie-chuan
DTSTART:20200313T090000Z
DTEND:20200315T160000Z
LOCATION:the Bears (Groeneweg 5C 1861 PH Bergen )
SUMMARY:GEANNULEERD [DRIEDAAGSE WORKSHOP] Zhineng Qigong met Xie Chuan 
URL:https://dehartcirkel.nl/event-menu/evenement/23-geannuleerd-driedaagse-
 workshop-zhineng-qigong-met-xie-chuan
END:VEVENT
END:VCALENDAR
