BEGIN:VCALENDAR
VERSION:2.0
PRODID:-//https://dehartcirkel.nl///NONSGML kigkonsult.se iCalcreator 2.10.15//
METHOD:PUBLISH
BEGIN:VEVENT
UID:20260420T081811EDT-0913TPWh0V@https://dehartcirkel.nl/
DTSTAMP:20260420T121811Z
DESCRIPTION:Is het niet uiterst vreemd dat de moderne mens bijna alles weet
  van het vergankelijke lichaam en daar veel tijd\, geld en zorg aan bestee
 d terwijl kennis van de veel belangrijkere\, onvergankelijke ziel bijna ge
 heel ontbreekt?  Alle oude culturen bezaten die kennis wel en wisten dat a
 lles bezield is. Vele spreekwoorden en gezegden herinneren daar nog aan zo
 als “zielsveel van iemand houden”\, “met de ziel onder de arm lopen”\, “og
 en zijn de spiegels van de ziel” en “ter ziele gaan”.\n\nHet tijdperk dat 
 de Verlichting wordt genoemd maar eigenlijk de Verduistering zou moeten he
 ten\, heeft daar echter een eind aan gemaakt. Tot op de dag van vandaag wo
 rdt de ziel niet meer (h)erkend in de moderne psychologie met alle gevolge
 n van dien. Onder andere de beroemde Carl Gustav Jung heeft ons met zijn d
 iepgaande (zelf)onderzoeken een schat aan kennis over de menselijke ziel a
 chtergelaten. Maar er is nog veel meer: je bent geen lichaam dat een ziel 
 heeft maar een ziel dat een (tijdelijk) lichaam heeft.  Zo is wat wij de d
 ood noemen niet meer dan de slaap van de ziel\, laat de Bijbel ons weten.
 \n\nDirk van Beek is door zijn levenslange zoektocht naar binnen een verbi
 nder geworden van religie\, filosofie en wetenschap. De huidige problemen 
 in de wereld kunnen niet worden opgelost als we niet meer te weten komen o
 ver onze ziel en de bezieling van de natuur om ons heen. Het huidige najag
 en van duurzaamheid is slechts economisch gedreven en zal geen blijvend re
 sultaat opleveren als we niet eerst de duurzaamheid in onze eigen ziel dur
 ven en willen aanpakken. Het aloude adagium “Mens\, ken jezelf” en “Verand
 er de wereld\, begin bij jezelf”\, begint bij zoektocht in de eigen ziel. 
 Verschillende onderwerpen komen aan bod in deze lezing zoals waar zit de z
 iel en wat is de ziel eigenlijk\, de betekenis van de “dark night of the s
 oul”\, hoe kun je je ziel zuiveren\, karma en reïncarnatie. Laat deze lezi
 ng een begin zijn van ieders pelgrimstocht naar de Tao. \n\nDirk van Beek
 \n\nHij heeft een toppositie bekleed in het internationale bedrijfsleven t
 ot hij op zijn 52e stopte om zijn hart te volgen en zijn ziel te onderzoek
 en. Trad in een guru-chrla relatie met iemand die de Akasha kronieken kan 
 lezen en kent daardoor verschillende vorige levens. In dit leven drie Bach
 elors in privaat recht\, economie en internationale betrekkingen en een ma
 ster in geschiedenis met specialisatie in Native American history\, met na
 me van de Hopi Indianen die vele voorspellingen over de huidige tijd hebbe
 n gegeven. Heeft diverse artikelen geschreven in het maandblad BRES. Dirk 
 geeft lezingen over onder andere de menselijke ziel\, de esoterische achte
 rgronden van onze geschiedenis\, de schadelijkheid van onnatuurlijke elekt
 romagnetische straling\, Jungiaanse psychologie\, en over de Eindtijd waar
 in we nu leven. Dirk legt unieke verbindingen tussen religie\, filosofie e
 n wetenschap die eigenlijk één zijn. Heeft gewoond op drie continenten. Al
 s holist laat hij zich leiden door de Bijbel\, apocriefe boeken en de filo
 sofieën van Socrates\, Lao Tzu\, Marcus Aurelius en Spinoza. Werkt momente
 el aan zijn levenswerk: een boek met als titel Over Goden\, Engelen en Men
 sen.\n\n \n\nDeze lezing zal op lichtzinnige wijze worden ingeleid door lo
 fdichter en B12 specialist Bo Baden (vitamineb12tekort.nl).\n\nWanneer? Op
  zaterdagmiddag 25 januari 2020\nTijdstip: 14:30 uur tot 17 uur (zaal open
  om 14:00 uur)\nLocatie: Dorpshuis De Schulp\, Visweg 45\, 1935 EB Egmond-
 Binnen\nHeerlijke lichte zaal en volop gratis parkeerplekken\, rechts en l
 inks van het gebouw!\nVergoeding: 15 euro   \n\nDit bedrag kan worden over
 gemaakt op rekeningnr. NL44 INGB 0796 8731 43\, H.J. Borst\, onder vermeld
 ing van: Dirk van Beek.\n https://dehartcirkel.nl/event-menu/evenement/22-
 lezing-de-geheimen-van-de-menselijke-ziel-dirk-van-beek
DTSTART:20200125T133000Z
DTEND:20200125T160000Z
LOCATION:Dorpshuis De Schulp (Visweg 45\, 1935 EB Egmond-Binnen)
SUMMARY:LEZING: De geheimen van de Menselijke Ziel - Dirk van Beek
URL:https://dehartcirkel.nl/event-menu/evenement/22-lezing-de-geheimen-van-
 de-menselijke-ziel-dirk-van-beek
END:VEVENT
END:VCALENDAR
