BEGIN:VCALENDAR
VERSION:2.0
PRODID:-//https://dehartcirkel.nl///NONSGML kigkonsult.se iCalcreator 2.10.15//
METHOD:PUBLISH
BEGIN:VEVENT
UID:20260420T062308EDT-3183U74onj@https://dehartcirkel.nl/
DTSTAMP:20260420T102308Z
DESCRIPTION:Ook in augustus 2020 zullen we weer verblijd worden met de koms
 t van de Australische Satsang 'leraar' Isaac Shapiro. \n\nAl vele jaren ko
 men mensen overal ter wereld bijeen om uitdrukking te geven aan hun diepst
 e verlangen: Vrede te vinden in zichzelf en een oprecht en Vreugdevol leve
 n te leiden waarbij je religies\, filosofieën en concepten achter je laat.
 ...\n\nSatsang is een directe weg zonder specifieke technieken en methoden
 . Het enige wat van belang is\, is dat je het verlangen en de bereidheid h
 ebt om te zien wie je werkelijk bent: Puur Bewustzijn!\n\nVoor wie nog nie
 t bekend is met Satsang: Kom een (laagdrempelige) Satsang avond bijwonen e
 n ervaar het Zelf! In augustus kun je maar liefst vier avonden bijwonen. (
 los te boeken)\n\nIsaac nodigt je uit om je te realiseren wie jij werkelij
 k ten diepste bent en wie je altijd al bent geweest namelijk: Puur Bewustz
 ijn. Tijdens deze dagen in het prachtige Schoorl kun jij samen met Isaac o
 nderzoeken hoe je dat kunt belichamen in je ‘alle-daagse’ leven. De locati
 e is gelegen midden in de natuur en ondersteunt dit proces omdat de bomen 
 je een geborgen gevoel kunnen geven.\n\nDe mogelijkheid om deel te nemen i
 n een veld van Bewust Zelf-onderzoek\, gecreëerd door alle deelnemers die 
 een gemeenschappelijke interesse hebben om in liefde te leven\, is immens 
 en enorm van nut voor onze ontwikkeling als mens.\n\nHet enige menselijke 
 ‘drama' en lijden wat er eigenlijk is: is het niet willen hebben van de er
 varing die we op dit moment beleven.\n\nDit drama kent vele vormen. Zoals 
 het niet hebben van de juiste baan\, baas of relatie of meer geld willen h
 ebben of meer verlicht willen zijn. Maar ook het hebben van chronische ang
 stgedachten\, zorgen maken over de toekomst én ongewenste emoties als gevo
 lg van onprettige (traumatische) levenservaringen in het verleden.\n\nAls 
 we bemerken hoe onze gedachten en ons zenuwstelsel deze automatische patro
 nen van lijden creëren en waardoor wij als het ware ‘worden geleefd’\, dan
  worden deze onbewuste patronen bewust. Het Bewust-Zijn waarin dit ‘bewust
  worden’ plaatsvindt is onze Ware Natuur én altijd aanwezig en in het opme
 rken daarvan wordt zonder enige moeite\, wat onbewust was – bewust.\n\nDez
 e gedachten en patronen zijn ontstaan op basis van vaak hele vroege ervari
 ngen in ons leven. Zolang deze nog in het zenuwstelsel zijn opgeslagen\, s
 turen deze onze gedachten\, gevoelens\, emoties\, acties en reacties in on
 s dagelijks leven aan. Vaak geheel automatisch en onbewust.\n\n“The beauty
  of this invitation is that nothing needs to be changed\, fixed\, or elimi
 nated. It is a non-dualistic\, nonjudgmental enquiry into our present bein
 g. Everything happens through the agency of awareness.”\n~ Isaac Shapiro\n
 \nDe subtiele uitnodiging van Isaac is gebaseerd op een diepgaand begrip v
 an de noodzaak om vroege ontwikkelingsproblematiek en trauma ‘aan het lich
 t te brengen’ middels Somatic Experiencing*. (Boekentip: De Tijger Ontwaak
 t\, Dr. Peter Levine)\n\nDeze automatische reacties en patronen worden ‘ui
 tgenodigd’ om aan de oppervlakte te komen om volledig geëerd te worden.\n
 \nMet het alsnog eren van wat er was en wat er is kan alles wat tot rust k
 omen. Te weten dat we Puur Bewustzijn en Liefde zijn is prachtig. Echter\,
  hiermee zijn nog niet onze patronen opgelost die ons doen lijden en zicht
 baar zijn in ons dagelijks leven.\n\nDe diepe heling welke plaats kan vind
 en door bovenstaande benadering\, dat is de unieke ervaring van het ‘in wa
 arheid’/in Satsang zijn met Isaac Shapiro.\n\nAll are welcome! \n\n\n\n\n*
  Somatic Experiencing is er op gericht om op zorgvuldige wijze\, zonder he
 rbeleving van het trauma\, het lichaam te helpen de bevroren spanning\, be
 etje bij beetje los te laten. De beweging\, sensatie of emotie die er ‘toe
 n’ niet kon zijn\, kan alsnog worden ervaren. Door deze ontlading kan eind
 elijk\, vaak na vele jaren\, de natuurlijke rust in lichaam én geest terug
 keren.\n\nWhen & where:\n\n7 & 8 Augustus 2020 Intensive (11:00 - 18:00)\n
 \nKlik hier voor avondaanmelding 4\, 5 & 6 Augustus 2020:  Satsang in the 
 Evening (19:30 - 21:30)\n\nLocation: Struin\, Strandpalviljoen Camperduin\
 , Heereweg 407\, 1871 GL\, Camperduin N.H.\n\nInvestment:\n\nSatsang Inten
 sive: 199 euro inclusief 2x een uitgebreide gezonde lunch & koffie/thee ar
 rangement op beide dagen. (179 euro voor de Early Birds - aanmelden en bet
 aling voor uiterlijk 15 mei.)\n\nOptioneel: Gezonde vegetarische diner voo
 r 19\,00 euro per maaltijd. Je kunt ook van de kaart eten en het zo duur m
 aken als je zelf wilt. (het diner betaal je ter plekke contant - wel reser
 veren).\n\nPayment: The investment can be transfered to NL44 INGB 0796 873
 1 43 H.J. Borst. Please mention “Isaac Shapiro intensive”.\n\nSleeping Acc
 ommodation:\n\nThere are different options for affordable sleeping accommo
 dations. You can make it as cheap or expensive as you want. Several campin
 g options nearby.\n\n \n\n https://dehartcirkel.nl/event-menu/evenement/21
 -isaac-shapiro-satsang-intensive-august-2020-verplaatst-naar-2021-exacte-d
 atum-wordt-bekend-gemaakt
DTSTART:20210730T090000Z
DTEND:20210730T160000Z
LOCATION:Struin\,Strandpalviljoen Camperduin (Struin\, Strandpalviljoen Cam
 perduin\, Heereweg 407\, 1871 GL\, Camperduin N.H.)
SUMMARY:Isaac Shapiro - Satsang Intensive August 2020 Verplaatst naar 2021 
 - Exacte datum wordt bekend gemaakt
URL:https://dehartcirkel.nl/event-menu/evenement/21-isaac-shapiro-satsang-i
 ntensive-august-2020-verplaatst-naar-2021-exacte-datum-wordt-bekend-gemaak
 t
END:VEVENT
END:VCALENDAR
