BEGIN:VCALENDAR
VERSION:2.0
PRODID:-//https://dehartcirkel.nl///NONSGML kigkonsult.se iCalcreator 2.10.15//
METHOD:PUBLISH
BEGIN:VEVENT
UID:20260420T062334EDT-1199f2ATrP@https://dehartcirkel.nl/
DTSTAMP:20260420T102334Z
DESCRIPTION:Ook in augustus 2020 zullen we weer verblijd worden met de koms
 t van de Australische Satsang 'leraar' Isaac Shapiro. \n\nAl vele jaren ko
 men mensen overal ter wereld bijeen om uitdrukking te geven aan hun diepst
 e verlangen: Vrede te vinden in zichzelf en een oprecht en Vreugdevol leve
 n te leiden waarbij je religies\, filosofieën en concepten achter je laat.
 ...\n\nSatsang is een directe weg zonder specifieke technieken en methoden
 . Het enige wat van belang is\, is dat je het verlangen en de bereidheid h
 ebt om te zien wie je werkelijk bent: Puur Bewustzijn!\n\nVoor wie nog nie
 t bekend is met Satsang: Kom een (laagdrempelige) Satsang avond bijwonen e
 n ervaar het Zelf! In augustus 2020 kun je maar liefst vier avonden bijwon
 en. (los te boeken)\n\nIsaac nodigt je uit om je te realiseren wie jij wer
 kelijk ten diepste bent en wie je altijd al bent geweest namelijk: Puur Be
 wustzijn. Tijdens deze dagen in het prachtige Schoorl kun jij samen met Is
 aac onderzoeken hoe je dat kunt belichamen in je ‘alle-daagse’ leven. De l
 ocatie is gelegen midden in de natuur en ondersteunt dit proces omdat de b
 omen je een geborgen gevoel kunnen geven.\n\nDe mogelijkheid om deel te ne
 men in een veld van Bewust Zelf-onderzoek\, gecreëerd door alle deelnemers
  die een gemeenschappelijke interesse hebben om in liefde te leven\, is im
 mens en enorm van nut voor onze ontwikkeling als mens.\n\nHet enige mensel
 ijke ‘drama' en lijden wat er eigenlijk is: is het niet willen hebben van 
 de ervaring die we op dit moment beleven.\n\nDit drama kent vele vormen. Z
 oals het niet hebben van de juiste baan\, baas of relatie of meer geld wil
 len hebben of meer verlicht willen zijn. Maar ook het hebben van chronisch
 e angstgedachten\, zorgen maken over de toekomst én ongewenste emoties als
  gevolg van onprettige (traumatische) levenservaringen in het verleden.\n
 \nAls we bemerken hoe onze gedachten en ons zenuwstelsel deze automatische
  patronen van lijden creëren en waardoor wij als het ware ‘worden geleefd’
 \, dan worden deze onbewuste patronen bewust. Het Bewust-Zijn waarin dit ‘
 bewust worden’ plaatsvindt is onze Ware Natuur én altijd aanwezig en in he
 t opmerken daarvan wordt zonder enige moeite\, wat onbewust was – bewust.
 \n\nDeze gedachten en patronen zijn ontstaan op basis van vaak hele vroege
  ervaringen in ons leven. Zolang deze nog in het zenuwstelsel zijn opgesla
 gen\, sturen deze onze gedachten\, gevoelens\, emoties\, acties en reactie
 s in ons dagelijks leven aan. Vaak geheel automatisch en onbewust.\n\n“The
  beauty of this invitation is that nothing needs to be changed\, fixed\, o
 r eliminated. It is a non-dualistic\, nonjudgmental enquiry into our prese
 nt being. Everything happens through the agency of awareness.”\n~ Isaac Sh
 apiro\n\nDe subtiele uitnodiging van Isaac is gebaseerd op een diepgaand b
 egrip van de noodzaak om vroege ontwikkelingsproblematiek en trauma ‘aan h
 et licht te brengen’ middels Somatic Experiencing*. (Boekentip: De Tijger 
 Ontwaakt\, Dr. Peter Levine)\n\nDeze automatische reacties en patronen wor
 den ‘uitgenodigd’ om aan de oppervlakte te komen om volledig geëerd te wor
 den.\n\nMet het alsnog eren van wat er was en wat er is kan alles wat tot 
 rust komen. Te weten dat we Puur Bewustzijn en Liefde zijn is prachtig. Ec
 hter\, hiermee zijn nog niet onze patronen opgelost die ons doen lijden en
  zichtbaar zijn in ons dagelijks leven.\n\nDe diepe heling welke plaats ka
 n vinden door bovenstaande benadering\, dat is de unieke ervaring van het 
 ‘in waarheid’/in Satsang zijn met Isaac Shapiro.\n\nAll are welcome! \n\n
 \n\n\n* Somatic Experiencing is er op gericht om op zorgvuldige wijze\, zo
 nder herbeleving van het trauma\, het lichaam te helpen de bevroren spanni
 ng\, beetje bij beetje los te laten. De beweging\, sensatie of emotie die 
 er ‘toen’ niet kon zijn\, kan alsnog worden ervaren. Door deze ontlading k
 an eindelijk\, vaak na vele jaren\, de natuurlijke rust in lichaam én gees
 t terugkeren.\n\n\nWhen & where:\n\n4\, 5 & 6 Augustus 2020:  Satsang in t
 he Evening (19:30 - 21:30)\n\nKlik hier voor aanmelding voor Satsang Inten
 sive: 7 & 8 Augustus 2020 Intensive (11:00 - 18:00).\n\nLocation: Struin\,
  Strandpalviljoen Camperduin\, Heereweg 407\, 1871 GL\, Camperduin N.H.\n
 \nInvestment: Evening Satsang 15 euro.\n\nPayment: The investment can be t
 ransfered to NL44 INGB 0796 8731 43 H.J. Borst. Please mention “Isaac Shap
 iro Evening” and the date(s) you are attending.\n\n https://dehartcirkel.n
 l/event-menu/evenement/20-isaac-shapiro-satsang-in-the-evening-augustus-20
 20-verplaatst-naar-2021-exacte-datum-wordt-bekend-gemaakt
DTSTART;VALUE=DATE:20210729
LOCATION:Struin\,Strandpalviljoen Camperduin (Struin\, Strandpalviljoen Cam
 perduin\, Heereweg 407\, 1871 GL\, Camperduin N.H.)
SUMMARY:Isaac Shapiro - Satsang in the Evening Augustus 2020 Verplaatst naa
 r 2021 - Exacte datum wordt bekend gemaakt
URL:https://dehartcirkel.nl/event-menu/evenement/20-isaac-shapiro-satsang-i
 n-the-evening-augustus-2020-verplaatst-naar-2021-exacte-datum-wordt-bekend
 -gemaakt
END:VEVENT
END:VCALENDAR
