BEGIN:VCALENDAR
VERSION:2.0
PRODID:-//https://dehartcirkel.nl///NONSGML kigkonsult.se iCalcreator 2.10.15//
METHOD:PUBLISH
BEGIN:VEVENT
UID:20260420T062629EDT-07383d5L6f@https://dehartcirkel.nl/
DTSTAMP:20260420T102629Z
DESCRIPTION:De wereld staat op een kruispunt. Bossen staan in brand\, ijska
 ppen smelten\, mensen gaan de straat op. Wat we al decennia hebben zien aa
 nkomen wordt werkelijkheid: we bevinden ons in een wereldwijde crisis van 
 ongekende omvang. Technologisch zijn we inmiddels tot alles in staat. Maar
  biedt ons dat de oplossing? Of is er een andere uitweg? \n\nLees Het Vijf
 de Element\, een onvoorstelbare ontdekkingsreis van de Amsterdamse schrijv
 er Ton van der Kroon naar de meest onbereikbare en soms duistere plaatsen 
 ter wereld: Gaza\, Noord Korea\, Iran\, Kashmir en De Himalaya's ... Een s
 pirituele zoektocht naar de essentie van menszijn. \n\nTijdens deze boeien
 de middag wordt je meegenomen op een innerlijke reis via muziek en meditat
 ie\, via verhalen en channeling\, om het Vijfde Element in je eigen leven 
 te ervaren en gestalte te geven. Deze bijeenkomst tilt je op naar een ande
 r niveau\, het raakt je hart. Grote kans dat je met een warm gevoel de deu
 r uit gaat. Je bent van harte welkom!\n\nTon van der Kroon schreef tien bo
 eken over spiritualiteit en persoonlijke bewustwording. Zijn boek voor man
 nen 'De Terugkeer van de Koning' werd een bestseller en werd in 7 talen ve
 rtaald. Hij reist de hele wereld over op zoek naar mythologische verhalen 
 en spirituele tradities om inzicht te krijgen in de grote verandering en t
 ransformatie in onze tijd. Zijn bevindingen en reisverslagen beschrijft hi
 j in de serie HEEL DE WERELD: De Zevende Poort\, Het Labyrint van de Tijd\
 , De Meesters van Shambhalla.\n\nAls climax verschijnt nu het laatste deel
 : Het Vijfde Element.\n\nMeer informatie vind je op WWW.TONVANDERKROON.COM
 \n\n \n\n \n\n \n\n \n\n \n\nDeze lezing zal op lichtzinnige wijze worden 
 ingeleid door lofdichter en B12 specialist Bo Baden (vitamineb12tekort.nl)
 .\n\nWanneer? Op zaterdagmiddag 22 februari 2020\nTijdstip: 14:30 uur tot 
 17 uur (inloop om 14:00 uur)\nLocatie: Dorpshuis De Schulp\, Visweg 45\, 1
 935 EB Egmond-Binnen\nHeerlijke lichte zaal en volop gratis parkeerplekken
 \, rechts en links van het gebouw!\nVergoeding: 15 euro   \n\nNB. Op deze 
 avond kun je het boek gesigneerd kopen. \n\nDit bedrag kan worden overgema
 akt op rekeningnr. NL44 INGB 0796 8731 43\, H.J. Borst\, onder vermelding 
 van: Ton van der Kroon.\n https://dehartcirkel.nl/event-menu/evenement/17-
 bijeenkomst-heel-de-wereld-het-vijfde-element-door-ton-van-der-kroon
DTSTART:20200222T133000Z
DTEND:20200222T160000Z
LOCATION:Dorpshuis De Schulp (Visweg 45\, 1935 EB Egmond-Binnen)
SUMMARY:Bijeenkomst: HEEL DE WERELD ~ Het vijfde element door Ton van der K
 roon
URL:https://dehartcirkel.nl/event-menu/evenement/17-bijeenkomst-heel-de-wer
 eld-het-vijfde-element-door-ton-van-der-kroon
END:VEVENT
END:VCALENDAR
