BEGIN:VCALENDAR
VERSION:2.0
PRODID:-//https://dehartcirkel.nl///NONSGML kigkonsult.se iCalcreator 2.10.15//
METHOD:PUBLISH
BEGIN:VEVENT
UID:20260422T063101EDT-0969gZn9bs@https://dehartcirkel.nl/
DTSTAMP:20260422T103101Z
DESCRIPTION:“We are not blinded by the light\, we are blinded by the known.
  Your freedom is in the unknown.”\n\nBernie Prior\, known as “B” is a cont
 emporary visionary and teacher. He offers a profoundly unique and enlighte
 ning perspective on life from the smallest matters that shape our personal
  lives to the biggest universal questions of human existence.\n\nWith comp
 assion\, humour and uncompromising Truth\, he brings the highest teachings
  straight into one’s core and into daily life. \n\nHis teaching about enli
 ghtened partnership\, real intimacy and the calling to a higher Love as me
 n and women of Truth\, undoes and transcends everything the world has taug
 ht us. \n\nHe is the author “Love Without Duality “ a book about awakening
  in profound Love and intimacy.\n\nB lives in New Zealand and travels the 
 globe extensively offering talks\, seminars and residential retreats.\n\nD
 o check his site with most interesting information and insights: BPrior.or
 g\n\nMeetings with B are a profound inner-outer discovery of Life and Love
  beyond Duality. They spring from and speak to one’s innermost calling to 
 enter into an entirely new intimacy with life.\n\nNo meeting is ever the s
 ame\; the sessions are unscripted and interactive\, always ‘New-Now’ and y
 ou may touch upon any area of Life: relationships\, sexuality\, children\,
  parenting\, work and creativity. Laying it all at the heart of deeper Kno
 wing Awareness B’s constant and heartful invitation to open to greater Lov
 e in all things will ignite your heart and Being from the inside out.\n\nM
 ore about B\n\nBorn in 1954 in England\, B’s childhood and teenage years w
 ere marked by profound mystical experiences.  At age 19 he awakened in the
  realisation of One-ness and at 33 he opened into the Absolute.  Within th
 is unfolding he was graced with the rare and profound realisation of the B
 hagavati\, the Divine Feminine Principle.\n\nA life of service in utter de
 dication to the awakening and evolution of humanity began and continues to
  unfold...\n\nWanneer?\nOp zondag 27 october 2019 Tijdstip: 14:30 uur tot 
 17 uur (zaal open om 14:00 uur)\nLocatie: T+O gebouw Kogendijk 42A\, 1862 
 XE Bergen N.H\nGratis parkeren voor deze locatie en in de wijk.\nVergoedin
 g: 15 Euro (Dit bedrag is inclusief koffie/thee/lekkers).\n\nDit bedrag ka
 n worden overgemaakt op rekeningnr. NL37 RABO 0327 7053 53\, H.J. Borst\,
 \nonder vermelding van: B. Prior.\n https://dehartcirkel.nl/event-menu/eve
 nement/16-satsang-with-b-prior-new-zealand-27-oktober-te-bergen-n-h
DTSTART:20191027T133000Z
DTEND:20191027T160000Z
LOCATION:T & O gebouw  (Kogendijk 42A\, 1862 XE Bergen N.H)
SUMMARY:Satsang with B. Prior (New Zealand) - 27 oktober te Bergen N.H.
URL:https://dehartcirkel.nl/event-menu/evenement/16-satsang-with-b-prior-ne
 w-zealand-27-oktober-te-bergen-n-h
END:VEVENT
END:VCALENDAR
