BEGIN:VCALENDAR
VERSION:2.0
PRODID:-//https://dehartcirkel.nl///NONSGML kigkonsult.se iCalcreator 2.10.15//
METHOD:PUBLISH
BEGIN:VEVENT
UID:20260420T083310EDT-81799Nf4pl@https://dehartcirkel.nl/
DTSTAMP:20260420T123310Z
DESCRIPTION:Deze Hartcirkel Kerst bijeenkomst zal in het teken van Maria Ma
 gdalena staan. Met Kerst ligt de nadruk natuurlijk altijd op de geboorte v
 an Jezus. Echter\, op 28 december net na Kerst willen wij graag de belangr
 ijkste vrouw in Jezus zijn leven belichten\, te weten: Maria Magdalena.\n
 \nJaap Rameijer zal vol passie over haar spreken!\n\nWant volgens hem is M
 aria Magdalena de meest belangrijke vrouw van het westelijk halfrond. Maar
  wie was zij ECHT? Welke rol speelde zij in het leven van Jezus? Wat was h
 aar relatie tot hem? Wat is er gebeurd tijdens en na de kruisiging? Hebben
  Jezus en Maria Magdalena kinderen gekregen? Is zij – zoals beweerd wordt 
 - naar Frankrijk gevlucht en heeft zij daar het gnostische christendom gep
 redikt? Is zij later naar Glastonbury\, Wales en Schotland gegaan en waaro
 m? Waar is zij begraven? Wat was haar relatie met de Katharen en de Tempel
 iers in Zuid-Frankrijk? Wat is haar relatie tot de Heilige Graal?\n\nEn\, 
 is zij een reïncarnatie van de moedergodin en bezit zij dezelfde kracht al
 s de oude godinnen en de Zwarte Madonna’s?\n\nJaap zegt over Maria Magdale
 na: “Zij is een echte ‘pur sang’ vrouw\, een ‘Gerealiseerde oftewel Verlic
 hte vrouw’. Met haar wijsheid\, haar liefde\, haar compassie en haar lijde
 n. Een vrouw waarmee andere vrouwen zich kunnen identificeren\, heel ander
 s dan de sacrosancte Maagd Maria. Zij is de meest geportretteerde vrouw te
 r wereld\, een vrouw met vele gezichten. Verliefd\, bedroefd\, stralend\, 
 treurend\, sexy\, vol passie\, krachtig. Nu is zij de verpersoonlijking va
 n het heilige vrouwelijke. En zij is misschien de enige persoon die het ch
 ristendom nog van de ondergang kan redden.”\n\nHij heeft een boek over haa
 r geschreven met als titel: “Maria Magdalena in Frankrijk”\, een boek met 
 honderden\, prachtige foto’s. En ook een klein spiritueel boekje getiteld:
  “Jamie en Maria Magdalena`”.\n\n\n\nMeer informatie over hem kun je vinde
 n op deze website: www.jaap-adventures.com\n\nAls jongetje van 7 jaar werd
  ik door mijn ouders naar de Zondagsschool gestuurd. Om wat te leren over 
 het ontstaan en de cultuur van het christendom. Het was een ramp. Wat de d
 ominee vertelde over de kerk\, de bijbel en helemaal over Maria Magdalena\
 , een boetevaardige zondares\, klopte naar mijn gevoel voor geen meter. En
  de antwoorden op mijn vragen\, waar we vandaan kwamen\, waar we heen ging
 en als we dood gingen\, etc. werden botweg afgekapt. Je hebt het maar te g
 eloven\, zei de dominee. Nou mooi niet.\n\n \n\nToen al voelde ik een enor
 me liefde voor Maria Magdalena. Die liefde ontvlamde opnieuw toen ik het b
 oek 'Het Heilige Bloed en de Heilige Graal' las. Daar werd een heel andere
  ontstaansgeschiedenis van de bijbel geschetst en daar werd een heel ander
 e Maria Magdalena opgevoerd.\n\nToen klikte er wat.\n\nIn 1995 ging ik met
  mijn vrouw op vakantie naar Frankrijk en Spanje. Eerst naar Lourdes en da
 arna naar Rennes-le-Chateau (RLC). Daar bezocht ik het kerkje gewijd aan M
 aria Magdalena in 1995.\n\nEn toen gebeurde er wat.\n\nHet liet me niet me
 er los\, de kerk\, de plek\, de verhalen en mysteries\, het ging in mijn b
 loed zitten. Ik moest telkens opnieuw naar RLC\, soms wel vier keer per ja
 ar en kwam iedere keer weer helemaal opgeladen terug. Toen volgde een read
 ing bij Lauri Franssen in Nijmegen. Waar Maria Magdalena\, door haar als m
 edium\, tot mij sprak.Een sessie om nooit te vergeten. 'Mijn zoon\, mijn z
 oon\, wat ben ik blij je weer te zien'. En ze vertelde mij dat wij elkaar 
 2.000 jaar geleden in Rennes-le-Chateau ontmoet hadden en dat ik jarenlang
  haar gids en begeleider ben geweest.\n\n \n\nEn nu\, na tweeduizend jaar\
 , zijn de voorspellingen die toen gedaan zijn\, weer helemaal uitgekomen. 
 Hoe bijzonder. Mijn hernieuwde 'kennismaking' met haar heeft er uiteindeli
 jk voor gezorgd dat we het Domaine Les Labadous in RLC gekocht hebben. Dat
  moest zo zijn. Synchroniciteit in optima forma. Wij zijn er in 1999 inget
 rokken en hebben het jarenlang als Chambres d'Hotes gerund en hebben het i
 n 2016 verkocht. Jarenlang was het een spiritueel centrum waar groepen uit
  de hele wereld naar toe kwamen. Ik heb honderden groepen rondgeleid. Ik h
 eb de streek goed leren kennen en heb heel veel onderzoek verricht naar Ma
 ria Magdalena. Boeken gelezen\, alle heilige plaatsen in Frankrijk bezocht
 \, veel met mensen gesproken en prachtige inzichten opgedaan.\n\n \n\nEn m
 ijn liefde voor deze bijzondere vrouw is alleen maar gegroeid. Zij is heel
  belangrijk voor mij en voor de wereld. Een bijzondere vrouw die wel eens 
 de redding van de mensheid zou kunnen zijn!\n\nEnkele boeken van Jaap Rame
 ijer\n\n\n\nJaap's laatste boek van 'Annunaki tot Illuminati' is recent do
 or Aspekt gepubliceerd en is ontvangen met zeer goede recensies.\n \n\n~ A
 ls een hedendaagse Erich von Dániken\, die met zijn boeken miljoenen en mi
 ljoenen mensen deed ‘ontwaken’\, schreef Jaap Rameijer eenzelfde soort boe
 k..Het boek heeft inmiddels het levenslicht gezien en is onlangs van de pe
 rsen gerold. Wij geven het boek met liefde aandacht die het verdient. Want
  het is in onze ogen een juweeltje geworden. Een boek dat van de hak op de
  tak LIJKT te springen\, maar continue\, als een trolleybus\, de rode draa
 d van het hoofdthema blijft volgen..lees meer ~ Guido Jonkers / Wanttoknow
 .nl\n\n \n\n~ Jaap Rameijer heeft zich overtroffen met dit boek. Een prach
 tige bloemlezing over de mysterieuze geschiedenis van onze Aarde en de ont
 wikkeling van het menselijke Bewustzijn...lees meer ~ Onderzoeker\n\n \n\n
 Deze lezing zal op lichtzinnige wijze worden ingeleid door lofdichter en B
 12 specialist Bo Baden (vitamineb12tekort.nl) en zal begeleid worden door 
 de prachtige Engelen klanken van harpiste en pianiste Fraukje Ramona Weish
 aupt.\n\nWanneer?\nOp zaterdagmiddag 28 december 2019\nTijdstip: 14:30 uur
  tot 17 uur (zaal open om 14:00 uur)\nLocatie: Dorpshuis De Schulp\, Viswe
 g 45\, 1935 EB Egmond-Binnen\nHeerlijke lichte zaal en volop gratis parkee
 rplekken\, rechts en links van het gebouw!\nVergoeding: 15 euro   \n\nDit 
 bedrag kan worden overgemaakt op rekeningnr. NL44 INGB 0796 8731 43\, H.J.
  Borst\, onder vermelding van: Jaap Rameijer.\n https://dehartcirkel.nl/ev
 ent-menu/evenement/15-lezing-wie-is-maria-magdalena-en-wat-betekent-zij-vo
 or-ons-jaap-rameijer
DTSTART:20191228T133000Z
DTEND:20191228T160000Z
LOCATION:Dorpshuis De Schulp (Visweg 45\, 1935 EB Egmond-Binnen)
SUMMARY:LEZING: Wie is Maria Magdalena en wat betekent zij voor ons? Jaap R
 ameijer
URL:https://dehartcirkel.nl/event-menu/evenement/15-lezing-wie-is-maria-mag
 dalena-en-wat-betekent-zij-voor-ons-jaap-rameijer
END:VEVENT
END:VCALENDAR
