BEGIN:VCALENDAR
VERSION:2.0
PRODID:-//https://dehartcirkel.nl///NONSGML kigkonsult.se iCalcreator 2.10.15//
METHOD:PUBLISH
BEGIN:VEVENT
UID:20260420T082921EDT-7762zldulX@https://dehartcirkel.nl/
DTSTAMP:20260420T122921Z
DESCRIPTION:\nUit onderzoek blijkt dat steeds meer mensen het lastig hebben
  en het soms zelfs helemaal niet meer zien zitten. Er is zoveel gaande in 
 de wereld en ook in ons eigen land zijn er uitdagingen die bijna onoplosba
 ar lijken. \n\n\nVeel sjamanen en profeten noemen deze tijd waarin we leve
 n het grote chaotische tijdperk. Grote veranderingen worden altijd voorafg
 egaan door chaos. Maar lang niet iedereen vindt het gemakkelijk om zich hi
 ertoe te verhouden. Want hoe blijf je in de chaos dicht bij jezelf? Hoe ho
 ud je het collectief buiten de deur? Met andere woorden: vind je de energi
 e op aarde op dit moment heftig\, verwarrend of voel je juist dat we door 
 een enorme verandering gaan? Dan loopt jouw gevoel synchroon met de huidig
 e spirituele ontwikkelingen op aarde. \nTien jaar geleden begon de overled
 en schrijver Joost Zwagerman twee dagen na zijn zelfgekozen dood in paniek
  tegen José Ligthart te communiceren. Waar hij had gehoopt dat hij bevrijd
  zou zijn uit zijn lijden bleek dat de pijn en onrust er nog altijd waren.
  Ook zonder zijn lichaam. Wat bleek: De pijn en de onrust waren er gewoon 
 nog\; ook zonder zijn lichaam. Joost komt er aan de 'andere kant' achter d
 at zelfdoding niet de rust brengt waarnaar hij verlangt. Tijdens deze inte
 ractieve lezing neemt Jose je mee op reis en wordt tijdens deze lezing zel
 fdoding vanuit een andere hoek belicht.\nJosé helpt Joost om zijn pad naar
  het licht te ontdekken en uiteindelijk vindt hij rust. Nu wil hij zijn do
 od aangrijpen om anderen te helpen de weg te vinden zonder depressie en ze
 lfmoordneigingen.\nTijdens deze middag krijg je antwoorden op vragen als: 
 \nWaar vind je wèl rust en verlossing?\nWat is de rol van de Ziel? Wat zij
 n levenscontracten?\nWaar komen depressieve gevoelens en innerlijke leegte
  vandaan?\nWat te doen met schuldgevoelens en verdriet?\nEn\, je krijgt vo
 lop gelegenheid jouw eigen (persoonlijke) vragen te stellen!\nNa de pauze 
 zullen we onder begeleiding van Jose (indien wenselijk) overleden personen
  naar het licht te brengen. In de tweede helft van deze lezing is er ruimt
 e voor persoonlijke vragen. Jose zal hier vanuit haar mediamieke gaven ant
 woord op geven. Door spraak en energetische technieken toe te passen kunne
 n er blokkades worden opgelost.\nJosé Ligthart (1968)\nIn 2005 is de prakt
 ijk Centrum Licht Hart gestart. José begeleid al meer dan 20 jaar mensen d
 ie emotioneel vastgelopen zijn. Door haar helderziende gaven kan José heel
  snel en doeltreffend het moment vinden wanneer de emotionele blokkade is 
 ontstaan. Het getraumatiseerde innerlijke kind laat zich zien aan José waa
 rdoor het samen met de betrokkene\, bij wie het innerlijke kind hoort\, ka
 n worden geheeld. Daardoor heelt de persoon in kwestie ook. In een sessie 
 vindt ook vaak weer de bewuste verbinding met de Ziel plaats. Dit is een v
 an de mooiste\, krachtigste helende ervaring die er is. Jezelf terugvinden
  zoals je werkelijk bent. José heeft diverse opleidingen gevolgd waaronder
 : De helende reis van Brandon Bays\, Mediumschap en Sjamanistisch Energiew
 erk.\n\n\n\n\n\n\nEvenement Informatie\n\n\nWanneer: Zaterdag middag 22 No
 vember.  14 tot ongeveer 17 uur (inloop om 13.30)\nWaar? De Nieuwe Beuk - 
 Dorpsstraat 20\, 1861 KW Bergen N.H. (gratis parkeren naast de Petrus Paul
 us Kerk\, onze locatie zit hier achter)\n \nVergoeding: 20 euro\n\n\n  htt
 ps://dehartcirkel.nl/event-menu/evenement/140-lezing-hoe-ga-je-om-met-deze
 -chaotische-tijd-waarin-we-leven-wat-kun-je-doen-als-het-leven-even-hopelo
 os-lijkt-jose-ligthart
DTSTART:20251122T130000Z
DTEND:20251122T160000Z
LOCATION:de Nieuwe Beuk (Dorpsstraat 20\, 1861 KW Bergen\, Netherlands)
SUMMARY:Lezing: Hoe ga je om met deze 'chaotische' tijd waarin we leven?  W
 at kun je doen als het leven (even) hopeloos lijkt.  Jose Ligthart
URL:https://dehartcirkel.nl/event-menu/evenement/140-lezing-hoe-ga-je-om-me
 t-deze-chaotische-tijd-waarin-we-leven-wat-kun-je-doen-als-het-leven-even-
 hopeloos-lijkt-jose-ligthart
END:VEVENT
END:VCALENDAR
