BEGIN:VCALENDAR
VERSION:2.0
PRODID:-//https://dehartcirkel.nl///NONSGML kigkonsult.se iCalcreator 2.10.15//
METHOD:PUBLISH
BEGIN:VEVENT
UID:20260420T080634EDT-6980DC2vOd@https://dehartcirkel.nl/
DTSTAMP:20260420T120634Z
DESCRIPTION:\n\n De tweebenige Ankh\, ook wel de Ankh van genezing genoemd\
 , is een oud genezingssymbool. Dit symbool werd al gebruikt in Lemurië\, A
 tlantis en Egypte. De Ankh was in eerste instantie een antenne voor de Kon
 ingen en Hogepriesters op aarde.\nIn onze tijd wordt de Ankh als symbool s
 teeds meer herontdekt. Het gebruik van de energie ervan is tegenwoordig be
 schikbaar en bereikbaar voor iedereen. Je kunt de Ankh voor jezelf gebruik
 en alsmede voor therapeutische behandelingen.\nWanneer je de Ankh vasthoud
 t\, versterkt het je kracht en je energie. Je kunt met de energie van de A
 nkh blokkades weghalen en pijn bestrijden. Als je de benen van het symbool
 voorwerp naar je toe richt\, ontvang je energie. Richt je het hoofd naar j
 e toe en dus de benen van je af\, dan geef je energie. Een goed gebruik va
 n de Ankh helpt de persoon die hem gebruikt bij zijn of haar persoonlijke 
 ontwikkeling. Het is van belang om de intentie te hebben om de Ankh als an
 tenne te gebruiken voor een verbinding met de kosmos. Wanneer je een sterk
 e verbinding hebt met de kosmos\, kan de helende werking van dit symboolvo
 orwerp zeer krachtig voor je worden.\nTijdens deze middag workshop vertelt
  Miranda Brookman hoe zij in haar praktijk gebruik maakt van de Ankh en la
 at ze je het ervaren.\nOok vertelt ze je meer over de geschiedenis van de 
 Ankh en de mogelijkheden die de Ankh biedt.\nJe leert hoe je een klacht bi
 j jezelf of bij een ander met de Ankh kunt weghalen en hoe je een bescherm
 end schild om iemand heen kunt zetten. Tijdens deze middag kun je vragen s
 tellen die betrekking hebben op dit onderwerp.\n \nAchtergrond spreekster
 \nMiranda is expert in het weghalen van zware energieën\, blokkades\, trau
 ma en karma uit vorige levens. Dit doet zij uiteraard alleen als het in li
 jn is met jouw wil\, Goddelijke wijsheid en Ziel.\nZe is in staat verlicht
 ing te brengen van uiteenlopende klachten op lichamelijk\, mentaal\, emoti
 oneel\, geestelijk en spiritueel niveau. Ze haalt dingen weg maar brengt o
 ok weer licht en levensenergie terug.\nHet Kosmische leiderschap college\,
  waar zij in 2019 mee begon heeft bij haar de gaven die ze reeds bezat ste
 eds meer geactiveerd. Met name deze specifieke opleiding heeft haar geholp
 en grote stappen te zetten in haar ontwikkeling.\nTijdens een behandeling 
 stemt ze zich af op de Goddelijke bron en de Ziel van degene die ze behand
 elt\; want ieder mens is immers uniek.\n \nMeer informatie over haar werk 
 en achtergrond: www.praktijksanjeevni.nl\n\n\n\n\n\nEvenement Informatie\n
 \n\nWanneer:  15 November 2025  - 14 tot 17 uur (inloop 13.30 uur) - thee\
 , koffie en lekkers staan klaar!\n \nWaar? De Nieuwe Beuk - Dorpsstraat 20
 \, 1861 KW Bergen N.H. (gratis parkeren naast de Petrus Paulus Kerk\, onze
  locatie zit hier achter)\n \nVergoeding: 25 euro\n\n\n  https://dehartcir
 kel.nl/event-menu/evenement/139-workshop-de-ankh-leren-inzetten-voor-helin
 g-spreekster-miranda-brookman
DTSTART:20251115T130000Z
DTEND:20251115T160000Z
LOCATION:de Nieuwe Beuk (Dorpsstraat 20\, 1861 KW Bergen\, Netherlands)
SUMMARY:Workshop: De Ankh leren inzetten voor Heling ~Spreekster: Miranda B
 rookman
URL:https://dehartcirkel.nl/event-menu/evenement/139-workshop-de-ankh-leren
 -inzetten-voor-heling-spreekster-miranda-brookman
END:VEVENT
END:VCALENDAR
