BEGIN:VCALENDAR
VERSION:2.0
PRODID:-//https://dehartcirkel.nl///NONSGML kigkonsult.se iCalcreator 2.10.15//
METHOD:PUBLISH
BEGIN:VEVENT
UID:20260420T082844EDT-7640V7HBAc@https://dehartcirkel.nl/
DTSTAMP:20260420T122844Z
DESCRIPTION:\nSchoon drinkwater is helaas niet meer vanzelfsprekend. Ons dr
 inkwater is al jaren vervuild en zou van veel betere kwaliteit kunnen zijn
 \, al wordt er beweerd dat ons drinkwater heel goed is. Daar zijn veel exp
 erts het niet mee eens. Drinkwaterbedrijven hebben nog geen oplossing om s
 ommige ongezonde stoffen eruit te filteren. Daarom kreeg Blue Earth Innova
 tions de opdracht van Rijkswaterstaat om te testen of hun kwantum fysische
  methode hierbij kan helpen. Water blijkt namelijk veel meer te zijn dan a
 lleen fysieke stoffen.\n\nFrank Collaris van Blue Earth Innovations heeft 
 samen met zijn partner Lilly Huis in 't Veld een proces ontwikkeld waarbij
  het water niet alleen wordt doordrenkt met liefde en dankbaarheid\, maar 
 ook wordt “verzegeld” zodat het niet meer kan worden “overschreven”.\nDit 
 zogenaamde BlueEarth Elixer water vertoonde vervolgens zeer verbazingwekke
 nde effecten\, niet alleen voor degenen die het dronken\, maar ook op de o
 mgeving waar de waterfles zich bevond. Door de geometrie van het ei werd d
 e werking van het Elixer water aanzienlijk versterkt (levensenergie tot 1.
 500.000 Bovis!).\n \nTegenwoordig worden deze eieren gebruikt om vervuild 
 water te zuiveren tot drinkwater. En de wetenschap staat op zijn kop. Want
  zonder filters\, chemicaliën of mechanische apparaten verdwijnen de onzui
 verheden\, zoals laboratoriumanalyses onweerlegbaar bewijzen. Bovendien is
  gebleken dat deze eieren ook zeer effectief worden ingezet bij stralingsg
 evoeligheid.\nBlue Earth is erin geslaagd om water te zuiveren met alleen 
 kwantumfysica en frequentietechnologie om heerlijk drinkwater te producere
 n zonder PFAS of andere ongewenste stoffen in water. Je raadt het al - er 
 staat je een spannend verhaal/lezing te wachten met concrete toepassingen 
 voor het huishouden\, de tuin en de landbouw.\nAchtergrond sprekers\nBlue 
 Earth Innovations bestaat nu 9 jaar.\nFrank Collaris is uitvinder\; hij de
 ed als kind al zijn eerste uitvinding voor een treinbaan.Later volgde een 
 kleine windmolen\, een speciale vloerverwarming en een motor geheel lopend
  op kraanwater.Door de vele ervaringen op het gebied van water en bijzonde
 re waarnemingen hierbij werd hij getriggerd om verder te gaan met zijn ond
 erzoek naar 'water'.\nLilly huis in 't Veld heeft sinds 30 jaar een prakti
 jk voor energetische geneeskunde en zielezang waarbij haar intuítie en hel
 dervoelend zijn een belangrijke rol speelt. Hierbij heeft ze vele mensen b
 egeleid om de verbinding met hun ziel te versterken en weer in hun oorspro
 nkelijke kracht te zijn. Dat is altijd haar innerlijke drive geweest.\n \n
 Het verbinden met deze oorspronkelijke kracht staat nu ook centraal bij Bl
 ue Earth.\nDoor de combinatie van de technische kennis en uitvinding geest
  van Frank en de intuïtie van Lilly is Blue Earth Innovations 9 jaar geled
 en ontstaan. Sindsdien hebben ze vele onderzoeken gedaan en diverse produc
 ten ontwikkeld en getest wat een ongoing proces is.\nEvenement Infomatie\n
 Wanneer: zaterdagmiddag 25 Oktober van 14 tot 17 uur (13.30 uur inloop - k
 om svp op tijd)\nWaar: De Nieuwe Beuk\, Dorpsstraat nr. 20 te Bergen nh\nI
 nvestering: 17\,50 Euro.   https://dehartcirkel.nl/event-menu/evenement/13
 8-het-geheim-van-schoon-drinkwater-meer-frank-collaris-en-lilly-huis-in-ve
 ld
DTSTART:20251025T120000Z
DTEND:20251025T150000Z
LOCATION:de Nieuwe Beuk (Dorpsstraat 20\, 1861 KW Bergen\, Netherlands)
SUMMARY:Het geheim van schoon drinkwater & meer! - Frank Collaris en Lilly 
 Huis in ' Veld
URL:https://dehartcirkel.nl/event-menu/evenement/138-het-geheim-van-schoon-
 drinkwater-meer-frank-collaris-en-lilly-huis-in-veld
END:VEVENT
END:VCALENDAR
